{"text_format":"1","workbook":"xlsx","n_sheets":6,"sheets":["dotaznik_data","dotaznik_data2","vyhodnoceni","vyhodnoceni2","dotaznik_vzor","testovani_hypotez"],"not_rendered":{"charts":17,"images":3,"macros":1,"external_links":0,"defined_names":46,"comments":0,"pivot_tables":0},"unopened":[],"bounds":{"document_bytes":16777216,"sheet_cells":100000,"rows_first":2000,"rows_last":500,"rows_between":2000,"halvings":0,"cell_chars":16384,"cell_head_chars":4096},"cells_cut":0,"cells_raw":0,"read":"whole","date_system":"1900"}

{"sheet":"dotaznik_data","index":0,"n_rows":56,"n_cols":27,"rows_kept":56,"cut":false,"hidden":false,"merged":[[3,6,3,8]]}
[]
[]
[]
[null,null,null,null,null,null,"přepis 20 tištěných dotazníků"]
[null,"pohlaví","vlastnictví kola","věk","proč ne","typ kola","1. faktor výběru kola","2. faktor výběru kola","účel kola","jak často využiváte","účel kola","další účel kola","kolik investovali","kolik by investovali","jak často kupují kolo","jak často opravují sami","jak často opravují v servisu","čistý příjem","překážky v používání","výhody oproti autu","1. nej užitek z vlastniství","1. nej užitek z používání","užitek mater","užitek psych","užitek 2. kolo","užitek 3. kolo","užitek 4. kolo"]
["ID respondenta","otázka 1","otázka 2","otázka 3","otázka 4","otázka 5","otázka 6","otázka 7","otázka 8","otázka 9","otázka 10","otázka 11","otázka 12","otázka 13","otázka 14","otázka 15","otázka 16","otázka 17","otázka 18","otázka 19","otázka 20","otázka 21","otázka 22","otázka 23","otázka 24","otázka 25","otázka 26"]
[1000001,1,1,"31-40 let",null,"silniční","doporučení","cena","sport","1-2x týdně","sport","1-2x týdně","25001-35000","15001-25000","méně často","méně často","1x za dva roky","25001-30000 Kč","ne","ekologický přínos","dobrý pocit","ekologický přínos",30000,15000,10000,7000,2000]
[1000002,1,1,"20-30 let",null,"horské","vzhled","cena","sport","několikrát za měsíc","jiné (napište)","méně často","10001-15000","10001-15000","méně často","1x za tři roky","méně často","14600-20000 Kč","ano, pohodlnost","úspora peněz","dobrý pocit","snadné cestování",10000,10000,8000,7000,5000]
[1000003,1,1,"31-40 let",null,"silniční","značka","doporučení","sport","několikrát za měsíc","jiné (napište)","méně často","25001-35000","35001-45000","méně často","1x z rok","1x z rok","30001-35000 Kč","ne","ekologický přínos","sportovní vyžití","snadné cestování",18000,15000,9000,3000,1000]
[1000004,0,1,"41-50 let",null,"crossové","vlastní zkušenost","cena","cestování do zaměstnání","více jak 2x týdně","jiné (napište)","méně často","15001-25000","15001-25000","nákup do 6 let","několikrát do roka","1x za dva roky","35001-40000 Kč","ne","úspora času","úspora času","snadné cestování",15000,15000,7000,3000,1000]
[1000005,1,1,"20-30 let",null,"BMX","značka","vzhled","sport","několikrát za měsíc","jiné (napište)","méně často","15001-25000","15001-25000","nákup do 8 let","1x za dva roky","1x za tři roky","20001-25000 Kč","ano, pohodlnost","prestiž v dané skupině lidí","sportovní vyžití","dobrý pocit",20000,10000,8000,4000,2000]
[1000006,1,1,"51-60 let",null,"crossové","vlastní zkušenost","vzhled","cestování rekreační","několikrát za měsíc","jiné (napište)","méně často","10001-15000","35001-45000","nákup do 8 let","1x z rok","1x za 5 let","35001-40000 Kč","ano, pohodlnost","ekologický přínos","dobrý pocit","snadné cestování",14000,18000,20000,10000,5000]
[1000007,1,1,"31-40 let",null,"horské","cena","vzhled","cestování rekreační","několikrát za rok","sport","několikrát za rok","5000-10000","10001-15000","nákup do 4 let","1x z rok","1x za tři roky","20001-25000 Kč","ne","efektivnost (žádné zácpy)","dobrý pocit","sportovní vyžití",10000,9000,8000,7000,3000]
[1000008,1,1,"nad 61 let",null,"silniční","doporučení","cena","cestování rekreační","několikrát za rok","jiné (napište)","méně často","10001-15000","5000-10000","nákup do 6 let","méně často","1x za dva roky","14600-20000 Kč","ano, zdravotní stav","efektivnost (žádné zácpy)","dobrý pocit","snadné cestování",15000,10000,9000,5000,2000]
[1000009,1,0,"20-30 let","kolo není potřeba",null,null,null,null,null,null,null,null,null,null,null,null,"25001-30000 Kč","ne","efektivnost (žádné zácpy)",null,"snadné cestování"]
[1000010,1,1,"31-40 let",null,"silniční","cena","vzhled","sport","několikrát za měsíc","jiné (napište)","méně často","5000-10000","5000-10000","nákup do 6 let","1x z rok","1x za dva roky","20001-25000 Kč","ne","ekologický přínos","sportovní vyžití","snadné cestování",5000,5000,4000,3000,500]
[1000011,0,1,"20-30 let",null,"horské","doporučení","cena","sport","několikrát za měsíc","cestování rekreační","méně často","10001-15000","25001-35000","méně často","1x z rok","méně často","14600-20000 Kč","ano, pohodlnost","efektivnost (žádné zácpy)","dobrý pocit","snadné cestování",12000,7000,6000,4000,2000]
[1000012,1,1,"31-40 let",null,"crossové","cena","vlastní zkušenost","cestování do zaměstnání","více jak 2x týdně","sport","několikrát za rok","5000-10000","5000-10000","méně často","méně často","1x za dva roky","14600-20000 Kč","ne","efektivnost (žádné zácpy)","sportovní vyžití","snadné cestování",8000,8000,5000,3000,1000]
[1000013,1,1,"51-60 let",null,"silniční","doporučení","cena","cestování rekreační","několikrát za rok","jiné (napište)","méně často","10001-15000","5000-10000","méně často","1x z rok","méně často","20001-25000 Kč","ano, zdravotní stav","úspora času","dobrý pocit","sportovní vyžití",12000,20000,10000,4000,3000]
[1000014,0,1,"41-50 let",null,"trekové","vlastní zkušenost","cena","cestování rekreační","několikrát za měsíc","jiné (napište)","méně často","10001-15000","25001-35000","nákup do 8 let","méně často","1x za tři roky","20001-25000 Kč","ne","efektivnost (žádné zácpy)","dobrý pocit","sportovní vyžití",20000,15000,9000,7000,3000]
[1000015,1,0,"20-30 let","sdílím kolo",null,null,null,null,null,null,null,null,null,null,null,null,"20001-25000 Kč","ne","efektivnost (žádné zácpy)",null,"snadné cestování"]
[1000016,1,1,"31-40 let",null,"trekové","cena","vlastní zkušenost","cestování do zaměstnání","více jak 2x týdně","jiné (napište)","několikrát za rok","35001-45000","35001-45000","nákup do 2 let","1x z rok","1x za dva roky","35001-40000 Kč","ne","efektivnost (žádné zácpy)","prestiž v dané skupině lidí","snadné cestování",30000,15000,10000,5000,2000]
[1000017,1,1,"51-60 let",null,"silniční","vlastní zkušenost","cena","cestování rekreační","několikrát za rok","cestování rekreační","několikrát za rok","5000-10000","10001-15000","méně často","méně často","méně často","14600-20000 Kč","ne","úspora času","sportovní vyžití","snadné cestování",10000,10000,10000,5000,1000]
[1000018,0,1,"31-40 let",null,"trekové","cena","vzhled","cestování do zaměstnání","více jak 2x týdně","jiné (napište)","méně často","35001-45000","10001-15000","nákup do 4 let","1x z rok","1x za 5 let","35001-40000 Kč","ne","prestiž v dané skupině lidí","prestiž v dané skupině lidí","sportovní vyžití",40000,20000,30000,10000,8000]
[1000019,1,1,"20-30 let",null,"BMX","doporučení","vzhled","sport","několikrát za měsíc","cestování rekreační","několikrát za rok","5000-10000","10001-15000","nákup do 6 let","méně často","1x za dva roky","20001-25000 Kč","ano, pohodlnost","efektivnost (žádné zácpy)","sportovní vyžití","ekologický přínos",10000,20000,15000,5000,2000]
[1000020,1,1,"51-60 let",null,"silniční","cena","vlastní zkušenost","cestování rekreační","několikrát za měsíc","jiné (napište)","několikrát za rok","10001-15000","10001-15000","méně často","1x z rok","1x za 5 let","14600-20000 Kč","ne","efektivnost (žádné zácpy)","dobrý pocit","snadné cestování",12000,8000,10000,7000,2000]
[1000021,1,1,"20-30 let",null,"horské","cena","vzhled","sport","několikrát za rok","cestování do zaměstnání","několikrát za měsíc","10001-15000","25001-35000","nákup do 8 let","1x z rok","1x za dva roky","20001-25000 Kč","ne","úspora peněz","sportovní vyžití","dobrý pocit",15000,20000,13000,6000,3000]
[1000022,1,0,"31-40 let","sdílím kolo",null,null,null,null,null,null,null,null,null,null,null,null,"20001-25000 Kč","ne","úspora času","dobrý pocit","sportovní vyžití"]
[1000023,0,1,"51-60 let",null,"trekové","cena","vzhled","cestováíní rekreační","několikrát za měsíc","cestování do zaměstnání","několikrát za měsíc","5000-10000","5000-10000","méně často","méně často","1x za dva roky","20001-25000","ne","úspora času","dobrý pocit","ekologický přínos",8000,8000,5000,3000,0]
[1000024,1,1,"41-50 let",null,"silniční","doporučení","vlastní zkušenost","sport","více jak 2x týdně","sport","několikrát za rok","45001 a více","45001 a více","nákup do 6 let","několikrát do roka","1x z rok","35001-40000 Kč","ne","efektivnost (žádné zácpy)","sportovní vyžití","dobrý pocit",50000,30000,40000,20000,10000]
[1000025,0,0,"31-40 let","kolo není potřeba",null,null,null,null,null,null,null,null,null,null,null,null,"20001-25000","ano, pohodlnost"]
[1000026,1,1,"41-50 let",null,"trekové","vlastní zkušenost","cena","cestování do zaměstnání","více jak 2x týdně","cestování rekreační","několikrát za měsíc","25001-35000","25001-35000","nákup do 8 let","1x z rok","1x z rok","45001 a více","ne","ekologický přínos","sportovní vyžití","sportovní vyžití",10000,100000,0,0,0]
[1000027,0,1,"31-40 let",null,"horské","vzhled","doporučení","sport","několikrát za měsíc","sport","několikrát za rok","25001-35000","15001-25000","méně často","méně často","1x za dva roky","35001-40000 Kč","ne","efektivnost (žádné zácpy)","prestiž v dané skupině lidí","dobrý pocit",20000,25000,10000,5000,500]
[1000028,1,1,"20-30 let",null,"BMX","vlastní zkušenost","doporučení","sport","více jak 2x týdně","jiné (napište)","několikrát za měsíc","25001-35000","25001-35000","nákup do 8 let","několikrát do roka","méně často","14600-20000 Kč","ne","úspora času","sportovní vyžití","ekologický přínos",30000,20000,20000,10000,2000]
[1000029,1,1,"41-50 let",null,"horské","vzhled","cena","cestování rekreační","1-2x týdně","cestování do zaměstnání","1-2x týdně","5000-10000","5000-10000","nákup do 6 let","méně často","1x z rok","35001-40000 Kč","ne","úspora peněz","sportovní vyžití","dobrý pocit",8000,15000,8000,4000,2000]
[1000030,0,1,"31-40 let",null,"crossové","vzhled","doporučení","cestování do zaměstnání","několikrát za měsíc","cestování rekreační","několikrát za měsíc","5000-10000","25001-35000","méně často","méně často","1x za dva roky","20001-25000 Kč","ne","efektivnost (žádné zácpy)","dobrý pocit","ekologický přínos",10000,30000,20000,10000,5000]
[1000031,1,0,"31-40 let","kolo není potřeba",null,null,null,null,null,null,null,null,null,null,null,null,"20001-25000 Kč","ne","úspora peněz"]
[1000032,1,1,"41-50 let",null,"horské","cena","vzhled","cestování rekreační","1-2x týdně","sport","několikrát za měsíc","25001-35000","5000-10000","méně často","méně často","méně často","20001-25000 Kč","ne","úspora peněz","sportovní vyžití","dobrý pocit",30000,20000,18000,8000,3000]
[1000033,0,1,"31-40 let",null,"horské","cena","vzhled","sport","několikrát za měsíc","cestování rekreační","několikrát za měsíc","45001 a více","45001 a více","méně často","několikrát do roka","1x z rok","35001-40000 Kč","ne","úspora peněz","prestiž v dané skupině lidí","sportovní vyžití",75000,75000,60000,40000,15000]
[1000034,1,1,"41-50 let",null,"trekové","vlastní zkušenost","značka","sport","více jak 2x týdně","cestování do zaměstnání","více jak 2x týdně","15001-25000","35001-45000","méně často","několikrát do roka","několikrát do roka","25001-30000 Kč","ne","úspora času","sportovní vyžití","sportovní vyžití",20000,40000,25000,20000,10000]
[1000035,0,1,"31-40 let",null,"horské","značka","vzhled","cestování rekreační","více jak 2x týdně","doprava po městě","více jak 2x týdně","15001-25000","15001-25000","méně často","několikrát do roka","1x z rok","20001-25000 Kč","ne","úspora času","dobrý pocit","úspora času",17000,17000,15000,5000,1000]
[1000036,1,1,"31-40 let",null,"horské","vzhled","cena","sport","více jak 2x týdně","cestování rekreační","několikrát za rok","5000-10000","15001-25000","nákup do 6 let","méně často","1x za tři roky","45001 a více","ne","úspora peněz","sportovní vyžití","úspora peněz",40000,60000,20000,0,0]
[1000037,0,1,"31-40 let",null,"crossové","cena","doporučení","sport","1-2x týdně","cestování","několikrát za rok","15001-25000","15001-25000","méně často","méně často","1x z rok","40001-45000 Kč","ano, pohodlnost","ekologický přínos","sportovní vyžití","snadné cestování",0,50000,0,0,0]
[1000038,1,1,"20-30 let",null,"horské","cena","vzhled","cestování rekreační","několikrát za měsíc","cestování do zaměstnání","několikrát za měsíc","5000-10000","10001-15000","nákup do 10 let","1x z rok","méně často","14600-20000 Kč","ano, silniční infrastruktura","úspora peněz","dobrý pocit","snadné cestování",10000,10000,8000,6000,2000]
[1000039,0,1,"31-40 let",null,"trekové","doporučení","cena","cestování rekreační","několikrát za rok","sport","několikrát za rok","10001-15000","5000-10000","méně často","méně často","méně často","20001-25000 Kč","ano, silniční infrastruktura","ekologický přínos","sportovní vyžití","dobrý pocit",9000,8000,7000,4000,500]
[1000040,1,1,"51-60 let",null,"silniční","vlastní zkušenost","značka","sport","více jak 2x týdně","cestování do zaměstnání","několikrát za měsíc","45001 a více","45001 a více","nákup do 8 let","několikrát do roka","1x z rok","40001-45000 Kč","ano, silniční infrastruktura","efektivnost (žádné zácpy)","dobrý pocit","sportovní vyžití",50000,65000,45000,25000,10000]
[1000041,1,1,"31-40 let",null,"horské","značka","cena","cestování rekreační","několikrát za rok","cestování do zaměstnání","méně často","10001-15000","10001-15000","méně často","1x z rok","1x za 4 roky","30001-35000 Kč","ne","úspora peněz","dobrý pocit","snadné cestování",10000,10000,8000,2000,1000]
[1000042,0,1,"41-50 let",null,"horské","cena","vzhled","cestování do zaměstnání","více jak 2x týdně","cestování rekreační","několikrát za rok","25001-35000","15001-25000","nákup do 8 let","1x z rok","1x za dva roky","30001-35000 Kč","ne","ekologický přínos","prestiž v dané skupině lidí","sportovní vyžití",15000,10000,12000,7000,2000]
[1000043,0,1,"31-40 let",null,"horské","značka","doporučení","sport","1-2x týdně","cestování rekreační","několikrát za měsíc","35001-45000","35001-45000","méně často","několikrát do roka","1x za dva roky","30001-35000 Kč","ne","ekologický přínos","sportovní vyžití","dobrý pocit",30000,30000,25000,10000,5000]
[1000044,0,1,"20-30 let",null,"horské","vzhled","cena","cestování rekreační","několikrát za rok","cestování do zaměstnání","méně často","5000-10000","10001-15000","nákup do 6 let","1x za dva roky","méně často","30001-35000 Kč","ne","úspora peněz","dobrý pocit","snadné cestování",8000,15000,10000,7000,0]
[1000045,1,1,"20-30 let",null,"BMX","doporučení","cena","sport","více jak 2x týdně","cestování rekreační","několikrát za rok","10001-15000","10001-15000","nákup do 4 let","několikrát do roka","méně často","20001-25000 Kč","ano, silniční infrastruktura","prestiž v dané skupině lidí","sportovní vyžití","dobrý pocit",10000,5000,8000,4000,100]
[1000046,1,1,"nad 61 let",null,"trekové","cena","vlastní zkušenost","cestování rekreační","několikrát za rok","cestování do zaměstnání","méně často","10001-15000","méně než 5000","nákup do 8 let","1x z rok","méně často","14600-20000 Kč","ano, silniční infrastruktura","ekologický přínos","dobrý pocit","sportovní vyžití",10000,5000,5000,1000,0]
[1000047,1,1,"51-60 let",null,"silniční","značka","vlastní zkušenost","cestování rekreační","více jak 2x týdně","cestování do zaměstnání","1-2x týdně","25001-35000","15001-25000","méně často","několikrát do roka","1x z rok","40001-45000 Kč","ne","efektivnost (žádné zácpy)","sportovní vyžití","ekologický přínos",20000,10000,8000,1000,500]
[1000048,1,1,"51-60 let",null,"silniční","značka","vlastní zkušenost","cestování rekreační","více jak 2x týdně","cestování do zaměstnání","1-2x týdně","25001-35000","15001-25000","nákup do 8 let","několikrát do roka","1x z rok","40001-45000 Kč","ne","efektivnost (žádné zácpy)","sportovní vyžití","dobrý pocit",20000,12000,10000,7000,2000]
[1000049,0,1,"41-50 let",null,"trekové","doporučení","cena","cestování rekreační","několikrát za měsíc","cestování do zaměstnání","několikrát za rok","15001-25000","25001-35000","méně často","1x za dva roky","1x za dva roky","30001-35000 Kč","ano, pohodlnost","úspora peněz","dobrý pocit","sportovní vyžití",15000,30000,20000,5000,0]
[1000050,1,1,"31-40 let",null,"silniční","značka","doporučení","cestování do zaměstnání","více jak 2x týdně","sport","1-2x týdně","45001 a více","45001 a více","nákup do 4 let","několikrát do roka","1x z rok","25001-30000 Kč","ne","efektivnost (žádné zácpy)","dobrý pocit","sportovní vyžití",40000,40000,35000,20000,5000]

{"sheet":"dotaznik_data2","index":1,"n_rows":51,"n_cols":27,"rows_kept":51,"cut":false,"hidden":false,"merged":[]}
["ID respondenta","otázka 1","otázka 2","otázka 3","otázka 4","otázka 5","otázka 6","otázka 7","otázka 8","otázka 9","otázka 10","otázka 11","otázka 12","otázka 13","otázka 14","otázka 15","otázka 16","otázka 17","otázka 18","otázka 19","otázka 20","otázka 21","otázka 22","otázka 23","otázka 24","otázka 25","otázka 26"]
[1000001,1,1,"31-40 let",null,"silniční","doporučení","cena","sport","1-2x týdně","sport","1-2x týdně","25001-35000","15001-25000","méně často","méně často","1x za dva roky","25001-30000 Kč","ne","ekologický přínos","dobrý pocit","ekologický přínos",30000,15000,10000,7000,2000]
[1000002,1,1,"20-30 let",null,"horské","vzhled","cena","sport","několikrát za měsíc","jiné (napište)","méně často","10001-15000","10001-15000","méně často","1x za tři roky","méně často","14600-20000 Kč","ano, pohodlnost","úspora peněz","dobrý pocit","snadné cestování",10000,10000,8000,7000,5000]
[1000003,1,1,"31-40 let",null,"silniční","značka","doporučení","sport","několikrát za měsíc","jiné (napište)","méně často","25001-35000","35001-45000","méně často","1x z rok","1x z rok","30001-35000 Kč","ne","ekologický přínos","sportovní vyžití","snadné cestování",18000,15000,9000,3000,1000]
[1000004,0,1,"41-50 let",null,"crossové","vlastní zkušenost","cena","cestování do zaměstnání","více jak 2x týdně","jiné (napište)","méně často","15001-25000","15001-25000","nákup do 6 let","několikrát do roka","1x za dva roky","35001-40000 Kč","ne","úspora času","úspora času","snadné cestování",15000,15000,7000,3000,1000]
[1000005,1,1,"20-30 let",null,"BMX","značka","vzhled","sport","několikrát za měsíc","jiné (napište)","méně často","15001-25000","15001-25000","nákup do 8 let","1x za dva roky","1x za tři roky","20001-25000 Kč","ano, pohodlnost","prestiž v dané skupině lidí","sportovní vyžití","dobrý pocit",20000,10000,8000,4000,2000]
[1000006,1,1,"51-60 let",null,"crossové","vlastní zkušenost","vzhled","cestování rekreační","několikrát za měsíc","jiné (napište)","méně často","10001-15000","35001-45000","nákup do 8 let","1x z rok","1x za 5 let","35001-40000 Kč","ano, pohodlnost","ekologický přínos","dobrý pocit","snadné cestování",14000,18000,20000,10000,5000]
[1000007,1,1,"31-40 let",null,"horské","cena","vzhled","cestování rekreační","několikrát za rok","sport","několikrát za rok","5000-10000","10001-15000","nákup do 4 let","1x z rok","1x za tři roky","20001-25000 Kč","ne","efektivnost (žádné zácpy)","dobrý pocit","sportovní vyžití",10000,9000,8000,7000,3000]
[1000008,1,1,"nad 61 let",null,"silniční","doporučení","cena","cestování rekreační","několikrát za rok","jiné (napište)","méně často","10001-15000","5000-10000","nákup do 6 let","méně často","1x za dva roky","14600-20000 Kč","ano, zdravotní stav","efektivnost (žádné zácpy)","dobrý pocit","snadné cestování",15000,10000,9000,5000,2000]
[1000009,1,0,"20-30 let","kolo není potřeba",null,null,null,null,null,null,null,null,null,null,null,null,"25001-30000 Kč","ne","efektivnost (žádné zácpy)",null,"snadné cestování"]
[1000010,1,1,"31-40 let",null,"silniční","cena","vzhled","sport","několikrát za měsíc","jiné (napište)","méně často","5000-10000","5000-10000","nákup do 6 let","1x z rok","1x za dva roky","20001-25000 Kč","ne","ekologický přínos","sportovní vyžití","snadné cestování",5000,5000,4000,3000,500]
[1000011,0,1,"20-30 let",null,"horské","doporučení","cena","sport","několikrát za měsíc","cestování rekreační","méně často","10001-15000","25001-35000","méně často","1x z rok","méně často","14600-20000 Kč","ano, pohodlnost","efektivnost (žádné zácpy)","dobrý pocit","snadné cestování",12000,7000,6000,4000,2000]
[1000012,1,1,"31-40 let",null,"crossové","cena","vlastní zkušenost","cestování do zaměstnání","více jak 2x týdně","sport","několikrát za rok","5000-10000","5000-10000","méně často","méně často","1x za dva roky","14600-20000 Kč","ne","efektivnost (žádné zácpy)","sportovní vyžití","snadné cestování",8000,8000,5000,3000,1000]
[1000013,1,1,"51-60 let",null,"silniční","doporučení","cena","cestování rekreační","několikrát za rok","jiné (napište)","méně často","10001-15000","5000-10000","méně často","1x z rok","méně často","20001-25000 Kč","ano, zdravotní stav","úspora času","dobrý pocit","sportovní vyžití",12000,20000,10000,4000,3000]
[1000014,0,1,"41-50 let",null,"trekové","vlastní zkušenost","cena","cestování rekreační","několikrát za měsíc","jiné (napište)","méně často","10001-15000","25001-35000","nákup do 8 let","méně často","1x za tři roky","20001-25000 Kč","ne","efektivnost (žádné zácpy)","dobrý pocit","sportovní vyžití",20000,15000,9000,7000,3000]
[1000015,1,0,"20-30 let","sdílím kolo",null,null,null,null,null,null,null,null,null,null,null,null,"20001-25000 Kč","ne","efektivnost (žádné zácpy)",null,"snadné cestování"]
[1000016,1,1,"31-40 let",null,"trekové","cena","vlastní zkušenost","cestování do zaměstnání","více jak 2x týdně","jiné (napište)","několikrát za rok","35001-45000","35001-45000","nákup do 2 let","1x z rok","1x za dva roky","35001-40000 Kč","ne","efektivnost (žádné zácpy)","prestiž v dané skupině lidí","snadné cestování",30000,15000,10000,5000,2000]
[1000017,1,1,"51-60 let",null,"silniční","vlastní zkušenost","cena","cestování rekreační","několikrát za rok","cestování rekreační","několikrát za rok","5000-10000","10001-15000","méně často","méně často","méně často","14600-20000 Kč","ne","úspora času","sportovní vyžití","snadné cestování",10000,10000,10000,5000,1000]
[1000018,0,1,"31-40 let",null,"trekové","cena","vzhled","cestování do zaměstnání","více jak 2x týdně","jiné (napište)","méně často","35001-45000","10001-15000","nákup do 4 let","1x z rok","1x za 5 let","35001-40000 Kč","ne","prestiž v dané skupině lidí","prestiž v dané skupině lidí","sportovní vyžití",40000,20000,30000,10000,8000]
[1000019,1,1,"20-30 let",null,"BMX","doporučení","vzhled","sport","několikrát za měsíc","cestování rekreační","několikrát za rok","5000-10000","10001-15000","nákup do 6 let","méně často","1x za dva roky","20001-25000 Kč","ano, pohodlnost","efektivnost (žádné zácpy)","sportovní vyžití","ekologický přínos",10000,20000,15000,5000,2000]
[1000020,1,1,"51-60 let",null,"silniční","cena","vlastní zkušenost","cestování rekreační","několikrát za měsíc","jiné (napište)","několikrát za rok","10001-15000","10001-15000","méně často","1x z rok","1x za 5 let","14600-20000 Kč","ne","efektivnost (žádné zácpy)","dobrý pocit","snadné cestování",12000,8000,10000,7000,2000]
[1000021,1,1,"20-30 let",null,"horské","cena","vzhled","sport","několikrát za rok","cestování do zaměstnání","několikrát za měsíc","10001-15000","25001-35000","nákup do 8 let","1x z rok","1x za dva roky","20001-25000 Kč","ne","úspora peněz","sportovní vyžití","dobrý pocit",15000,20000,13000,6000,3000]
[1000022,1,0,"31-40 let","sdílím kolo",null,null,null,null,null,null,null,null,null,null,null,null,"20001-25000 Kč","ne","úspora času","dobrý pocit","sportovní vyžití"]
[1000023,0,1,"51-60 let",null,"trekové","cena","vzhled","cestováíní rekreační","několikrát za měsíc","cestování do zaměstnání","několikrát za měsíc","5000-10000","5000-10000","méně často","méně často","1x za dva roky","20001-25000","ne","úspora času","dobrý pocit","ekologický přínos",8000,8000,5000,3000,0]
[1000024,1,1,"41-50 let",null,"silniční","doporučení","vlastní zkušenost","sport","více jak 2x týdně","sport","několikrát za rok","45001 a více","45001 a více","nákup do 6 let","několikrát do roka","1x z rok","35001-40000 Kč","ne","efektivnost (žádné zácpy)","sportovní vyžití","dobrý pocit",50000,30000,40000,20000,10000]
[1000025,0,0,"31-40 let","kolo není potřeba",null,null,null,null,null,null,null,null,null,null,null,null,"20001-25000","ano, pohodlnost"]
[1000026,1,1,"41-50 let",null,"trekové","vlastní zkušenost","cena","cestování do zaměstnání","více jak 2x týdně","cestování rekreační","několikrát za měsíc","25001-35000","25001-35000","nákup do 8 let","1x z rok","1x z rok","45001 a více","ne","ekologický přínos","sportovní vyžití","sportovní vyžití",10000,100000,0,0,0]
[1000027,0,1,"31-40 let",null,"horské","vzhled","doporučení","sport","několikrát za měsíc","sport","několikrát za rok","25001-35000","15001-25000","méně často","méně často","1x za dva roky","35001-40000 Kč","ne","efektivnost (žádné zácpy)","prestiž v dané skupině lidí","dobrý pocit",20000,25000,10000,5000,500]
[1000028,1,1,"20-30 let",null,"BMX","vlastní zkušenost","doporučení","sport","více jak 2x týdně","jiné (napište)","několikrát za měsíc","25001-35000","25001-35000","nákup do 8 let","několikrát do roka","méně často","14600-20000 Kč","ne","úspora času","sportovní vyžití","ekologický přínos",30000,20000,20000,10000,2000]
[1000029,1,1,"41-50 let",null,"horské","vzhled","cena","cestování rekreační","1-2x týdně","cestování do zaměstnání","1-2x týdně","5000-10000","5000-10000","nákup do 6 let","méně často","1x z rok","35001-40000 Kč","ne","úspora peněz","sportovní vyžití","dobrý pocit",8000,15000,8000,4000,2000]
[1000030,0,1,"31-40 let",null,"crossové","vzhled","doporučení","cestování do zaměstnání","několikrát za měsíc","cestování rekreační","několikrát za měsíc","5000-10000","25001-35000","méně často","méně často","1x za dva roky","20001-25000 Kč","ne","efektivnost (žádné zácpy)","dobrý pocit","ekologický přínos",10000,30000,20000,10000,5000]
[1000031,1,0,"31-40 let","kolo není potřeba",null,null,null,null,null,null,null,null,null,null,null,null,"20001-25000 Kč","ne","úspora peněz"]
[1000032,1,1,"41-50 let",null,"horské","cena","vzhled","cestování rekreační","1-2x týdně","sport","několikrát za měsíc","25001-35000","5000-10000","méně často","méně často","méně často","20001-25000 Kč","ne","úspora peněz","sportovní vyžití","dobrý pocit",30000,20000,18000,8000,3000]
[1000033,0,1,"31-40 let",null,"horské","cena","vzhled","sport","několikrát za měsíc","cestování rekreační","několikrát za měsíc","45001 a více","45001 a více","méně často","několikrát do roka","1x z rok","35001-40000 Kč","ne","úspora peněz","prestiž v dané skupině lidí","sportovní vyžití",75000,75000,60000,40000,15000]
[1000034,1,1,"41-50 let",null,"trekové","vlastní zkušenost","značka","sport","více jak 2x týdně","cestování do zaměstnání","více jak 2x týdně","15001-25000","35001-45000","méně často","několikrát do roka","několikrát do roka","25001-30000 Kč","ne","úspora času","sportovní vyžití","sportovní vyžití",20000,40000,25000,20000,10000]
[1000035,0,1,"31-40 let",null,"horské","značka","vzhled","cestování rekreační","více jak 2x týdně","doprava po městě","více jak 2x týdně","15001-25000","15001-25000","méně často","několikrát do roka","1x z rok","20001-25000 Kč","ne","úspora času","dobrý pocit","úspora času",17000,17000,15000,5000,1000]
[1000036,1,1,"31-40 let",null,"horské","vzhled","cena","sport","více jak 2x týdně","cestování rekreační","několikrát za rok","5000-10000","15001-25000","nákup do 6 let","méně často","1x za tři roky","45001 a více","ne","úspora peněz","sportovní vyžití","úspora peněz",40000,60000,20000,0,0]
[1000037,0,1,"31-40 let",null,"crossové","cena","doporučení","sport","1-2x týdně","cestování","několikrát za rok","15001-25000","15001-25000","méně často","méně často","1x z rok","40001-45000 Kč","ano, pohodlnost","ekologický přínos","sportovní vyžití","snadné cestování",0,50000,0,0,0]
[1000038,1,1,"20-30 let",null,"horské","cena","vzhled","cestování rekreační","několikrát za měsíc","cestování do zaměstnání","několikrát za měsíc","5000-10000","10001-15000","nákup do 10 let","1x z rok","méně často","14600-20000 Kč","ano, silniční infrastruktura","úspora peněz","dobrý pocit","snadné cestování",10000,10000,8000,6000,2000]
[1000039,0,1,"31-40 let",null,"trekové","doporučení","cena","cestování rekreační","několikrát za rok","sport","několikrát za rok","10001-15000","5000-10000","méně často","méně často","méně často","20001-25000 Kč","ano, silniční infrastruktura","ekologický přínos","sportovní vyžití","dobrý pocit",9000,8000,7000,4000,500]
[1000040,1,1,"51-60 let",null,"silniční","vlastní zkušenost","značka","sport","více jak 2x týdně","cestování do zaměstnání","několikrát za měsíc","45001 a více","45001 a více","nákup do 8 let","několikrát do roka","1x z rok","40001-45000 Kč","ano, silniční infrastruktura","efektivnost (žádné zácpy)","dobrý pocit","sportovní vyžití",50000,65000,45000,25000,10000]
[1000041,1,1,"31-40 let",null,"horské","značka","cena","cestování rekreační","několikrát za rok","cestování do zaměstnání","méně často","10001-15000","10001-15000","méně často","1x z rok","1x za 4 roky","30001-35000 Kč","ne","úspora peněz","dobrý pocit","snadné cestování",10000,10000,8000,2000,1000]
[1000042,0,1,"41-50 let",null,"horské","cena","vzhled","cestování do zaměstnání","více jak 2x týdně","cestování rekreační","několikrát za rok","25001-35000","15001-25000","nákup do 8 let","1x z rok","1x za dva roky","30001-35000 Kč","ne","ekologický přínos","prestiž v dané skupině lidí","sportovní vyžití",15000,10000,12000,7000,2000]
[1000043,0,1,"31-40 let",null,"horské","značka","doporučení","sport","1-2x týdně","cestování rekreační","několikrát za měsíc","35001-45000","35001-45000","méně často","několikrát do roka","1x za dva roky","30001-35000 Kč","ne","ekologický přínos","sportovní vyžití","dobrý pocit",30000,30000,25000,10000,5000]
[1000044,0,1,"20-30 let",null,"horské","vzhled","cena","cestování rekreační","několikrát za rok","cestování do zaměstnání","méně často","5000-10000","10001-15000","nákup do 6 let","1x za dva roky","méně často","30001-35000 Kč","ne","úspora peněz","dobrý pocit","snadné cestování",8000,15000,10000,7000,0]
[1000045,1,1,"20-30 let",null,"BMX","doporučení","cena","sport","více jak 2x týdně","cestování rekreační","několikrát za rok","10001-15000","10001-15000","nákup do 4 let","několikrát do roka","méně často","20001-25000 Kč","ano, silniční infrastruktura","prestiž v dané skupině lidí","sportovní vyžití","dobrý pocit",10000,5000,8000,4000,100]
[1000046,1,1,"nad 61 let",null,"trekové","cena","vlastní zkušenost","cestování rekreační","několikrát za rok","cestování do zaměstnání","méně často","10001-15000","méně než 5000","nákup do 8 let","1x z rok","méně často","14600-20000 Kč","ano, silniční infrastruktura","ekologický přínos","dobrý pocit","sportovní vyžití",10000,5000,5000,1000,0]
[1000047,1,1,"51-60 let",null,"silniční","značka","vlastní zkušenost","cestování rekreační","více jak 2x týdně","cestování do zaměstnání","1-2x týdně","25001-35000","15001-25000","méně často","několikrát do roka","1x z rok","40001-45000 Kč","ne","efektivnost (žádné zácpy)","sportovní vyžití","ekologický přínos",20000,10000,8000,1000,500]
[1000048,1,1,"51-60 let",null,"silniční","značka","vlastní zkušenost","cestování rekreační","více jak 2x týdně","cestování do zaměstnání","1-2x týdně","25001-35000","15001-25000","nákup do 8 let","několikrát do roka","1x z rok","40001-45000 Kč","ne","efektivnost (žádné zácpy)","sportovní vyžití","dobrý pocit",20000,12000,10000,7000,2000]
[1000049,0,1,"41-50 let",null,"trekové","doporučení","cena","cestování rekreační","několikrát za měsíc","cestování do zaměstnání","několikrát za rok","15001-25000","25001-35000","méně často","1x za dva roky","1x za dva roky","30001-35000 Kč","ano, pohodlnost","úspora peněz","dobrý pocit","sportovní vyžití",15000,30000,20000,5000,0]
[1000050,1,1,"31-40 let",null,"silniční","značka","doporučení","cestování do zaměstnání","více jak 2x týdně","sport","1-2x týdně","45001 a více","45001 a více","nákup do 4 let","několikrát do roka","1x z rok","25001-30000 Kč","ne","efektivnost (žádné zácpy)","dobrý pocit","sportovní vyžití",40000,40000,35000,20000,5000]

{"sheet":"vyhodnoceni","index":2,"n_rows":1488,"n_cols":30,"rows_kept":1488,"cut":false,"hidden":false,"merged":[[1194,9,1195,14],[1252,1,1252,5],[1308,1,1312,5],[1370,1,1375,5],[1433,1,1437,5],[1136,1,1136,5],[1142,1,1142,5],[1193,1,1193,5],[1194,1,1196,5],[1021,1,1021,5],[1023,1,1023,5],[1025,1,1025,5],[1077,1,1077,5],[964,1,964,5],[965,1,965,5],[966,1,966,5],[967,1,967,5],[1020,1,1020,5],[906,1,906,5],[907,1,907,5],[908,1,908,5],[912,1,912,5],[963,1,963,5],[789,1,789,5],[790,1,790,5],[846,1,846,5],[847,1,847,5],[905,1,905,5],[505,1,505,5],[732,1,732,5],[788,1,788,5],[559,1,559,5],[560,1,560,5],[561,1,561,5],[562,1,562,5],[615,1,615,5],[616,1,616,5],[617,1,617,5],[618,1,618,5],[673,1,673,5],[674,1,674,5],[675,1,675,5],[678,1,678,5],[731,1,731,5],[391,1,391,5],[506,1,506,5],[507,1,507,5],[558,1,558,5],[392,1,392,5],[393,1,393,5],[394,1,394,5],[395,1,395,5],[447,1,447,5],[448,1,448,5],[449,1,449,5],[450,1,450,5],[451,1,451,5],[502,1,502,5],[503,1,503,5],[504,1,504,5],[224,1,224,5],[278,1,278,5],[281,1,281,5],[283,1,283,5],[335,1,335,5],[168,1,168,5],[220,1,220,5],[221,1,221,5],[222,1,222,5],[223,1,223,5],[1251,16,1251,17],[1251,18,1251,22],[2,1,2,5],[3,1,3,5],[54,1,54,5],[55,1,55,5],[56,1,56,5],[225,1,225,5],[277,1,277,5],[108,1,108,5],[109,1,109,5],[110,1,110,5],[164,1,164,5],[165,1,165,5],[166,1,166,5],[167,1,167,5]]}
[]
[]
[1,"Jste muž či žena?",null,null,null,null,"muž","četnost",{"$f":"COUNTIF(I5:I54,1)","v":34},{"$f":"COUNTIF(J5:J54,1)","v":16}]
[null,null,null,null,null,null,"žena","odpověď","muž","žena"]
[null,null,null,null,null,null,"respondent číslo",1,{"$f":"IF(dotaznik_data!B7=1,1,0)","v":1},{"$f":"IF(dotaznik_data2!B2=0,1,0)","v":0}]
[null,null,null,null,null,null,null,2,{"$f":"IF(dotaznik_data!B8=1,1,0)","v":1},{"$f":"IF(dotaznik_data2!B3=0,1,0)","v":0}]
[null,null,null,null,null,null,null,3,{"$f":"IF(dotaznik_data!B9=1,1,0)","v":1},{"$f":"IF(dotaznik_data2!B4=0,1,0)","v":0}]
[null,null,null,null,null,null,null,4,{"$f":"IF(dotaznik_data!B10=1,1,0)","v":0},{"$f":"IF(dotaznik_data2!B5=0,1,0)","v":1}]
[null,null,null,null,null,null,null,5,{"$f":"IF(dotaznik_data!B11=1,1,0)","v":1},{"$f":"IF(dotaznik_data2!B6=0,1,0)","v":0}]
[null,null,null,null,null,null,null,6,{"$f":"IF(dotaznik_data!B12=1,1,0)","v":1},{"$f":"IF(dotaznik_data2!B7=0,1,0)","v":0}]
[null,null,null,null,null,null,null,7,{"$f":"IF(dotaznik_data!B13=1,1,0)","v":1},{"$f":"IF(dotaznik_data2!B8=0,1,0)","v":0}]
[null,null,null,null,null,null,null,8,{"$f":"IF(dotaznik_data!B14=1,1,0)","v":1},{"$f":"IF(dotaznik_data2!B9=0,1,0)","v":0}]
[null,null,null,null,null,null,null,9,{"$f":"IF(dotaznik_data!B15=1,1,0)","v":1},{"$f":"IF(dotaznik_data2!B10=0,1,0)","v":0}]
[null,null,null,null,null,null,null,10,{"$f":"IF(dotaznik_data!B16=1,1,0)","v":1},{"$f":"IF(dotaznik_data2!B11=0,1,0)","v":0}]
[null,null,null,null,null,null,null,11,{"$f":"IF(dotaznik_data!B17=1,1,0)","v":0},{"$f":"IF(dotaznik_data2!B12=0,1,0)","v":1}]
[null,null,null,null,null,null,null,12,{"$f":"IF(dotaznik_data!B18=1,1,0)","v":1},{"$f":"IF(dotaznik_data2!B13=0,1,0)","v":0}]
[null,null,null,null,null,null,null,13,{"$f":"IF(dotaznik_data!B19=1,1,0)","v":1},{"$f":"IF(dotaznik_data2!B14=0,1,0)","v":0}]
[null,null,null,null,null,null,null,14,{"$f":"IF(dotaznik_data!B20=1,1,0)","v":0},{"$f":"IF(dotaznik_data2!B15=0,1,0)","v":1}]
[null,null,null,null,null,null,null,15,{"$f":"IF(dotaznik_data!B21=1,1,0)","v":1},{"$f":"IF(dotaznik_data2!B16=0,1,0)","v":0}]
[null,null,null,null,null,null,null,16,{"$f":"IF(dotaznik_data!B22=1,1,0)","v":1},{"$f":"IF(dotaznik_data2!B17=0,1,0)","v":0}]
[null,null,null,null,null,null,null,17,{"$f":"IF(dotaznik_data!B23=1,1,0)","v":1},{"$f":"IF(dotaznik_data2!B18=0,1,0)","v":0}]
[null,null,null,null,null,null,null,18,{"$f":"IF(dotaznik_data!B24=1,1,0)","v":0},{"$f":"IF(dotaznik_data2!B19=0,1,0)","v":1}]
[null,null,null,null,null,null,null,19,{"$f":"IF(dotaznik_data!B25=1,1,0)","v":1},{"$f":"IF(dotaznik_data2!B20=0,1,0)","v":0}]
[null,null,null,null,null,null,null,20,{"$f":"IF(dotaznik_data!B26=1,1,0)","v":1},{"$f":"IF(dotaznik_data2!B21=0,1,0)","v":0}]
[null,null,null,null,null,null,null,21,{"$f":"IF(dotaznik_data!B27=1,1,0)","v":1},{"$f":"IF(dotaznik_data2!B22=0,1,0)","v":0}]
[null,null,null,null,null,null,null,22,{"$f":"IF(dotaznik_data!B28=1,1,0)","v":1},{"$f":"IF(dotaznik_data2!B23=0,1,0)","v":0}]
[null,null,null,null,null,null,null,23,{"$f":"IF(dotaznik_data!B29=1,1,0)","v":0},{"$f":"IF(dotaznik_data2!B24=0,1,0)","v":1}]
[null,null,null,null,null,null,null,24,{"$f":"IF(dotaznik_data!B30=1,1,0)","v":1},{"$f":"IF(dotaznik_data2!B25=0,1,0)","v":0}]
[null,null,null,null,null,null,null,25,{"$f":"IF(dotaznik_data!B31=1,1,0)","v":0},{"$f":"IF(dotaznik_data2!B26=0,1,0)","v":1}]
[null,null,null,null,null,null,null,26,{"$f":"IF(dotaznik_data!B32=1,1,0)","v":1},{"$f":"IF(dotaznik_data2!B27=0,1,0)","v":0}]
[null,null,null,null,null,null,null,27,{"$f":"IF(dotaznik_data!B33=1,1,0)","v":0},{"$f":"IF(dotaznik_data2!B28=0,1,0)","v":1}]
[null,null,null,null,null,null,null,28,{"$f":"IF(dotaznik_data!B34=1,1,0)","v":1},{"$f":"IF(dotaznik_data2!B29=0,1,0)","v":0}]
[null,null,null,null,null,null,null,29,{"$f":"IF(dotaznik_data!B35=1,1,0)","v":1},{"$f":"IF(dotaznik_data2!B30=0,1,0)","v":0}]
[null,null,null,null,null,null,null,30,{"$f":"IF(dotaznik_data!B36=1,1,0)","v":0},{"$f":"IF(dotaznik_data2!B31=0,1,0)","v":1}]
[null,null,null,null,null,null,null,31,{"$f":"IF(dotaznik_data!B37=1,1,0)","v":1},{"$f":"IF(dotaznik_data2!B32=0,1,0)","v":0}]
[null,null,null,null,null,null,null,32,{"$f":"IF(dotaznik_data!B38=1,1,0)","v":1},{"$f":"IF(dotaznik_data2!B33=0,1,0)","v":0}]
[null,null,null,null,null,null,null,33,{"$f":"IF(dotaznik_data!B39=1,1,0)","v":0},{"$f":"IF(dotaznik_data2!B34=0,1,0)","v":1}]
[null,null,null,null,null,null,null,34,{"$f":"IF(dotaznik_data!B40=1,1,0)","v":1},{"$f":"IF(dotaznik_data2!B35=0,1,0)","v":0}]
[null,null,null,null,null,null,null,35,{"$f":"IF(dotaznik_data!B41=1,1,0)","v":0},{"$f":"IF(dotaznik_data2!B36=0,1,0)","v":1}]
[null,null,null,null,null,null,null,36,{"$f":"IF(dotaznik_data!B42=1,1,0)","v":1},{"$f":"IF(dotaznik_data2!B37=0,1,0)","v":0}]
[null,null,null,null,null,null,null,37,{"$f":"IF(dotaznik_data!B43=1,1,0)","v":0},{"$f":"IF(dotaznik_data2!B38=0,1,0)","v":1}]
[null,null,null,null,null,null,null,38,{"$f":"IF(dotaznik_data!B44=1,1,0)","v":1},{"$f":"IF(dotaznik_data2!B39=0,1,0)","v":0}]
[null,null,null,null,null,null,null,39,{"$f":"IF(dotaznik_data!B45=1,1,0)","v":0},{"$f":"IF(dotaznik_data2!B40=0,1,0)","v":1}]
[null,null,null,null,null,null,null,40,{"$f":"IF(dotaznik_data!B46=1,1,0)","v":1},{"$f":"IF(dotaznik_data2!B41=0,1,0)","v":0}]
[null,null,null,null,null,null,null,41,{"$f":"IF(dotaznik_data!B47=1,1,0)","v":1},{"$f":"IF(dotaznik_data2!B42=0,1,0)","v":0}]
[null,null,null,null,null,null,null,42,{"$f":"IF(dotaznik_data!B48=1,1,0)","v":0},{"$f":"IF(dotaznik_data2!B43=0,1,0)","v":1}]
[null,null,null,null,null,null,null,43,{"$f":"IF(dotaznik_data!B49=1,1,0)","v":0},{"$f":"IF(dotaznik_data2!B44=0,1,0)","v":1}]
[null,null,null,null,null,null,null,44,{"$f":"IF(dotaznik_data!B50=1,1,0)","v":0},{"$f":"IF(dotaznik_data2!B45=0,1,0)","v":1}]
[null,null,null,null,null,null,null,45,{"$f":"IF(dotaznik_data!B51=1,1,0)","v":1},{"$f":"IF(dotaznik_data2!B46=0,1,0)","v":0}]
[null,null,null,null,null,null,null,46,{"$f":"IF(dotaznik_data!B52=1,1,0)","v":1},{"$f":"IF(dotaznik_data2!B47=0,1,0)","v":0}]
[null,null,null,null,null,null,null,47,{"$f":"IF(dotaznik_data!B53=1,1,0)","v":1},{"$f":"IF(dotaznik_data2!B48=0,1,0)","v":0}]
[null,null,null,null,null,null,null,48,{"$f":"IF(dotaznik_data!B54=1,1,0)","v":1},{"$f":"IF(dotaznik_data2!B49=0,1,0)","v":0}]
[null,null,null,null,null,null,null,49,{"$f":"IF(dotaznik_data!B55=1,1,0)","v":0},{"$f":"IF(dotaznik_data2!B50=0,1,0)","v":1}]
[null,null,null,null,null,null,null,50,{"$f":"IF(dotaznik_data!B56=1,1,0)","v":1},{"$f":"IF(dotaznik_data2!B51=0,1,0)","v":0}]
[]
[2,"Vlastníte kolo?",null,null,null,null,"ano","četnost",{"$f":"COUNTIF(I58:I107,1)","v":45},{"$f":"COUNTIF(J58:J107,1)","v":5}]
[null,null,null,null,null,null,"ne","odpověď","ano","ne"]
[null,null,null,null,null,null,"respondent číslo",1,{"$f":"IF(dotaznik_data2!C2,1,0)","v":1},{"$f":"IF(dotaznik_data2!C2=1,0,1)","v":0}]
[null,null,null,null,null,null,null,2,{"$f":"IF(dotaznik_data2!C3,1,0)","v":1},{"$f":"IF(dotaznik_data2!C3=1,0,1)","v":0}]
[null,null,null,null,null,null,null,3,{"$f":"IF(dotaznik_data2!C4,1,0)","v":1},{"$f":"IF(dotaznik_data2!C4=1,0,1)","v":0}]
[null,null,null,null,null,null,null,4,{"$f":"IF(dotaznik_data2!C5,1,0)","v":1},{"$f":"IF(dotaznik_data2!C5=1,0,1)","v":0}]
[null,null,null,null,null,null,null,5,{"$f":"IF(dotaznik_data2!C6,1,0)","v":1},{"$f":"IF(dotaznik_data2!C6=1,0,1)","v":0}]
[null,null,null,null,null,null,null,6,{"$f":"IF(dotaznik_data2!C7,1,0)","v":1},{"$f":"IF(dotaznik_data2!C7=1,0,1)","v":0}]
[null,null,null,null,null,null,null,7,{"$f":"IF(dotaznik_data2!C8,1,0)","v":1},{"$f":"IF(dotaznik_data2!C8=1,0,1)","v":0}]
[null,null,null,null,null,null,null,8,{"$f":"IF(dotaznik_data2!C9,1,0)","v":1},{"$f":"IF(dotaznik_data2!C9=1,0,1)","v":0}]
[null,null,null,null,null,null,null,9,{"$f":"IF(dotaznik_data2!C10,1,0)","v":0},{"$f":"IF(dotaznik_data2!C10=1,0,1)","v":1}]
[null,null,null,null,null,null,null,10,{"$f":"IF(dotaznik_data2!C11,1,0)","v":1},{"$f":"IF(dotaznik_data2!C11=1,0,1)","v":0}]
[null,null,null,null,null,null,null,11,{"$f":"IF(dotaznik_data2!C12,1,0)","v":1},{"$f":"IF(dotaznik_data2!C12=1,0,1)","v":0}]
[null,null,null,null,null,null,null,12,{"$f":"IF(dotaznik_data2!C13,1,0)","v":1},{"$f":"IF(dotaznik_data2!C13=1,0,1)","v":0}]
[null,null,null,null,null,null,null,13,{"$f":"IF(dotaznik_data2!C14,1,0)","v":1},{"$f":"IF(dotaznik_data2!C14=1,0,1)","v":0}]
[null,null,null,null,null,null,null,14,{"$f":"IF(dotaznik_data2!C15,1,0)","v":1},{"$f":"IF(dotaznik_data2!C15=1,0,1)","v":0}]
[null,null,null,null,null,null,null,15,{"$f":"IF(dotaznik_data2!C16,1,0)","v":0},{"$f":"IF(dotaznik_data2!C16=1,0,1)","v":1}]
[null,null,null,null,null,null,null,16,{"$f":"IF(dotaznik_data2!C17,1,0)","v":1},{"$f":"IF(dotaznik_data2!C17=1,0,1)","v":0}]
[null,null,null,null,null,null,null,17,{"$f":"IF(dotaznik_data2!C18,1,0)","v":1},{"$f":"IF(dotaznik_data2!C18=1,0,1)","v":0}]
[null,null,null,null,null,null,null,18,{"$f":"IF(dotaznik_data2!C19,1,0)","v":1},{"$f":"IF(dotaznik_data2!C19=1,0,1)","v":0}]
[null,null,null,null,null,null,null,19,{"$f":"IF(dotaznik_data2!C20,1,0)","v":1},{"$f":"IF(dotaznik_data2!C20=1,0,1)","v":0}]
[null,null,null,null,null,null,null,20,{"$f":"IF(dotaznik_data2!C21,1,0)","v":1},{"$f":"IF(dotaznik_data2!C21=1,0,1)","v":0}]
[null,null,null,null,null,null,null,21,{"$f":"IF(dotaznik_data2!C22,1,0)","v":1},{"$f":"IF(dotaznik_data2!C22=1,0,1)","v":0}]
[null,null,null,null,null,null,null,22,{"$f":"IF(dotaznik_data2!C23,1,0)","v":0},{"$f":"IF(dotaznik_data2!C23=1,0,1)","v":1}]
[null,null,null,null,null,null,null,23,{"$f":"IF(dotaznik_data2!C24,1,0)","v":1},{"$f":"IF(dotaznik_data2!C24=1,0,1)","v":0}]
[null,null,null,null,null,null,null,24,{"$f":"IF(dotaznik_data2!C25,1,0)","v":1},{"$f":"IF(dotaznik_data2!C25=1,0,1)","v":0}]
[null,null,null,null,null,null,null,25,{"$f":"IF(dotaznik_data2!C26,1,0)","v":0},{"$f":"IF(dotaznik_data2!C26=1,0,1)","v":1}]
[null,null,null,null,null,null,null,26,{"$f":"IF(dotaznik_data2!C27,1,0)","v":1},{"$f":"IF(dotaznik_data2!C27=1,0,1)","v":0}]
[null,null,null,null,null,null,null,27,{"$f":"IF(dotaznik_data2!C28,1,0)","v":1},{"$f":"IF(dotaznik_data2!C28=1,0,1)","v":0}]
[null,null,null,null,null,null,null,28,{"$f":"IF(dotaznik_data2!C29,1,0)","v":1},{"$f":"IF(dotaznik_data2!C29=1,0,1)","v":0}]
[null,null,null,null,null,null,null,29,{"$f":"IF(dotaznik_data2!C30,1,0)","v":1},{"$f":"IF(dotaznik_data2!C30=1,0,1)","v":0}]
[null,null,null,null,null,null,null,30,{"$f":"IF(dotaznik_data2!C31,1,0)","v":1},{"$f":"IF(dotaznik_data2!C31=1,0,1)","v":0}]
[null,null,null,null,null,null,null,31,{"$f":"IF(dotaznik_data2!C32,1,0)","v":0},{"$f":"IF(dotaznik_data2!C32=1,0,1)","v":1}]
[null,null,null,null,null,null,null,32,{"$f":"IF(dotaznik_data2!C33,1,0)","v":1},{"$f":"IF(dotaznik_data2!C33=1,0,1)","v":0}]
[null,null,null,null,null,null,null,33,{"$f":"IF(dotaznik_data2!C34,1,0)","v":1},{"$f":"IF(dotaznik_data2!C34=1,0,1)","v":0}]
[null,null,null,null,null,null,null,34,{"$f":"IF(dotaznik_data2!C35,1,0)","v":1},{"$f":"IF(dotaznik_data2!C35=1,0,1)","v":0}]
[null,null,null,null,null,null,null,35,{"$f":"IF(dotaznik_data2!C36,1,0)","v":1},{"$f":"IF(dotaznik_data2!C36=1,0,1)","v":0}]
[null,null,null,null,null,null,null,36,{"$f":"IF(dotaznik_data2!C37,1,0)","v":1},{"$f":"IF(dotaznik_data2!C37=1,0,1)","v":0}]
[null,null,null,null,null,null,null,37,{"$f":"IF(dotaznik_data2!C38,1,0)","v":1},{"$f":"IF(dotaznik_data2!C38=1,0,1)","v":0}]
[null,null,null,null,null,null,null,38,{"$f":"IF(dotaznik_data2!C39,1,0)","v":1},{"$f":"IF(dotaznik_data2!C39=1,0,1)","v":0}]
[null,null,null,null,null,null,null,39,{"$f":"IF(dotaznik_data2!C40,1,0)","v":1},{"$f":"IF(dotaznik_data2!C40=1,0,1)","v":0}]
[null,null,null,null,null,null,null,40,{"$f":"IF(dotaznik_data2!C41,1,0)","v":1},{"$f":"IF(dotaznik_data2!C41=1,0,1)","v":0}]
[null,null,null,null,null,null,null,41,{"$f":"IF(dotaznik_data2!C42,1,0)","v":1},{"$f":"IF(dotaznik_data2!C42=1,0,1)","v":0}]
[null,null,null,null,null,null,null,42,{"$f":"IF(dotaznik_data2!C43,1,0)","v":1},{"$f":"IF(dotaznik_data2!C43=1,0,1)","v":0}]
[null,null,null,null,null,null,null,43,{"$f":"IF(dotaznik_data2!C44,1,0)","v":1},{"$f":"IF(dotaznik_data2!C44=1,0,1)","v":0}]
[null,null,null,null,null,null,null,44,{"$f":"IF(dotaznik_data2!C45,1,0)","v":1},{"$f":"IF(dotaznik_data2!C45=1,0,1)","v":0}]
[null,null,null,null,null,null,null,45,{"$f":"IF(dotaznik_data2!C46,1,0)","v":1},{"$f":"IF(dotaznik_data2!C46=1,0,1)","v":0}]
[null,null,null,null,null,null,null,46,{"$f":"IF(dotaznik_data2!C47,1,0)","v":1},{"$f":"IF(dotaznik_data2!C47=1,0,1)","v":0}]
[null,null,null,null,null,null,null,47,{"$f":"IF(dotaznik_data2!C48,1,0)","v":1},{"$f":"IF(dotaznik_data2!C48=1,0,1)","v":0}]
[null,null,null,null,null,null,null,48,{"$f":"IF(dotaznik_data2!C49,1,0)","v":1},{"$f":"IF(dotaznik_data2!C49=1,0,1)","v":0}]
[null,null,null,null,null,null,null,49,{"$f":"IF(dotaznik_data2!C50,1,0)","v":1},{"$f":"IF(dotaznik_data2!C50=1,0,1)","v":0}]
[null,null,null,null,null,null,null,50,{"$f":"IF(dotaznik_data2!C51,1,0)","v":1},{"$f":"IF(dotaznik_data2!C51=1,0,1)","v":0}]
[]
[3,"Do jaké věkové kategorie patříte?",null,null,null,null,"20-30 let"]
[null,null,null,null,null,null,"31-40 let"]
[null,null,null,null,null,null,"41-50 let"]
[null,null,null,null,null,null,"51-60 let","četnost",{"$f":"COUNTIF(I114:I163,1)","v":11},{"$f":"COUNTIF(J114:J163,1)","v":20},9,8,2]
[null,null,null,null,null,null,"nad 61 let","odpověď","20-30 let","31-40 let","41-50 let","51-60 let","nad 61 let"]
[null,null,null,null,null,null,"respondent číslo",1,{"$f":"IF(dotaznik_data2!D2=\"20-30 let\",1,0)","v":0},{"$f":"IF(dotaznik_data2!D2=\"31-40 let\",1,0)","v":1},{"$f":"IF(dotaznik_data2!D2=\"41-50 let\",1,0)","v":0},{"$f":"IF(dotaznik_data2!D2=\"51-60 let\",1,0)","v":0},{"$f":"IF(dotaznik_data2!D2=\"nad 61 let\",1,0)","v":0}]
[null,null,null,null,null,null,null,2,{"$f":"IF(dotaznik_data2!D3=\"20-30 let\",1,0)","v":1},{"$f":"IF(dotaznik_data2!D3=\"31-40 let\",1,0)","v":0},{"$f":"IF(dotaznik_data2!D3=\"41-50 let\",1,0)","v":0},{"$f":"IF(dotaznik_data2!D3=\"51-60 let\",1,0)","v":0},{"$f":"IF(dotaznik_data2!D3=\"nad 61 let\",1,0)","v":0}]
[null,null,null,null,null,null,null,3,{"$f":"IF(dotaznik_data2!D4=\"20-30 let\",1,0)","v":0},{"$f":"IF(dotaznik_data2!D4=\"31-40 let\",1,0)","v":1},{"$f":"IF(dotaznik_data2!D4=\"41-50 let\",1,0)","v":0},{"$f":"IF(dotaznik_data2!D4=\"51-60 let\",1,0)","v":0},{"$f":"IF(dotaznik_data2!D4=\"nad 61 let\",1,0)","v":0}]
[null,null,null,null,null,null,null,4,{"$f":"IF(dotaznik_data2!D5=\"20-30 let\",1,0)","v":0},{"$f":"IF(dotaznik_data2!D5=\"31-40 let\",1,0)","v":0},{"$f":"IF(dotaznik_data2!D5=\"41-50 let\",1,0)","v":1},{"$f":"IF(dotaznik_data2!D5=\"51-60 let\",1,0)","v":0},{"$f":"IF(dotaznik_data2!D5=\"nad 61 let\",1,0)","v":0}]
[null,null,null,null,null,null,null,5,{"$f":"IF(dotaznik_data2!D6=\"20-30 let\",1,0)","v":1},{"$f":"IF(dotaznik_data2!D6=\"31-40 let\",1,0)","v":0},{"$f":"IF(dotaznik_data2!D6=\"41-50 let\",1,0)","v":0},{"$f":"IF(dotaznik_data2!D6=\"51-60 let\",1,0)","v":0},{"$f":"IF(dotaznik_data2!D6=\"nad 61 let\",1,0)","v":0}]
[null,null,null,null,null,null,null,6,{"$f":"IF(dotaznik_data2!D7=\"20-30 let\",1,0)","v":0},{"$f":"IF(dotaznik_data2!D7=\"31-40 let\",1,0)","v":0},{"$f":"IF(dotaznik_data2!D7=\"41-50 let\",1,0)","v":0},{"$f":"IF(dotaznik_data2!D7=\"51-60 let\",1,0)","v":1},{"$f":"IF(dotaznik_data2!D7=\"nad 61 let\",1,0)","v":0}]
[null,null,null,null,null,null,null,7,{"$f":"IF(dotaznik_data2!D8=\"20-30 let\",1,0)","v":0},{"$f":"IF(dotaznik_data2!D8=\"31-40 let\",1,0)","v":1},{"$f":"IF(dotaznik_data2!D8=\"41-50 let\",1,0)","v":0},{"$f":"IF(dotaznik_data2!D8=\"51-60 let\",1,0)","v":0},{"$f":"IF(dotaznik_data2!D8=\"nad 61 let\",1,0)","v":0}]
[null,null,null,null,null,null,null,8,{"$f":"IF(dotaznik_data2!D9=\"20-30 let\",1,0)","v":0},{"$f":"IF(dotaznik_data2!D9=\"31-40 let\",1,0)","v":0},{"$f":"IF(dotaznik_data2!D9=\"41-50 let\",1,0)","v":0},{"$f":"IF(dotaznik_data2!D9=\"51-60 let\",1,0)","v":0},{"$f":"IF(dotaznik_data2!D9=\"nad 61 let\",1,0)","v":1}]
[null,null,null,null,null,null,null,9,{"$f":"IF(dotaznik_data2!D10=\"20-30 let\",1,0)","v":1},{"$f":"IF(dotaznik_data2!D10=\"31-40 let\",1,0)","v":0},{"$f":"IF(dotaznik_data2!D10=\"41-50 let\",1,0)","v":0},{"$f":"IF(dotaznik_data2!D10=\"51-60 let\",1,0)","v":0},{"$f":"IF(dotaznik_data2!D10=\"nad 61 let\",1,0)","v":0}]
[null,null,null,null,null,null,null,10,{"$f":"IF(dotaznik_data2!D11=\"20-30 let\",1,0)","v":0},{"$f":"IF(dotaznik_data2!D11=\"31-40 let\",1,0)","v":1},{"$f":"IF(dotaznik_data2!D11=\"41-50 let\",1,0)","v":0},{"$f":"IF(dotaznik_data2!D11=\"51-60 let\",1,0)","v":0},{"$f":"IF(dotaznik_data2!D11=\"nad 61 let\",1,0)","v":0}]
[null,null,null,null,null,null,null,11,{"$f":"IF(dotaznik_data2!D12=\"20-30 let\",1,0)","v":1},{"$f":"IF(dotaznik_data2!D12=\"31-40 let\",1,0)","v":0},{"$f":"IF(dotaznik_data2!D12=\"41-50 let\",1,0)","v":0},{"$f":"IF(dotaznik_data2!D12=\"51-60 let\",1,0)","v":0},{"$f":"IF(dotaznik_data2!D12=\"nad 61 let\",1,0)","v":0}]
[null,null,null,null,null,null,null,12,{"$f":"IF(dotaznik_data2!D13=\"20-30 let\",1,0)","v":0},{"$f":"IF(dotaznik_data2!D13=\"31-40 let\",1,0)","v":1},{"$f":"IF(dotaznik_data2!D13=\"41-50 let\",1,0)","v":0},{"$f":"IF(dotaznik_data2!D13=\"51-60 let\",1,0)","v":0},{"$f":"IF(dotaznik_data2!D13=\"nad 61 let\",1,0)","v":0}]
[null,null,null,null,null,null,null,13,{"$f":"IF(dotaznik_data2!D14=\"20-30 let\",1,0)","v":0},{"$f":"IF(dotaznik_data2!D14=\"31-40 let\",1,0)","v":0},{"$f":"IF(dotaznik_data2!D14=\"41-50 let\",1,0)","v":0},{"$f":"IF(dotaznik_data2!D14=\"51-60 let\",1,0)","v":1},{"$f":"IF(dotaznik_data2!D14=\"nad 61 let\",1,0)","v":0}]
[null,null,null,null,null,null,null,14,{"$f":"IF(dotaznik_data2!D15=\"20-30 let\",1,0)","v":0},{"$f":"IF(dotaznik_data2!D15=\"31-40 let\",1,0)","v":0},{"$f":"IF(dotaznik_data2!D15=\"41-50 let\",1,0)","v":1},{"$f":"IF(dotaznik_data2!D15=\"51-60 let\",1,0)","v":0},{"$f":"IF(dotaznik_data2!D15=\"nad 61 let\",1,0)","v":0}]
[null,null,null,null,null,null,null,15,{"$f":"IF(dotaznik_data2!D16=\"20-30 let\",1,0)","v":1},{"$f":"IF(dotaznik_data2!D16=\"31-40 let\",1,0)","v":0},{"$f":"IF(dotaznik_data2!D16=\"41-50 let\",1,0)","v":0},{"$f":"IF(dotaznik_data2!D16=\"51-60 let\",1,0)","v":0},{"$f":"IF(dotaznik_data2!D16=\"nad 61 let\",1,0)","v":0}]
[null,null,null,null,null,null,null,16,{"$f":"IF(dotaznik_data2!D17=\"20-30 let\",1,0)","v":0},{"$f":"IF(dotaznik_data2!D17=\"31-40 let\",1,0)","v":1},{"$f":"IF(dotaznik_data2!D17=\"41-50 let\",1,0)","v":0},{"$f":"IF(dotaznik_data2!D17=\"51-60 let\",1,0)","v":0},{"$f":"IF(dotaznik_data2!D17=\"nad 61 let\",1,0)","v":0}]
[null,null,null,null,null,null,null,17,{"$f":"IF(dotaznik_data2!D18=\"20-30 let\",1,0)","v":0},{"$f":"IF(dotaznik_data2!D18=\"31-40 let\",1,0)","v":0},{"$f":"IF(dotaznik_data2!D18=\"41-50 let\",1,0)","v":0},{"$f":"IF(dotaznik_data2!D18=\"51-60 let\",1,0)","v":1},{"$f":"IF(dotaznik_data2!D18=\"nad 61 let\",1,0)","v":0}]
[null,null,null,null,null,null,null,18,{"$f":"IF(dotaznik_data2!D19=\"20-30 let\",1,0)","v":0},{"$f":"IF(dotaznik_data2!D19=\"31-40 let\",1,0)","v":1},{"$f":"IF(dotaznik_data2!D19=\"41-50 let\",1,0)","v":0},{"$f":"IF(dotaznik_data2!D19=\"51-60 let\",1,0)","v":0},{"$f":"IF(dotaznik_data2!D19=\"nad 61 let\",1,0)","v":0}]
[null,null,null,null,null,null,null,19,{"$f":"IF(dotaznik_data2!D20=\"20-30 let\",1,0)","v":1},{"$f":"IF(dotaznik_data2!D20=\"31-40 let\",1,0)","v":0},{"$f":"IF(dotaznik_data2!D20=\"41-50 let\",1,0)","v":0},{"$f":"IF(dotaznik_data2!D20=\"51-60 let\",1,0)","v":0},{"$f":"IF(dotaznik_data2!D20=\"nad 61 let\",1,0)","v":0}]
[null,null,null,null,null,null,null,20,{"$f":"IF(dotaznik_data2!D21=\"20-30 let\",1,0)","v":0},{"$f":"IF(dotaznik_data2!D21=\"31-40 let\",1,0)","v":0},{"$f":"IF(dotaznik_data2!D21=\"41-50 let\",1,0)","v":0},{"$f":"IF(dotaznik_data2!D21=\"51-60 let\",1,0)","v":1},{"$f":"IF(dotaznik_data2!D21=\"nad 61 let\",1,0)","v":0}]
[null,null,null,null,null,null,null,21,{"$f":"IF(dotaznik_data2!D22=\"20-30 let\",1,0)","v":1},{"$f":"IF(dotaznik_data2!D22=\"31-40 let\",1,0)","v":0},{"$f":"IF(dotaznik_data2!D22=\"41-50 let\",1,0)","v":0},{"$f":"IF(dotaznik_data2!D22=\"51-60 let\",1,0)","v":0},{"$f":"IF(dotaznik_data2!D22=\"nad 61 let\",1,0)","v":0}]
[null,null,null,null,null,null,null,22,{"$f":"IF(dotaznik_data2!D23=\"20-30 let\",1,0)","v":0},{"$f":"IF(dotaznik_data2!D23=\"31-40 let\",1,0)","v":1},{"$f":"IF(dotaznik_data2!D23=\"41-50 let\",1,0)","v":0},{"$f":"IF(dotaznik_data2!D23=\"51-60 let\",1,0)","v":0},{"$f":"IF(dotaznik_data2!D23=\"nad 61 let\",1,0)","v":0}]
[null,null,null,null,null,null,null,23,{"$f":"IF(dotaznik_data2!D24=\"20-30 let\",1,0)","v":0},{"$f":"IF(dotaznik_data2!D24=\"31-40 let\",1,0)","v":0},{"$f":"IF(dotaznik_data2!D24=\"41-50 let\",1,0)","v":0},{"$f":"IF(dotaznik_data2!D24=\"51-60 let\",1,0)","v":1},{"$f":"IF(dotaznik_data2!D24=\"nad 61 let\",1,0)","v":0}]
[null,null,null,null,null,null,null,24,{"$f":"IF(dotaznik_data2!D25=\"20-30 let\",1,0)","v":0},{"$f":"IF(dotaznik_data2!D25=\"31-40 let\",1,0)","v":0},{"$f":"IF(dotaznik_data2!D25=\"41-50 let\",1,0)","v":1},{"$f":"IF(dotaznik_data2!D25=\"51-60 let\",1,0)","v":0},{"$f":"IF(dotaznik_data2!D25=\"nad 61 let\",1,0)","v":0}]
[null,null,null,null,null,null,null,25,{"$f":"IF(dotaznik_data2!D26=\"20-30 let\",1,0)","v":0},{"$f":"IF(dotaznik_data2!D26=\"31-40 let\",1,0)","v":1},{"$f":"IF(dotaznik_data2!D26=\"41-50 let\",1,0)","v":0},{"$f":"IF(dotaznik_data2!D26=\"51-60 let\",1,0)","v":0},{"$f":"IF(dotaznik_data2!D26=\"nad 61 let\",1,0)","v":0}]
[null,null,null,null,null,null,null,26,{"$f":"IF(dotaznik_data2!D27=\"20-30 let\",1,0)","v":0},{"$f":"IF(dotaznik_data2!D27=\"31-40 let\",1,0)","v":0},{"$f":"IF(dotaznik_data2!D27=\"41-50 let\",1,0)","v":1},{"$f":"IF(dotaznik_data2!D27=\"51-60 let\",1,0)","v":0},{"$f":"IF(dotaznik_data2!D27=\"nad 61 let\",1,0)","v":0}]
[null,null,null,null,null,null,null,27,{"$f":"IF(dotaznik_data2!D28=\"20-30 let\",1,0)","v":0},{"$f":"IF(dotaznik_data2!D28=\"31-40 let\",1,0)","v":1},{"$f":"IF(dotaznik_data2!D28=\"41-50 let\",1,0)","v":0},{"$f":"IF(dotaznik_data2!D28=\"51-60 let\",1,0)","v":0},{"$f":"IF(dotaznik_data2!D28=\"nad 61 let\",1,0)","v":0}]
[null,null,null,null,null,null,null,28,{"$f":"IF(dotaznik_data2!D29=\"20-30 let\",1,0)","v":1},{"$f":"IF(dotaznik_data2!D29=\"31-40 let\",1,0)","v":0},{"$f":"IF(dotaznik_data2!D29=\"41-50 let\",1,0)","v":0},{"$f":"IF(dotaznik_data2!D29=\"51-60 let\",1,0)","v":0},{"$f":"IF(dotaznik_data2!D29=\"nad 61 let\",1,0)","v":0}]
[null,null,null,null,null,null,null,29,{"$f":"IF(dotaznik_data2!D30=\"20-30 let\",1,0)","v":0},{"$f":"IF(dotaznik_data2!D30=\"31-40 let\",1,0)","v":0},{"$f":"IF(dotaznik_data2!D30=\"41-50 let\",1,0)","v":1},{"$f":"IF(dotaznik_data2!D30=\"51-60 let\",1,0)","v":0},{"$f":"IF(dotaznik_data2!D30=\"nad 61 let\",1,0)","v":0}]
[null,null,null,null,null,null,null,30,{"$f":"IF(dotaznik_data2!D31=\"20-30 let\",1,0)","v":0},{"$f":"IF(dotaznik_data2!D31=\"31-40 let\",1,0)","v":1},{"$f":"IF(dotaznik_data2!D31=\"41-50 let\",1,0)","v":0},{"$f":"IF(dotaznik_data2!D31=\"51-60 let\",1,0)","v":0},{"$f":"IF(dotaznik_data2!D31=\"nad 61 let\",1,0)","v":0}]
[null,null,null,null,null,null,null,31,{"$f":"IF(dotaznik_data2!D32=\"20-30 let\",1,0)","v":0},{"$f":"IF(dotaznik_data2!D32=\"31-40 let\",1,0)","v":1},{"$f":"IF(dotaznik_data2!D32=\"41-50 let\",1,0)","v":0},{"$f":"IF(dotaznik_data2!D32=\"51-60 let\",1,0)","v":0},{"$f":"IF(dotaznik_data2!D32=\"nad 61 let\",1,0)","v":0}]
[null,null,null,null,null,null,null,32,{"$f":"IF(dotaznik_data2!D33=\"20-30 let\",1,0)","v":0},{"$f":"IF(dotaznik_data2!D33=\"31-40 let\",1,0)","v":0},{"$f":"IF(dotaznik_data2!D33=\"41-50 let\",1,0)","v":1},{"$f":"IF(dotaznik_data2!D33=\"51-60 let\",1,0)","v":0},{"$f":"IF(dotaznik_data2!D33=\"nad 61 let\",1,0)","v":0}]
[null,null,null,null,null,null,null,33,{"$f":"IF(dotaznik_data2!D34=\"20-30 let\",1,0)","v":0},{"$f":"IF(dotaznik_data2!D34=\"31-40 let\",1,0)","v":1},{"$f":"IF(dotaznik_data2!D34=\"41-50 let\",1,0)","v":0},{"$f":"IF(dotaznik_data2!D34=\"51-60 let\",1,0)","v":0},{"$f":"IF(dotaznik_data2!D34=\"nad 61 let\",1,0)","v":0}]
[null,null,null,null,null,null,null,34,{"$f":"IF(dotaznik_data2!D35=\"20-30 let\",1,0)","v":0},{"$f":"IF(dotaznik_data2!D35=\"31-40 let\",1,0)","v":0},{"$f":"IF(dotaznik_data2!D35=\"41-50 let\",1,0)","v":1},{"$f":"IF(dotaznik_data2!D35=\"51-60 let\",1,0)","v":0},{"$f":"IF(dotaznik_data2!D35=\"nad 61 let\",1,0)","v":0}]
[null,null,null,null,null,null,null,35,{"$f":"IF(dotaznik_data2!D36=\"20-30 let\",1,0)","v":0},{"$f":"IF(dotaznik_data2!D36=\"31-40 let\",1,0)","v":1},{"$f":"IF(dotaznik_data2!D36=\"41-50 let\",1,0)","v":0},{"$f":"IF(dotaznik_data2!D36=\"51-60 let\",1,0)","v":0},{"$f":"IF(dotaznik_data2!D36=\"nad 61 let\",1,0)","v":0}]
[null,null,null,null,null,null,null,36,{"$f":"IF(dotaznik_data2!D37=\"20-30 let\",1,0)","v":0},{"$f":"IF(dotaznik_data2!D37=\"31-40 let\",1,0)","v":1},{"$f":"IF(dotaznik_data2!D37=\"41-50 let\",1,0)","v":0},{"$f":"IF(dotaznik_data2!D37=\"51-60 let\",1,0)","v":0},{"$f":"IF(dotaznik_data2!D37=\"nad 61 let\",1,0)","v":0}]
[null,null,null,null,null,null,null,37,{"$f":"IF(dotaznik_data2!D38=\"20-30 let\",1,0)","v":0},{"$f":"IF(dotaznik_data2!D38=\"31-40 let\",1,0)","v":1},{"$f":"IF(dotaznik_data2!D38=\"41-50 let\",1,0)","v":0},{"$f":"IF(dotaznik_data2!D38=\"51-60 let\",1,0)","v":0},{"$f":"IF(dotaznik_data2!D38=\"nad 61 let\",1,0)","v":0}]
[null,null,null,null,null,null,null,38,{"$f":"IF(dotaznik_data2!D39=\"20-30 let\",1,0)","v":1},{"$f":"IF(dotaznik_data2!D39=\"31-40 let\",1,0)","v":0},{"$f":"IF(dotaznik_data2!D39=\"41-50 let\",1,0)","v":0},{"$f":"IF(dotaznik_data2!D39=\"51-60 let\",1,0)","v":0},{"$f":"IF(dotaznik_data2!D39=\"nad 61 let\",1,0)","v":0}]
[null,null,null,null,null,null,null,39,{"$f":"IF(dotaznik_data2!D40=\"20-30 let\",1,0)","v":0},{"$f":"IF(dotaznik_data2!D40=\"31-40 let\",1,0)","v":1},{"$f":"IF(dotaznik_data2!D40=\"41-50 let\",1,0)","v":0},{"$f":"IF(dotaznik_data2!D40=\"51-60 let\",1,0)","v":0},{"$f":"IF(dotaznik_data2!D40=\"nad 61 let\",1,0)","v":0}]
[null,null,null,null,null,null,null,40,{"$f":"IF(dotaznik_data2!D41=\"20-30 let\",1,0)","v":0},{"$f":"IF(dotaznik_data2!D41=\"31-40 let\",1,0)","v":0},{"$f":"IF(dotaznik_data2!D41=\"41-50 let\",1,0)","v":0},{"$f":"IF(dotaznik_data2!D41=\"51-60 let\",1,0)","v":1},{"$f":"IF(dotaznik_data2!D41=\"nad 61 let\",1,0)","v":0}]
[null,null,null,null,null,null,null,41,{"$f":"IF(dotaznik_data2!D42=\"20-30 let\",1,0)","v":0},{"$f":"IF(dotaznik_data2!D42=\"31-40 let\",1,0)","v":1},{"$f":"IF(dotaznik_data2!D42=\"41-50 let\",1,0)","v":0},{"$f":"IF(dotaznik_data2!D42=\"51-60 let\",1,0)","v":0},{"$f":"IF(dotaznik_data2!D42=\"nad 61 let\",1,0)","v":0}]
[null,null,null,null,null,null,null,42,{"$f":"IF(dotaznik_data2!D43=\"20-30 let\",1,0)","v":0},{"$f":"IF(dotaznik_data2!D43=\"31-40 let\",1,0)","v":0},{"$f":"IF(dotaznik_data2!D43=\"41-50 let\",1,0)","v":1},{"$f":"IF(dotaznik_data2!D43=\"51-60 let\",1,0)","v":0},{"$f":"IF(dotaznik_data2!D43=\"nad 61 let\",1,0)","v":0}]
[null,null,null,null,null,null,null,43,{"$f":"IF(dotaznik_data2!D44=\"20-30 let\",1,0)","v":0},{"$f":"IF(dotaznik_data2!D44=\"31-40 let\",1,0)","v":1},{"$f":"IF(dotaznik_data2!D44=\"41-50 let\",1,0)","v":0},{"$f":"IF(dotaznik_data2!D44=\"51-60 let\",1,0)","v":0},{"$f":"IF(dotaznik_data2!D44=\"nad 61 let\",1,0)","v":0}]
[null,null,null,null,null,null,null,44,{"$f":"IF(dotaznik_data2!D45=\"20-30 let\",1,0)","v":1},{"$f":"IF(dotaznik_data2!D45=\"31-40 let\",1,0)","v":0},{"$f":"IF(dotaznik_data2!D45=\"41-50 let\",1,0)","v":0},{"$f":"IF(dotaznik_data2!D45=\"51-60 let\",1,0)","v":0},{"$f":"IF(dotaznik_data2!D45=\"nad 61 let\",1,0)","v":0}]
[null,null,null,null,null,null,null,45,{"$f":"IF(dotaznik_data2!D46=\"20-30 let\",1,0)","v":1},{"$f":"IF(dotaznik_data2!D46=\"31-40 let\",1,0)","v":0},{"$f":"IF(dotaznik_data2!D46=\"41-50 let\",1,0)","v":0},{"$f":"IF(dotaznik_data2!D46=\"51-60 let\",1,0)","v":0},{"$f":"IF(dotaznik_data2!D46=\"nad 61 let\",1,0)","v":0}]
[null,null,null,null,null,null,null,46,{"$f":"IF(dotaznik_data2!D47=\"20-30 let\",1,0)","v":0},{"$f":"IF(dotaznik_data2!D47=\"31-40 let\",1,0)","v":0},{"$f":"IF(dotaznik_data2!D47=\"41-50 let\",1,0)","v":0},{"$f":"IF(dotaznik_data2!D47=\"51-60 let\",1,0)","v":0},{"$f":"IF(dotaznik_data2!D47=\"nad 61 let\",1,0)","v":1}]
[null,null,null,null,null,null,null,47,{"$f":"IF(dotaznik_data2!D48=\"20-30 let\",1,0)","v":0},{"$f":"IF(dotaznik_data2!D48=\"31-40 let\",1,0)","v":0},{"$f":"IF(dotaznik_data2!D48=\"41-50 let\",1,0)","v":0},{"$f":"IF(dotaznik_data2!D48=\"51-60 let\",1,0)","v":1},{"$f":"IF(dotaznik_data2!D48=\"nad 61 let\",1,0)","v":0}]
[null,null,null,null,null,null,null,48,{"$f":"IF(dotaznik_data2!D49=\"20-30 let\",1,0)","v":0},{"$f":"IF(dotaznik_data2!D49=\"31-40 let\",1,0)","v":0},{"$f":"IF(dotaznik_data2!D49=\"41-50 let\",1,0)","v":0},{"$f":"IF(dotaznik_data2!D49=\"51-60 let\",1,0)","v":1},{"$f":"IF(dotaznik_data2!D49=\"nad 61 let\",1,0)","v":0}]
[null,null,null,null,null,null,null,49,{"$f":"IF(dotaznik_data2!D50=\"20-30 let\",1,0)","v":0},{"$f":"IF(dotaznik_data2!D50=\"31-40 let\",1,0)","v":0},{"$f":"IF(dotaznik_data2!D50=\"41-50 let\",1,0)","v":1},{"$f":"IF(dotaznik_data2!D50=\"51-60 let\",1,0)","v":0},{"$f":"IF(dotaznik_data2!D50=\"nad 61 let\",1,0)","v":0}]
[null,null,null,null,null,null,null,50,{"$f":"IF(dotaznik_data2!D51=\"20-30 let\",1,0)","v":0},{"$f":"IF(dotaznik_data2!D51=\"31-40 let\",1,0)","v":1},{"$f":"IF(dotaznik_data2!D51=\"41-50 let\",1,0)","v":0},{"$f":"IF(dotaznik_data2!D51=\"51-60 let\",1,0)","v":0},{"$f":"IF(dotaznik_data2!D51=\"nad 61 let\",1,0)","v":0}]
[]
[]
[4,"Pokud ne, z jakého důvodu jste se rozhodl/a pro nepořízení kola?",null,null,null,null,"kolo není potřeba"]
[null,null,null,null,null,null,"finanční"]
[null,null,null,null,null,null,"sdílím kolo","četnost",{"$f":"COUNTIF(I170:I219,1)","v":3},{"$f":"COUNTIF(J170:J219,1)","v":0},2,0]
[null,null,null,null,null,null,"jiný důvod","odpověď","kolo není potřeba","finanční","sdílím kolo","jiný důvod"]
[null,null,null,null,null,null,"respondent číslo",1,{"$f":"IF(dotaznik_data2!E2=\"kolo není potřeba\",1,0)","v":0},{"$f":"IF(dotaznik_data2!E2=\"finanční\",1,0)","v":0},{"$f":"IF(dotaznik_data2!E2=\"sdílím kolo\",1,0)","v":0},{"$f":"IF(dotaznik_data2!E2=\"jiný důvod\",1,0)","v":0}]
[null,null,null,null,null,null,null,2,{"$f":"IF(dotaznik_data2!E3=\"kolo není potřeba\",1,0)","v":0},{"$f":"IF(dotaznik_data2!E3=\"finanční\",1,0)","v":0},{"$f":"IF(dotaznik_data2!E3=\"sdílím kolo\",1,0)","v":0},{"$f":"IF(dotaznik_data2!E3=\"jiný důvod\",1,0)","v":0}]
[null,null,null,null,null,null,null,3,{"$f":"IF(dotaznik_data2!E4=\"kolo není potřeba\",1,0)","v":0},{"$f":"IF(dotaznik_data2!E4=\"finanční\",1,0)","v":0},{"$f":"IF(dotaznik_data2!E4=\"sdílím kolo\",1,0)","v":0},{"$f":"IF(dotaznik_data2!E4=\"jiný důvod\",1,0)","v":0}]
[null,null,null,null,null,null,null,4,{"$f":"IF(dotaznik_data2!E5=\"kolo není potřeba\",1,0)","v":0},{"$f":"IF(dotaznik_data2!E5=\"finanční\",1,0)","v":0},{"$f":"IF(dotaznik_data2!E5=\"sdílím kolo\",1,0)","v":0},{"$f":"IF(dotaznik_data2!E5=\"jiný důvod\",1,0)","v":0}]
[null,null,null,null,null,null,null,5,{"$f":"IF(dotaznik_data2!E6=\"kolo není potřeba\",1,0)","v":0},{"$f":"IF(dotaznik_data2!E6=\"finanční\",1,0)","v":0},{"$f":"IF(dotaznik_data2!E6=\"sdílím kolo\",1,0)","v":0},{"$f":"IF(dotaznik_data2!E6=\"jiný důvod\",1,0)","v":0}]
[null,null,null,null,null,null,null,6,{"$f":"IF(dotaznik_data2!E7=\"kolo není potřeba\",1,0)","v":0},{"$f":"IF(dotaznik_data2!E7=\"finanční\",1,0)","v":0},{"$f":"IF(dotaznik_data2!E7=\"sdílím kolo\",1,0)","v":0},{"$f":"IF(dotaznik_data2!E7=\"jiný důvod\",1,0)","v":0}]
[null,null,null,null,null,null,null,7,{"$f":"IF(dotaznik_data2!E8=\"kolo není potřeba\",1,0)","v":0},{"$f":"IF(dotaznik_data2!E8=\"finanční\",1,0)","v":0},{"$f":"IF(dotaznik_data2!E8=\"sdílím kolo\",1,0)","v":0},{"$f":"IF(dotaznik_data2!E8=\"jiný důvod\",1,0)","v":0}]
[null,null,null,null,null,null,null,8,{"$f":"IF(dotaznik_data2!E9=\"kolo není potřeba\",1,0)","v":0},{"$f":"IF(dotaznik_data2!E9=\"finanční\",1,0)","v":0},{"$f":"IF(dotaznik_data2!E9=\"sdílím kolo\",1,0)","v":0},{"$f":"IF(dotaznik_data2!E9=\"jiný důvod\",1,0)","v":0}]
[null,null,null,null,null,null,null,9,{"$f":"IF(dotaznik_data2!E10=\"kolo není potřeba\",1,0)","v":1},{"$f":"IF(dotaznik_data2!E10=\"finanční\",1,0)","v":0},{"$f":"IF(dotaznik_data2!E10=\"sdílím kolo\",1,0)","v":0},{"$f":"IF(dotaznik_data2!E10=\"jiný důvod\",1,0)","v":0}]
[null,null,null,null,null,null,null,10,{"$f":"IF(dotaznik_data2!E11=\"kolo není potřeba\",1,0)","v":0},{"$f":"IF(dotaznik_data2!E11=\"finanční\",1,0)","v":0},{"$f":"IF(dotaznik_data2!E11=\"sdílím kolo\",1,0)","v":0},{"$f":"IF(dotaznik_data2!E11=\"jiný důvod\",1,0)","v":0}]
[null,null,null,null,null,null,null,11,{"$f":"IF(dotaznik_data2!E12=\"kolo není potřeba\",1,0)","v":0},{"$f":"IF(dotaznik_data2!E12=\"finanční\",1,0)","v":0},{"$f":"IF(dotaznik_data2!E12=\"sdílím kolo\",1,0)","v":0},{"$f":"IF(dotaznik_data2!E12=\"jiný důvod\",1,0)","v":0}]
[null,null,null,null,null,null,null,12,{"$f":"IF(dotaznik_data2!E13=\"kolo není potřeba\",1,0)","v":0},{"$f":"IF(dotaznik_data2!E13=\"finanční\",1,0)","v":0},{"$f":"IF(dotaznik_data2!E13=\"sdílím kolo\",1,0)","v":0},{"$f":"IF(dotaznik_data2!E13=\"jiný důvod\",1,0)","v":0}]
[null,null,null,null,null,null,null,13,{"$f":"IF(dotaznik_data2!E14=\"kolo není potřeba\",1,0)","v":0},{"$f":"IF(dotaznik_data2!E14=\"finanční\",1,0)","v":0},{"$f":"IF(dotaznik_data2!E14=\"sdílím kolo\",1,0)","v":0},{"$f":"IF(dotaznik_data2!E14=\"jiný důvod\",1,0)","v":0}]
[null,null,null,null,null,null,null,14,{"$f":"IF(dotaznik_data2!E15=\"kolo není potřeba\",1,0)","v":0},{"$f":"IF(dotaznik_data2!E15=\"finanční\",1,0)","v":0},{"$f":"IF(dotaznik_data2!E15=\"sdílím kolo\",1,0)","v":0},{"$f":"IF(dotaznik_data2!E15=\"jiný důvod\",1,0)","v":0}]
[null,null,null,null,null,null,null,15,{"$f":"IF(dotaznik_data2!E16=\"kolo není potřeba\",1,0)","v":0},{"$f":"IF(dotaznik_data2!E16=\"finanční\",1,0)","v":0},{"$f":"IF(dotaznik_data2!E16=\"sdílím kolo\",1,0)","v":1},{"$f":"IF(dotaznik_data2!E16=\"jiný důvod\",1,0)","v":0}]
[null,null,null,null,null,null,null,16,{"$f":"IF(dotaznik_data2!E17=\"kolo není potřeba\",1,0)","v":0},{"$f":"IF(dotaznik_data2!E17=\"finanční\",1,0)","v":0},{"$f":"IF(dotaznik_data2!E17=\"sdílím kolo\",1,0)","v":0},{"$f":"IF(dotaznik_data2!E17=\"jiný důvod\",1,0)","v":0}]
[null,null,null,null,null,null,null,17,{"$f":"IF(dotaznik_data2!E18=\"kolo není potřeba\",1,0)","v":0},{"$f":"IF(dotaznik_data2!E18=\"finanční\",1,0)","v":0},{"$f":"IF(dotaznik_data2!E18=\"sdílím kolo\",1,0)","v":0},{"$f":"IF(dotaznik_data2!E18=\"jiný důvod\",1,0)","v":0}]
[null,null,null,null,null,null,null,18,{"$f":"IF(dotaznik_data2!E19=\"kolo není potřeba\",1,0)","v":0},{"$f":"IF(dotaznik_data2!E19=\"finanční\",1,0)","v":0},{"$f":"IF(dotaznik_data2!E19=\"sdílím kolo\",1,0)","v":0},{"$f":"IF(dotaznik_data2!E19=\"jiný důvod\",1,0)","v":0}]
[null,null,null,null,null,null,null,19,{"$f":"IF(dotaznik_data2!E20=\"kolo není potřeba\",1,0)","v":0},{"$f":"IF(dotaznik_data2!E20=\"finanční\",1,0)","v":0},{"$f":"IF(dotaznik_data2!E20=\"sdílím kolo\",1,0)","v":0},{"$f":"IF(dotaznik_data2!E20=\"jiný důvod\",1,0)","v":0}]
[null,null,null,null,null,null,null,20,{"$f":"IF(dotaznik_data2!E21=\"kolo není potřeba\",1,0)","v":0},{"$f":"IF(dotaznik_data2!E21=\"finanční\",1,0)","v":0},{"$f":"IF(dotaznik_data2!E21=\"sdílím kolo\",1,0)","v":0},{"$f":"IF(dotaznik_data2!E21=\"jiný důvod\",1,0)","v":0}]
[null,null,null,null,null,null,null,21,{"$f":"IF(dotaznik_data2!E22=\"kolo není potřeba\",1,0)","v":0},{"$f":"IF(dotaznik_data2!E22=\"finanční\",1,0)","v":0},{"$f":"IF(dotaznik_data2!E22=\"sdílím kolo\",1,0)","v":0},{"$f":"IF(dotaznik_data2!E22=\"jiný důvod\",1,0)","v":0}]
[null,null,null,null,null,null,null,22,{"$f":"IF(dotaznik_data2!E23=\"kolo není potřeba\",1,0)","v":0},{"$f":"IF(dotaznik_data2!E23=\"finanční\",1,0)","v":0},{"$f":"IF(dotaznik_data2!E23=\"sdílím kolo\",1,0)","v":1},{"$f":"IF(dotaznik_data2!E23=\"jiný důvod\",1,0)","v":0}]
[null,null,null,null,null,null,null,23,{"$f":"IF(dotaznik_data2!E24=\"kolo není potřeba\",1,0)","v":0},{"$f":"IF(dotaznik_data2!E24=\"finanční\",1,0)","v":0},{"$f":"IF(dotaznik_data2!E24=\"sdílím kolo\",1,0)","v":0},{"$f":"IF(dotaznik_data2!E24=\"jiný důvod\",1,0)","v":0}]
[null,null,null,null,null,null,null,24,{"$f":"IF(dotaznik_data2!E25=\"kolo není potřeba\",1,0)","v":0},{"$f":"IF(dotaznik_data2!E25=\"finanční\",1,0)","v":0},{"$f":"IF(dotaznik_data2!E25=\"sdílím kolo\",1,0)","v":0},{"$f":"IF(dotaznik_data2!E25=\"jiný důvod\",1,0)","v":0}]
[null,null,null,null,null,null,null,25,{"$f":"IF(dotaznik_data2!E26=\"kolo není potřeba\",1,0)","v":1},{"$f":"IF(dotaznik_data2!E26=\"finanční\",1,0)","v":0},{"$f":"IF(dotaznik_data2!E26=\"sdílím kolo\",1,0)","v":0},{"$f":"IF(dotaznik_data2!E26=\"jiný důvod\",1,0)","v":0}]
[null,null,null,null,null,null,null,26,{"$f":"IF(dotaznik_data2!E27=\"kolo není potřeba\",1,0)","v":0},{"$f":"IF(dotaznik_data2!E27=\"finanční\",1,0)","v":0},{"$f":"IF(dotaznik_data2!E27=\"sdílím kolo\",1,0)","v":0},{"$f":"IF(dotaznik_data2!E27=\"jiný důvod\",1,0)","v":0}]
[null,null,null,null,null,null,null,27,{"$f":"IF(dotaznik_data2!E28=\"kolo není potřeba\",1,0)","v":0},{"$f":"IF(dotaznik_data2!E28=\"finanční\",1,0)","v":0},{"$f":"IF(dotaznik_data2!E28=\"sdílím kolo\",1,0)","v":0},{"$f":"IF(dotaznik_data2!E28=\"jiný důvod\",1,0)","v":0}]
[null,null,null,null,null,null,null,28,{"$f":"IF(dotaznik_data2!E29=\"kolo není potřeba\",1,0)","v":0},{"$f":"IF(dotaznik_data2!E29=\"finanční\",1,0)","v":0},{"$f":"IF(dotaznik_data2!E29=\"sdílím kolo\",1,0)","v":0},{"$f":"IF(dotaznik_data2!E29=\"jiný důvod\",1,0)","v":0}]
[null,null,null,null,null,null,null,29,{"$f":"IF(dotaznik_data2!E30=\"kolo není potřeba\",1,0)","v":0},{"$f":"IF(dotaznik_data2!E30=\"finanční\",1,0)","v":0},{"$f":"IF(dotaznik_data2!E30=\"sdílím kolo\",1,0)","v":0},{"$f":"IF(dotaznik_data2!E30=\"jiný důvod\",1,0)","v":0}]
[null,null,null,null,null,null,null,30,{"$f":"IF(dotaznik_data2!E31=\"kolo není potřeba\",1,0)","v":0},{"$f":"IF(dotaznik_data2!E31=\"finanční\",1,0)","v":0},{"$f":"IF(dotaznik_data2!E31=\"sdílím kolo\",1,0)","v":0},{"$f":"IF(dotaznik_data2!E31=\"jiný důvod\",1,0)","v":0}]
[null,null,null,null,null,null,null,31,{"$f":"IF(dotaznik_data2!E32=\"kolo není potřeba\",1,0)","v":1},{"$f":"IF(dotaznik_data2!E32=\"finanční\",1,0)","v":0},{"$f":"IF(dotaznik_data2!E32=\"sdílím kolo\",1,0)","v":0},{"$f":"IF(dotaznik_data2!E32=\"jiný důvod\",1,0)","v":0}]
[null,null,null,null,null,null,null,32,{"$f":"IF(dotaznik_data2!E33=\"kolo není potřeba\",1,0)","v":0},{"$f":"IF(dotaznik_data2!E33=\"finanční\",1,0)","v":0},{"$f":"IF(dotaznik_data2!E33=\"sdílím kolo\",1,0)","v":0},{"$f":"IF(dotaznik_data2!E33=\"jiný důvod\",1,0)","v":0}]
[null,null,null,null,null,null,null,33,{"$f":"IF(dotaznik_data2!E34=\"kolo není potřeba\",1,0)","v":0},{"$f":"IF(dotaznik_data2!E34=\"finanční\",1,0)","v":0},{"$f":"IF(dotaznik_data2!E34=\"sdílím kolo\",1,0)","v":0},{"$f":"IF(dotaznik_data2!E34=\"jiný důvod\",1,0)","v":0}]
[null,null,null,null,null,null,null,34,{"$f":"IF(dotaznik_data2!E35=\"kolo není potřeba\",1,0)","v":0},{"$f":"IF(dotaznik_data2!E35=\"finanční\",1,0)","v":0},{"$f":"IF(dotaznik_data2!E35=\"sdílím kolo\",1,0)","v":0},{"$f":"IF(dotaznik_data2!E35=\"jiný důvod\",1,0)","v":0}]
[null,null,null,null,null,null,null,35,{"$f":"IF(dotaznik_data2!E36=\"kolo není potřeba\",1,0)","v":0},{"$f":"IF(dotaznik_data2!E36=\"finanční\",1,0)","v":0},{"$f":"IF(dotaznik_data2!E36=\"sdílím kolo\",1,0)","v":0},{"$f":"IF(dotaznik_data2!E36=\"jiný důvod\",1,0)","v":0}]
[null,null,null,null,null,null,null,36,{"$f":"IF(dotaznik_data2!E37=\"kolo není potřeba\",1,0)","v":0},{"$f":"IF(dotaznik_data2!E37=\"finanční\",1,0)","v":0},{"$f":"IF(dotaznik_data2!E37=\"sdílím kolo\",1,0)","v":0},{"$f":"IF(dotaznik_data2!E37=\"jiný důvod\",1,0)","v":0}]
[null,null,null,null,null,null,null,37,{"$f":"IF(dotaznik_data2!E38=\"kolo není potřeba\",1,0)","v":0},{"$f":"IF(dotaznik_data2!E38=\"finanční\",1,0)","v":0},{"$f":"IF(dotaznik_data2!E38=\"sdílím kolo\",1,0)","v":0},{"$f":"IF(dotaznik_data2!E38=\"jiný důvod\",1,0)","v":0}]
[null,null,null,null,null,null,null,38,{"$f":"IF(dotaznik_data2!E39=\"kolo není potřeba\",1,0)","v":0},{"$f":"IF(dotaznik_data2!E39=\"finanční\",1,0)","v":0},{"$f":"IF(dotaznik_data2!E39=\"sdílím kolo\",1,0)","v":0},{"$f":"IF(dotaznik_data2!E39=\"jiný důvod\",1,0)","v":0}]
[null,null,null,null,null,null,null,39,{"$f":"IF(dotaznik_data2!E40=\"kolo není potřeba\",1,0)","v":0},{"$f":"IF(dotaznik_data2!E40=\"finanční\",1,0)","v":0},{"$f":"IF(dotaznik_data2!E40=\"sdílím kolo\",1,0)","v":0},{"$f":"IF(dotaznik_data2!E40=\"jiný důvod\",1,0)","v":0}]
[null,null,null,null,null,null,null,40,{"$f":"IF(dotaznik_data2!E41=\"kolo není potřeba\",1,0)","v":0},{"$f":"IF(dotaznik_data2!E41=\"finanční\",1,0)","v":0},{"$f":"IF(dotaznik_data2!E41=\"sdílím kolo\",1,0)","v":0},{"$f":"IF(dotaznik_data2!E41=\"jiný důvod\",1,0)","v":0}]
[null,null,null,null,null,null,null,41,{"$f":"IF(dotaznik_data2!E42=\"kolo není potřeba\",1,0)","v":0},{"$f":"IF(dotaznik_data2!E42=\"finanční\",1,0)","v":0},{"$f":"IF(dotaznik_data2!E42=\"sdílím kolo\",1,0)","v":0},{"$f":"IF(dotaznik_data2!E42=\"jiný důvod\",1,0)","v":0}]
[null,null,null,null,null,null,null,42,{"$f":"IF(dotaznik_data2!E43=\"kolo není potřeba\",1,0)","v":0},{"$f":"IF(dotaznik_data2!E43=\"finanční\",1,0)","v":0},{"$f":"IF(dotaznik_data2!E43=\"sdílím kolo\",1,0)","v":0},{"$f":"IF(dotaznik_data2!E43=\"jiný důvod\",1,0)","v":0}]
[null,null,null,null,null,null,null,43,{"$f":"IF(dotaznik_data2!E44=\"kolo není potřeba\",1,0)","v":0},{"$f":"IF(dotaznik_data2!E44=\"finanční\",1,0)","v":0},{"$f":"IF(dotaznik_data2!E44=\"sdílím kolo\",1,0)","v":0},{"$f":"IF(dotaznik_data2!E44=\"jiný důvod\",1,0)","v":0}]
[null,null,null,null,null,null,null,44,{"$f":"IF(dotaznik_data2!E45=\"kolo není potřeba\",1,0)","v":0},{"$f":"IF(dotaznik_data2!E45=\"finanční\",1,0)","v":0},{"$f":"IF(dotaznik_data2!E45=\"sdílím kolo\",1,0)","v":0},{"$f":"IF(dotaznik_data2!E45=\"jiný důvod\",1,0)","v":0}]
[null,null,null,null,null,null,null,45,{"$f":"IF(dotaznik_data2!E46=\"kolo není potřeba\",1,0)","v":0},{"$f":"IF(dotaznik_data2!E46=\"finanční\",1,0)","v":0},{"$f":"IF(dotaznik_data2!E46=\"sdílím kolo\",1,0)","v":0},{"$f":"IF(dotaznik_data2!E46=\"jiný důvod\",1,0)","v":0}]
[null,null,null,null,null,null,null,46,{"$f":"IF(dotaznik_data2!E47=\"kolo není potřeba\",1,0)","v":0},{"$f":"IF(dotaznik_data2!E47=\"finanční\",1,0)","v":0},{"$f":"IF(dotaznik_data2!E47=\"sdílím kolo\",1,0)","v":0},{"$f":"IF(dotaznik_data2!E47=\"jiný důvod\",1,0)","v":0}]
[null,null,null,null,null,null,null,47,{"$f":"IF(dotaznik_data2!E48=\"kolo není potřeba\",1,0)","v":0},{"$f":"IF(dotaznik_data2!E48=\"finanční\",1,0)","v":0},{"$f":"IF(dotaznik_data2!E48=\"sdílím kolo\",1,0)","v":0},{"$f":"IF(dotaznik_data2!E48=\"jiný důvod\",1,0)","v":0}]
[null,null,null,null,null,null,null,48,{"$f":"IF(dotaznik_data2!E49=\"kolo není potřeba\",1,0)","v":0},{"$f":"IF(dotaznik_data2!E49=\"finanční\",1,0)","v":0},{"$f":"IF(dotaznik_data2!E49=\"sdílím kolo\",1,0)","v":0},{"$f":"IF(dotaznik_data2!E49=\"jiný důvod\",1,0)","v":0}]
[null,null,null,null,null,null,null,49,{"$f":"IF(dotaznik_data2!E50=\"kolo není potřeba\",1,0)","v":0},{"$f":"IF(dotaznik_data2!E50=\"finanční\",1,0)","v":0},{"$f":"IF(dotaznik_data2!E50=\"sdílím kolo\",1,0)","v":0},{"$f":"IF(dotaznik_data2!E50=\"jiný důvod\",1,0)","v":0}]
[null,null,null,null,null,null,null,50,{"$f":"IF(dotaznik_data2!E51=\"kolo není potřeba\",1,0)","v":0},{"$f":"IF(dotaznik_data2!E51=\"finanční\",1,0)","v":0},{"$f":"IF(dotaznik_data2!E51=\"sdílím kolo\",1,0)","v":0},{"$f":"IF(dotaznik_data2!E51=\"jiný důvod\",1,0)","v":0}]
[]
[]
[5,"Jaký typ kola vlastníte?",null,null,null,null,"silniční"]
[null,null,null,null,null,null,"horské"]
[null,null,null,null,null,null,"trekové"]
[null,null,null,null,null,null,"crossové","četnost",{"$f":"COUNTIF(I227:I276,1)","v":12},{"$f":"COUNTIF(J227:J276,1)","v":15},9,5,4]
[null,null,null,null,null,null,"BMX","odpověď","silniční","horské","trekové","crossové","BMX"]
[null,null,null,null,null,null,"respondent číslo",1,{"$f":"IF(dotaznik_data2!$F2=\"silniční\",1,0)","v":1},{"$f":"IF(dotaznik_data2!$F2=\"horské\",1,0)","v":0},{"$f":"IF(dotaznik_data2!$F2=\"trekové\",1,0)","v":0},{"$f":"IF(dotaznik_data2!$F2=\"crossové\",1,0)","v":0},{"$f":"IF(dotaznik_data2!$F2=\"BMX\",1,0)","v":0}]
[null,null,null,null,null,null,null,2,{"$f":"IF(dotaznik_data2!$F3=\"silniční\",1,0)","v":0},{"$f":"IF(dotaznik_data2!$F3=\"horské\",1,0)","v":1},{"$f":"IF(dotaznik_data2!$F3=\"trekové\",1,0)","v":0},{"$f":"IF(dotaznik_data2!$F3=\"crossové\",1,0)","v":0},{"$f":"IF(dotaznik_data2!$F3=\"BMX\",1,0)","v":0}]
[null,null,null,null,null,null,null,3,{"$f":"IF(dotaznik_data2!$F4=\"silniční\",1,0)","v":1},{"$f":"IF(dotaznik_data2!$F4=\"horské\",1,0)","v":0},{"$f":"IF(dotaznik_data2!$F4=\"trekové\",1,0)","v":0},{"$f":"IF(dotaznik_data2!$F4=\"crossové\",1,0)","v":0},{"$f":"IF(dotaznik_data2!$F4=\"BMX\",1,0)","v":0}]
[null,null,null,null,null,null,null,4,{"$f":"IF(dotaznik_data2!$F5=\"silniční\",1,0)","v":0},{"$f":"IF(dotaznik_data2!$F5=\"horské\",1,0)","v":0},{"$f":"IF(dotaznik_data2!$F5=\"trekové\",1,0)","v":0},{"$f":"IF(dotaznik_data2!$F5=\"crossové\",1,0)","v":1},{"$f":"IF(dotaznik_data2!$F5=\"BMX\",1,0)","v":0}]
[null,null,null,null,null,null,null,5,{"$f":"IF(dotaznik_data2!$F6=\"silniční\",1,0)","v":0},{"$f":"IF(dotaznik_data2!$F6=\"horské\",1,0)","v":0},{"$f":"IF(dotaznik_data2!$F6=\"trekové\",1,0)","v":0},{"$f":"IF(dotaznik_data2!$F6=\"crossové\",1,0)","v":0},{"$f":"IF(dotaznik_data2!$F6=\"BMX\",1,0)","v":1}]
[null,null,null,null,null,null,null,6,{"$f":"IF(dotaznik_data2!$F7=\"silniční\",1,0)","v":0},{"$f":"IF(dotaznik_data2!$F7=\"horské\",1,0)","v":0},{"$f":"IF(dotaznik_data2!$F7=\"trekové\",1,0)","v":0},{"$f":"IF(dotaznik_data2!$F7=\"crossové\",1,0)","v":1},{"$f":"IF(dotaznik_data2!$F7=\"BMX\",1,0)","v":0}]
[null,null,null,null,null,null,null,7,{"$f":"IF(dotaznik_data2!$F8=\"silniční\",1,0)","v":0},{"$f":"IF(dotaznik_data2!$F8=\"horské\",1,0)","v":1},{"$f":"IF(dotaznik_data2!$F8=\"trekové\",1,0)","v":0},{"$f":"IF(dotaznik_data2!$F8=\"crossové\",1,0)","v":0},{"$f":"IF(dotaznik_data2!$F8=\"BMX\",1,0)","v":0}]
[null,null,null,null,null,null,null,8,{"$f":"IF(dotaznik_data2!$F9=\"silniční\",1,0)","v":1},{"$f":"IF(dotaznik_data2!$F9=\"horské\",1,0)","v":0},{"$f":"IF(dotaznik_data2!$F9=\"trekové\",1,0)","v":0},{"$f":"IF(dotaznik_data2!$F9=\"crossové\",1,0)","v":0},{"$f":"IF(dotaznik_data2!$F9=\"BMX\",1,0)","v":0}]
[null,null,null,null,null,null,null,9,{"$f":"IF(dotaznik_data2!$F10=\"silniční\",1,0)","v":0},{"$f":"IF(dotaznik_data2!$F10=\"horské\",1,0)","v":0},{"$f":"IF(dotaznik_data2!$F10=\"trekové\",1,0)","v":0},{"$f":"IF(dotaznik_data2!$F10=\"crossové\",1,0)","v":0},{"$f":"IF(dotaznik_data2!$F10=\"BMX\",1,0)","v":0}]
[null,null,null,null,null,null,null,10,{"$f":"IF(dotaznik_data2!$F11=\"silniční\",1,0)","v":1},{"$f":"IF(dotaznik_data2!$F11=\"horské\",1,0)","v":0},{"$f":"IF(dotaznik_data2!$F11=\"trekové\",1,0)","v":0},{"$f":"IF(dotaznik_data2!$F11=\"crossové\",1,0)","v":0},{"$f":"IF(dotaznik_data2!$F11=\"BMX\",1,0)","v":0}]
[null,null,null,null,null,null,null,11,{"$f":"IF(dotaznik_data2!$F12=\"silniční\",1,0)","v":0},{"$f":"IF(dotaznik_data2!$F12=\"horské\",1,0)","v":1},{"$f":"IF(dotaznik_data2!$F12=\"trekové\",1,0)","v":0},{"$f":"IF(dotaznik_data2!$F12=\"crossové\",1,0)","v":0},{"$f":"IF(dotaznik_data2!$F12=\"BMX\",1,0)","v":0}]
[null,null,null,null,null,null,null,12,{"$f":"IF(dotaznik_data2!$F13=\"silniční\",1,0)","v":0},{"$f":"IF(dotaznik_data2!$F13=\"horské\",1,0)","v":0},{"$f":"IF(dotaznik_data2!$F13=\"trekové\",1,0)","v":0},{"$f":"IF(dotaznik_data2!$F13=\"crossové\",1,0)","v":1},{"$f":"IF(dotaznik_data2!$F13=\"BMX\",1,0)","v":0}]
[null,null,null,null,null,null,null,13,{"$f":"IF(dotaznik_data2!$F14=\"silniční\",1,0)","v":1},{"$f":"IF(dotaznik_data2!$F14=\"horské\",1,0)","v":0},{"$f":"IF(dotaznik_data2!$F14=\"trekové\",1,0)","v":0},{"$f":"IF(dotaznik_data2!$F14=\"crossové\",1,0)","v":0},{"$f":"IF(dotaznik_data2!$F14=\"BMX\",1,0)","v":0}]
[null,null,null,null,null,null,null,14,{"$f":"IF(dotaznik_data2!$F15=\"silniční\",1,0)","v":0},{"$f":"IF(dotaznik_data2!$F15=\"horské\",1,0)","v":0},{"$f":"IF(dotaznik_data2!$F15=\"trekové\",1,0)","v":1},{"$f":"IF(dotaznik_data2!$F15=\"crossové\",1,0)","v":0},{"$f":"IF(dotaznik_data2!$F15=\"BMX\",1,0)","v":0}]
[null,null,null,null,null,null,null,15,{"$f":"IF(dotaznik_data2!$F16=\"silniční\",1,0)","v":0},{"$f":"IF(dotaznik_data2!$F16=\"horské\",1,0)","v":0},{"$f":"IF(dotaznik_data2!$F16=\"trekové\",1,0)","v":0},{"$f":"IF(dotaznik_data2!$F16=\"crossové\",1,0)","v":0},{"$f":"IF(dotaznik_data2!$F16=\"BMX\",1,0)","v":0}]
[null,null,null,null,null,null,null,16,{"$f":"IF(dotaznik_data2!$F17=\"silniční\",1,0)","v":0},{"$f":"IF(dotaznik_data2!$F17=\"horské\",1,0)","v":0},{"$f":"IF(dotaznik_data2!$F17=\"trekové\",1,0)","v":1},{"$f":"IF(dotaznik_data2!$F17=\"crossové\",1,0)","v":0},{"$f":"IF(dotaznik_data2!$F17=\"BMX\",1,0)","v":0}]
[null,null,null,null,null,null,null,17,{"$f":"IF(dotaznik_data2!$F18=\"silniční\",1,0)","v":1},{"$f":"IF(dotaznik_data2!$F18=\"horské\",1,0)","v":0},{"$f":"IF(dotaznik_data2!$F18=\"trekové\",1,0)","v":0},{"$f":"IF(dotaznik_data2!$F18=\"crossové\",1,0)","v":0},{"$f":"IF(dotaznik_data2!$F18=\"BMX\",1,0)","v":0}]
[null,null,null,null,null,null,null,18,{"$f":"IF(dotaznik_data2!$F19=\"silniční\",1,0)","v":0},{"$f":"IF(dotaznik_data2!$F19=\"horské\",1,0)","v":0},{"$f":"IF(dotaznik_data2!$F19=\"trekové\",1,0)","v":1},{"$f":"IF(dotaznik_data2!$F19=\"crossové\",1,0)","v":0},{"$f":"IF(dotaznik_data2!$F19=\"BMX\",1,0)","v":0}]
[null,null,null,null,null,null,null,19,{"$f":"IF(dotaznik_data2!$F20=\"silniční\",1,0)","v":0},{"$f":"IF(dotaznik_data2!$F20=\"horské\",1,0)","v":0},{"$f":"IF(dotaznik_data2!$F20=\"trekové\",1,0)","v":0},{"$f":"IF(dotaznik_data2!$F20=\"crossové\",1,0)","v":0},{"$f":"IF(dotaznik_data2!$F20=\"BMX\",1,0)","v":1}]
[null,null,null,null,null,null,null,20,{"$f":"IF(dotaznik_data2!$F21=\"silniční\",1,0)","v":1},{"$f":"IF(dotaznik_data2!$F21=\"horské\",1,0)","v":0},{"$f":"IF(dotaznik_data2!$F21=\"trekové\",1,0)","v":0},{"$f":"IF(dotaznik_data2!$F21=\"crossové\",1,0)","v":0},{"$f":"IF(dotaznik_data2!$F21=\"BMX\",1,0)","v":0}]
[null,null,null,null,null,null,null,21,{"$f":"IF(dotaznik_data2!$F22=\"silniční\",1,0)","v":0},{"$f":"IF(dotaznik_data2!$F22=\"horské\",1,0)","v":1},{"$f":"IF(dotaznik_data2!$F22=\"trekové\",1,0)","v":0},{"$f":"IF(dotaznik_data2!$F22=\"crossové\",1,0)","v":0},{"$f":"IF(dotaznik_data2!$F22=\"BMX\",1,0)","v":0}]
[null,null,null,null,null,null,null,22,{"$f":"IF(dotaznik_data2!$F23=\"silniční\",1,0)","v":0},{"$f":"IF(dotaznik_data2!$F23=\"horské\",1,0)","v":0},{"$f":"IF(dotaznik_data2!$F23=\"trekové\",1,0)","v":0},{"$f":"IF(dotaznik_data2!$F23=\"crossové\",1,0)","v":0},{"$f":"IF(dotaznik_data2!$F23=\"BMX\",1,0)","v":0}]
[null,null,null,null,null,null,null,23,{"$f":"IF(dotaznik_data2!$F24=\"silniční\",1,0)","v":0},{"$f":"IF(dotaznik_data2!$F24=\"horské\",1,0)","v":0},{"$f":"IF(dotaznik_data2!$F24=\"trekové\",1,0)","v":1},{"$f":"IF(dotaznik_data2!$F24=\"crossové\",1,0)","v":0},{"$f":"IF(dotaznik_data2!$F24=\"BMX\",1,0)","v":0}]
[null,null,null,null,null,null,null,24,{"$f":"IF(dotaznik_data2!$F25=\"silniční\",1,0)","v":1},{"$f":"IF(dotaznik_data2!$F25=\"horské\",1,0)","v":0},{"$f":"IF(dotaznik_data2!$F25=\"trekové\",1,0)","v":0},{"$f":"IF(dotaznik_data2!$F25=\"crossové\",1,0)","v":0},{"$f":"IF(dotaznik_data2!$F25=\"BMX\",1,0)","v":0}]
[null,null,null,null,null,null,null,25,{"$f":"IF(dotaznik_data2!$F26=\"silniční\",1,0)","v":0},{"$f":"IF(dotaznik_data2!$F26=\"horské\",1,0)","v":0},{"$f":"IF(dotaznik_data2!$F26=\"trekové\",1,0)","v":0},{"$f":"IF(dotaznik_data2!$F26=\"crossové\",1,0)","v":0},{"$f":"IF(dotaznik_data2!$F26=\"BMX\",1,0)","v":0}]
[null,null,null,null,null,null,null,26,{"$f":"IF(dotaznik_data2!$F27=\"silniční\",1,0)","v":0},{"$f":"IF(dotaznik_data2!$F27=\"horské\",1,0)","v":0},{"$f":"IF(dotaznik_data2!$F27=\"trekové\",1,0)","v":1},{"$f":"IF(dotaznik_data2!$F27=\"crossové\",1,0)","v":0},{"$f":"IF(dotaznik_data2!$F27=\"BMX\",1,0)","v":0}]
[null,null,null,null,null,null,null,27,{"$f":"IF(dotaznik_data2!$F28=\"silniční\",1,0)","v":0},{"$f":"IF(dotaznik_data2!$F28=\"horské\",1,0)","v":1},{"$f":"IF(dotaznik_data2!$F28=\"trekové\",1,0)","v":0},{"$f":"IF(dotaznik_data2!$F28=\"crossové\",1,0)","v":0},{"$f":"IF(dotaznik_data2!$F28=\"BMX\",1,0)","v":0}]
[null,null,null,null,null,null,null,28,{"$f":"IF(dotaznik_data2!$F29=\"silniční\",1,0)","v":0},{"$f":"IF(dotaznik_data2!$F29=\"horské\",1,0)","v":0},{"$f":"IF(dotaznik_data2!$F29=\"trekové\",1,0)","v":0},{"$f":"IF(dotaznik_data2!$F29=\"crossové\",1,0)","v":0},{"$f":"IF(dotaznik_data2!$F29=\"BMX\",1,0)","v":1}]
[null,null,null,null,null,null,null,29,{"$f":"IF(dotaznik_data2!$F30=\"silniční\",1,0)","v":0},{"$f":"IF(dotaznik_data2!$F30=\"horské\",1,0)","v":1},{"$f":"IF(dotaznik_data2!$F30=\"trekové\",1,0)","v":0},{"$f":"IF(dotaznik_data2!$F30=\"crossové\",1,0)","v":0},{"$f":"IF(dotaznik_data2!$F30=\"BMX\",1,0)","v":0}]
[null,null,null,null,null,null,null,30,{"$f":"IF(dotaznik_data2!$F31=\"silniční\",1,0)","v":0},{"$f":"IF(dotaznik_data2!$F31=\"horské\",1,0)","v":0},{"$f":"IF(dotaznik_data2!$F31=\"trekové\",1,0)","v":0},{"$f":"IF(dotaznik_data2!$F31=\"crossové\",1,0)","v":1},{"$f":"IF(dotaznik_data2!$F31=\"BMX\",1,0)","v":0}]
[null,null,null,null,null,null,null,31,{"$f":"IF(dotaznik_data2!$F32=\"silniční\",1,0)","v":0},{"$f":"IF(dotaznik_data2!$F32=\"horské\",1,0)","v":0},{"$f":"IF(dotaznik_data2!$F32=\"trekové\",1,0)","v":0},{"$f":"IF(dotaznik_data2!$F32=\"crossové\",1,0)","v":0},{"$f":"IF(dotaznik_data2!$F32=\"BMX\",1,0)","v":0}]
[null,null,null,null,null,null,null,32,{"$f":"IF(dotaznik_data2!$F33=\"silniční\",1,0)","v":0},{"$f":"IF(dotaznik_data2!$F33=\"horské\",1,0)","v":1},{"$f":"IF(dotaznik_data2!$F33=\"trekové\",1,0)","v":0},{"$f":"IF(dotaznik_data2!$F33=\"crossové\",1,0)","v":0},{"$f":"IF(dotaznik_data2!$F33=\"BMX\",1,0)","v":0}]
[null,null,null,null,null,null,null,33,{"$f":"IF(dotaznik_data2!$F34=\"silniční\",1,0)","v":0},{"$f":"IF(dotaznik_data2!$F34=\"horské\",1,0)","v":1},{"$f":"IF(dotaznik_data2!$F34=\"trekové\",1,0)","v":0},{"$f":"IF(dotaznik_data2!$F34=\"crossové\",1,0)","v":0},{"$f":"IF(dotaznik_data2!$F34=\"BMX\",1,0)","v":0}]
[null,null,null,null,null,null,null,34,{"$f":"IF(dotaznik_data2!$F35=\"silniční\",1,0)","v":0},{"$f":"IF(dotaznik_data2!$F35=\"horské\",1,0)","v":0},{"$f":"IF(dotaznik_data2!$F35=\"trekové\",1,0)","v":1},{"$f":"IF(dotaznik_data2!$F35=\"crossové\",1,0)","v":0},{"$f":"IF(dotaznik_data2!$F35=\"BMX\",1,0)","v":0}]
[null,null,null,null,null,null,null,35,{"$f":"IF(dotaznik_data2!$F36=\"silniční\",1,0)","v":0},{"$f":"IF(dotaznik_data2!$F36=\"horské\",1,0)","v":1},{"$f":"IF(dotaznik_data2!$F36=\"trekové\",1,0)","v":0},{"$f":"IF(dotaznik_data2!$F36=\"crossové\",1,0)","v":0},{"$f":"IF(dotaznik_data2!$F36=\"BMX\",1,0)","v":0}]
[null,null,null,null,null,null,null,36,{"$f":"IF(dotaznik_data2!$F37=\"silniční\",1,0)","v":0},{"$f":"IF(dotaznik_data2!$F37=\"horské\",1,0)","v":1},{"$f":"IF(dotaznik_data2!$F37=\"trekové\",1,0)","v":0},{"$f":"IF(dotaznik_data2!$F37=\"crossové\",1,0)","v":0},{"$f":"IF(dotaznik_data2!$F37=\"BMX\",1,0)","v":0}]
[null,null,null,null,null,null,null,37,{"$f":"IF(dotaznik_data2!$F38=\"silniční\",1,0)","v":0},{"$f":"IF(dotaznik_data2!$F38=\"horské\",1,0)","v":0},{"$f":"IF(dotaznik_data2!$F38=\"trekové\",1,0)","v":0},{"$f":"IF(dotaznik_data2!$F38=\"crossové\",1,0)","v":1},{"$f":"IF(dotaznik_data2!$F38=\"BMX\",1,0)","v":0}]
[null,null,null,null,null,null,null,38,{"$f":"IF(dotaznik_data2!$F39=\"silniční\",1,0)","v":0},{"$f":"IF(dotaznik_data2!$F39=\"horské\",1,0)","v":1},{"$f":"IF(dotaznik_data2!$F39=\"trekové\",1,0)","v":0},{"$f":"IF(dotaznik_data2!$F39=\"crossové\",1,0)","v":0},{"$f":"IF(dotaznik_data2!$F39=\"BMX\",1,0)","v":0}]
[null,null,null,null,null,null,null,39,{"$f":"IF(dotaznik_data2!$F40=\"silniční\",1,0)","v":0},{"$f":"IF(dotaznik_data2!$F40=\"horské\",1,0)","v":0},{"$f":"IF(dotaznik_data2!$F40=\"trekové\",1,0)","v":1},{"$f":"IF(dotaznik_data2!$F40=\"crossové\",1,0)","v":0},{"$f":"IF(dotaznik_data2!$F40=\"BMX\",1,0)","v":0}]
[null,null,null,null,null,null,null,40,{"$f":"IF(dotaznik_data2!$F41=\"silniční\",1,0)","v":1},{"$f":"IF(dotaznik_data2!$F41=\"horské\",1,0)","v":0},{"$f":"IF(dotaznik_data2!$F41=\"trekové\",1,0)","v":0},{"$f":"IF(dotaznik_data2!$F41=\"crossové\",1,0)","v":0},{"$f":"IF(dotaznik_data2!$F41=\"BMX\",1,0)","v":0}]
[null,null,null,null,null,null,null,41,{"$f":"IF(dotaznik_data2!$F42=\"silniční\",1,0)","v":0},{"$f":"IF(dotaznik_data2!$F42=\"horské\",1,0)","v":1},{"$f":"IF(dotaznik_data2!$F42=\"trekové\",1,0)","v":0},{"$f":"IF(dotaznik_data2!$F42=\"crossové\",1,0)","v":0},{"$f":"IF(dotaznik_data2!$F42=\"BMX\",1,0)","v":0}]
[null,null,null,null,null,null,null,42,{"$f":"IF(dotaznik_data2!$F43=\"silniční\",1,0)","v":0},{"$f":"IF(dotaznik_data2!$F43=\"horské\",1,0)","v":1},{"$f":"IF(dotaznik_data2!$F43=\"trekové\",1,0)","v":0},{"$f":"IF(dotaznik_data2!$F43=\"crossové\",1,0)","v":0},{"$f":"IF(dotaznik_data2!$F43=\"BMX\",1,0)","v":0}]
[null,null,null,null,null,null,null,43,{"$f":"IF(dotaznik_data2!$F44=\"silniční\",1,0)","v":0},{"$f":"IF(dotaznik_data2!$F44=\"horské\",1,0)","v":1},{"$f":"IF(dotaznik_data2!$F44=\"trekové\",1,0)","v":0},{"$f":"IF(dotaznik_data2!$F44=\"crossové\",1,0)","v":0},{"$f":"IF(dotaznik_data2!$F44=\"BMX\",1,0)","v":0}]
[null,null,null,null,null,null,null,44,{"$f":"IF(dotaznik_data2!$F45=\"silniční\",1,0)","v":0},{"$f":"IF(dotaznik_data2!$F45=\"horské\",1,0)","v":1},{"$f":"IF(dotaznik_data2!$F45=\"trekové\",1,0)","v":0},{"$f":"IF(dotaznik_data2!$F45=\"crossové\",1,0)","v":0},{"$f":"IF(dotaznik_data2!$F45=\"BMX\",1,0)","v":0}]
[null,null,null,null,null,null,null,45,{"$f":"IF(dotaznik_data2!$F46=\"silniční\",1,0)","v":0},{"$f":"IF(dotaznik_data2!$F46=\"horské\",1,0)","v":0},{"$f":"IF(dotaznik_data2!$F46=\"trekové\",1,0)","v":0},{"$f":"IF(dotaznik_data2!$F46=\"crossové\",1,0)","v":0},{"$f":"IF(dotaznik_data2!$F46=\"BMX\",1,0)","v":1}]
[null,null,null,null,null,null,null,46,{"$f":"IF(dotaznik_data2!$F47=\"silniční\",1,0)","v":0},{"$f":"IF(dotaznik_data2!$F47=\"horské\",1,0)","v":0},{"$f":"IF(dotaznik_data2!$F47=\"trekové\",1,0)","v":1},{"$f":"IF(dotaznik_data2!$F47=\"crossové\",1,0)","v":0},{"$f":"IF(dotaznik_data2!$F47=\"BMX\",1,0)","v":0}]
[null,null,null,null,null,null,null,47,{"$f":"IF(dotaznik_data2!$F48=\"silniční\",1,0)","v":1},{"$f":"IF(dotaznik_data2!$F48=\"horské\",1,0)","v":0},{"$f":"IF(dotaznik_data2!$F48=\"trekové\",1,0)","v":0},{"$f":"IF(dotaznik_data2!$F48=\"crossové\",1,0)","v":0},{"$f":"IF(dotaznik_data2!$F48=\"BMX\",1,0)","v":0}]
[null,null,null,null,null,null,null,48,{"$f":"IF(dotaznik_data2!$F49=\"silniční\",1,0)","v":1},{"$f":"IF(dotaznik_data2!$F49=\"horské\",1,0)","v":0},{"$f":"IF(dotaznik_data2!$F49=\"trekové\",1,0)","v":0},{"$f":"IF(dotaznik_data2!$F49=\"crossové\",1,0)","v":0},{"$f":"IF(dotaznik_data2!$F49=\"BMX\",1,0)","v":0}]
[null,null,null,null,null,null,null,49,{"$f":"IF(dotaznik_data2!$F50=\"silniční\",1,0)","v":0},{"$f":"IF(dotaznik_data2!$F50=\"horské\",1,0)","v":0},{"$f":"IF(dotaznik_data2!$F50=\"trekové\",1,0)","v":1},{"$f":"IF(dotaznik_data2!$F50=\"crossové\",1,0)","v":0},{"$f":"IF(dotaznik_data2!$F50=\"BMX\",1,0)","v":0}]
[null,null,null,null,null,null,null,50,{"$f":"IF(dotaznik_data2!$F51=\"silniční\",1,0)","v":1},{"$f":"IF(dotaznik_data2!$F51=\"horské\",1,0)","v":0},{"$f":"IF(dotaznik_data2!$F51=\"trekové\",1,0)","v":0},{"$f":"IF(dotaznik_data2!$F51=\"crossové\",1,0)","v":0},{"$f":"IF(dotaznik_data2!$F51=\"BMX\",1,0)","v":0}]
[]
[]
[6,"Co bylo rozhodujícím faktorem při výběru kola?",null,null,null,null,"cena"]
[null,null,null,null,null,null,"značka"]
[null,null,null,null,null,null,"doporučení"]
[null,null,null,null,null,null,"vlastní zkušenost"]
[null,null,null,null,null,null,"dostupnost","četnost",{"$f":"COUNTIF(I285:I334,1)","v":14},{"$f":"COUNTIF(J285:J334,1)","v":8},{"$f":"COUNTIF(L285:L334,1)","v":9},{"$f":"COUNTIF(L285:L334,1)","v":9},{"$f":"COUNTIF(M285:M334,1)","v":0},{"$f":"COUNTIF(N285:N334,1)","v":6}]
[null,null,null,null,null,null,"vzhled","odpověď","cena","značka","vlastní zkušenost","doporučení","dostupnost","vzhled"]
[null,null,null,null,null,null,"respondent číslo",1,{"$f":"IF(dotaznik_data2!$G2=\"cena\",1,0)","v":0},{"$f":"IF(dotaznik_data2!$G2=\"značka\",1,0)","v":0},{"$f":"IF(dotaznik_data2!$G2=\"vlastní zkušenost\",1,0)","v":0},{"$f":"IF(dotaznik_data2!$G2=\"doporučení\",1,0)","v":1},{"$f":"IF(dotaznik_data2!$G2=\"dostupnost\",1,0)","v":0},{"$f":"IF(dotaznik_data2!$G2=\"vzhled\",1,0)","v":0}]
[null,null,null,null,null,null,null,2,{"$f":"IF(dotaznik_data2!$G3=\"cena\",1,0)","v":0},{"$f":"IF(dotaznik_data2!$G3=\"značka\",1,0)","v":0},{"$f":"IF(dotaznik_data2!$G3=\"vlastní zkušenost\",1,0)","v":0},{"$f":"IF(dotaznik_data2!$G3=\"doporučení\",1,0)","v":0},{"$f":"IF(dotaznik_data2!$G3=\"dostupnost\",1,0)","v":0},{"$f":"IF(dotaznik_data2!$G3=\"vzhled\",1,0)","v":1}]
[null,null,null,null,null,null,null,3,{"$f":"IF(dotaznik_data2!$G4=\"cena\",1,0)","v":0},{"$f":"IF(dotaznik_data2!$G4=\"značka\",1,0)","v":1},{"$f":"IF(dotaznik_data2!$G4=\"vlastní zkušenost\",1,0)","v":0},{"$f":"IF(dotaznik_data2!$G4=\"doporučení\",1,0)","v":0},{"$f":"IF(dotaznik_data2!$G4=\"dostupnost\",1,0)","v":0},{"$f":"IF(dotaznik_data2!$G4=\"vzhled\",1,0)","v":0}]
[null,null,null,null,null,null,null,4,{"$f":"IF(dotaznik_data2!$G5=\"cena\",1,0)","v":0},{"$f":"IF(dotaznik_data2!$G5=\"značka\",1,0)","v":0},{"$f":"IF(dotaznik_data2!$G5=\"vlastní zkušenost\",1,0)","v":1},{"$f":"IF(dotaznik_data2!$G5=\"doporučení\",1,0)","v":0},{"$f":"IF(dotaznik_data2!$G5=\"dostupnost\",1,0)","v":0},{"$f":"IF(dotaznik_data2!$G5=\"vzhled\",1,0)","v":0}]
[null,null,null,null,null,null,null,5,{"$f":"IF(dotaznik_data2!$G6=\"cena\",1,0)","v":0},{"$f":"IF(dotaznik_data2!$G6=\"značka\",1,0)","v":1},{"$f":"IF(dotaznik_data2!$G6=\"vlastní zkušenost\",1,0)","v":0},{"$f":"IF(dotaznik_data2!$G6=\"doporučení\",1,0)","v":0},{"$f":"IF(dotaznik_data2!$G6=\"dostupnost\",1,0)","v":0},{"$f":"IF(dotaznik_data2!$G6=\"vzhled\",1,0)","v":0}]
[null,null,null,null,null,null,null,6,{"$f":"IF(dotaznik_data2!$G7=\"cena\",1,0)","v":0},{"$f":"IF(dotaznik_data2!$G7=\"značka\",1,0)","v":0},{"$f":"IF(dotaznik_data2!$G7=\"vlastní zkušenost\",1,0)","v":1},{"$f":"IF(dotaznik_data2!$G7=\"doporučení\",1,0)","v":0},{"$f":"IF(dotaznik_data2!$G7=\"dostupnost\",1,0)","v":0},{"$f":"IF(dotaznik_data2!$G7=\"vzhled\",1,0)","v":0}]
[null,null,null,null,null,null,null,7,{"$f":"IF(dotaznik_data2!$G8=\"cena\",1,0)","v":1},{"$f":"IF(dotaznik_data2!$G8=\"značka\",1,0)","v":0},{"$f":"IF(dotaznik_data2!$G8=\"vlastní zkušenost\",1,0)","v":0},{"$f":"IF(dotaznik_data2!$G8=\"doporučení\",1,0)","v":0},{"$f":"IF(dotaznik_data2!$G8=\"dostupnost\",1,0)","v":0},{"$f":"IF(dotaznik_data2!$G8=\"vzhled\",1,0)","v":0}]
[null,null,null,null,null,null,null,8,{"$f":"IF(dotaznik_data2!$G9=\"cena\",1,0)","v":0},{"$f":"IF(dotaznik_data2!$G9=\"značka\",1,0)","v":0},{"$f":"IF(dotaznik_data2!$G9=\"vlastní zkušenost\",1,0)","v":0},{"$f":"IF(dotaznik_data2!$G9=\"doporučení\",1,0)","v":1},{"$f":"IF(dotaznik_data2!$G9=\"dostupnost\",1,0)","v":0},{"$f":"IF(dotaznik_data2!$G9=\"vzhled\",1,0)","v":0}]
[null,null,null,null,null,null,null,9,{"$f":"IF(dotaznik_data2!$G10=\"cena\",1,0)","v":0},{"$f":"IF(dotaznik_data2!$G10=\"značka\",1,0)","v":0},{"$f":"IF(dotaznik_data2!$G10=\"vlastní zkušenost\",1,0)","v":0},{"$f":"IF(dotaznik_data2!$G10=\"doporučení\",1,0)","v":0},{"$f":"IF(dotaznik_data2!$G10=\"dostupnost\",1,0)","v":0},{"$f":"IF(dotaznik_data2!$G10=\"vzhled\",1,0)","v":0}]
[null,null,null,null,null,null,null,10,{"$f":"IF(dotaznik_data2!$G11=\"cena\",1,0)","v":1},{"$f":"IF(dotaznik_data2!$G11=\"značka\",1,0)","v":0},{"$f":"IF(dotaznik_data2!$G11=\"vlastní zkušenost\",1,0)","v":0},{"$f":"IF(dotaznik_data2!$G11=\"doporučení\",1,0)","v":0},{"$f":"IF(dotaznik_data2!$G11=\"dostupnost\",1,0)","v":0},{"$f":"IF(dotaznik_data2!$G11=\"vzhled\",1,0)","v":0}]
[null,null,null,null,null,null,null,11,{"$f":"IF(dotaznik_data2!$G12=\"cena\",1,0)","v":0},{"$f":"IF(dotaznik_data2!$G12=\"značka\",1,0)","v":0},{"$f":"IF(dotaznik_data2!$G12=\"vlastní zkušenost\",1,0)","v":0},{"$f":"IF(dotaznik_data2!$G12=\"doporučení\",1,0)","v":1},{"$f":"IF(dotaznik_data2!$G12=\"dostupnost\",1,0)","v":0},{"$f":"IF(dotaznik_data2!$G12=\"vzhled\",1,0)","v":0}]
[null,null,null,null,null,null,null,12,{"$f":"IF(dotaznik_data2!$G13=\"cena\",1,0)","v":1},{"$f":"IF(dotaznik_data2!$G13=\"značka\",1,0)","v":0},{"$f":"IF(dotaznik_data2!$G13=\"vlastní zkušenost\",1,0)","v":0},{"$f":"IF(dotaznik_data2!$G13=\"doporučení\",1,0)","v":0},{"$f":"IF(dotaznik_data2!$G13=\"dostupnost\",1,0)","v":0},{"$f":"IF(dotaznik_data2!$G13=\"vzhled\",1,0)","v":0}]
[null,null,null,null,null,null,null,13,{"$f":"IF(dotaznik_data2!$G14=\"cena\",1,0)","v":0},{"$f":"IF(dotaznik_data2!$G14=\"značka\",1,0)","v":0},{"$f":"IF(dotaznik_data2!$G14=\"vlastní zkušenost\",1,0)","v":0},{"$f":"IF(dotaznik_data2!$G14=\"doporučení\",1,0)","v":1},{"$f":"IF(dotaznik_data2!$G14=\"dostupnost\",1,0)","v":0},{"$f":"IF(dotaznik_data2!$G14=\"vzhled\",1,0)","v":0}]
[null,null,null,null,null,null,null,14,{"$f":"IF(dotaznik_data2!$G15=\"cena\",1,0)","v":0},{"$f":"IF(dotaznik_data2!$G15=\"značka\",1,0)","v":0},{"$f":"IF(dotaznik_data2!$G15=\"vlastní zkušenost\",1,0)","v":1},{"$f":"IF(dotaznik_data2!$G15=\"doporučení\",1,0)","v":0},{"$f":"IF(dotaznik_data2!$G15=\"dostupnost\",1,0)","v":0},{"$f":"IF(dotaznik_data2!$G15=\"vzhled\",1,0)","v":0}]
[null,null,null,null,null,null,null,15,{"$f":"IF(dotaznik_data2!$G16=\"cena\",1,0)","v":0},{"$f":"IF(dotaznik_data2!$G16=\"značka\",1,0)","v":0},{"$f":"IF(dotaznik_data2!$G16=\"vlastní zkušenost\",1,0)","v":0},{"$f":"IF(dotaznik_data2!$G16=\"doporučení\",1,0)","v":0},{"$f":"IF(dotaznik_data2!$G16=\"dostupnost\",1,0)","v":0},{"$f":"IF(dotaznik_data2!$G16=\"vzhled\",1,0)","v":0}]
[null,null,null,null,null,null,null,16,{"$f":"IF(dotaznik_data2!$G17=\"cena\",1,0)","v":1},{"$f":"IF(dotaznik_data2!$G17=\"značka\",1,0)","v":0},{"$f":"IF(dotaznik_data2!$G17=\"vlastní zkušenost\",1,0)","v":0},{"$f":"IF(dotaznik_data2!$G17=\"doporučení\",1,0)","v":0},{"$f":"IF(dotaznik_data2!$G17=\"dostupnost\",1,0)","v":0},{"$f":"IF(dotaznik_data2!$G17=\"vzhled\",1,0)","v":0}]
[null,null,null,null,null,null,null,17,{"$f":"IF(dotaznik_data2!$G18=\"cena\",1,0)","v":0},{"$f":"IF(dotaznik_data2!$G18=\"značka\",1,0)","v":0},{"$f":"IF(dotaznik_data2!$G18=\"vlastní zkušenost\",1,0)","v":1},{"$f":"IF(dotaznik_data2!$G18=\"doporučení\",1,0)","v":0},{"$f":"IF(dotaznik_data2!$G18=\"dostupnost\",1,0)","v":0},{"$f":"IF(dotaznik_data2!$G18=\"vzhled\",1,0)","v":0}]
[null,null,null,null,null,null,null,18,{"$f":"IF(dotaznik_data2!$G19=\"cena\",1,0)","v":1},{"$f":"IF(dotaznik_data2!$G19=\"značka\",1,0)","v":0},{"$f":"IF(dotaznik_data2!$G19=\"vlastní zkušenost\",1,0)","v":0},{"$f":"IF(dotaznik_data2!$G19=\"doporučení\",1,0)","v":0},{"$f":"IF(dotaznik_data2!$G19=\"dostupnost\",1,0)","v":0},{"$f":"IF(dotaznik_data2!$G19=\"vzhled\",1,0)","v":0}]
[null,null,null,null,null,null,null,19,{"$f":"IF(dotaznik_data2!$G20=\"cena\",1,0)","v":0},{"$f":"IF(dotaznik_data2!$G20=\"značka\",1,0)","v":0},{"$f":"IF(dotaznik_data2!$G20=\"vlastní zkušenost\",1,0)","v":0},{"$f":"IF(dotaznik_data2!$G20=\"doporučení\",1,0)","v":1},{"$f":"IF(dotaznik_data2!$G20=\"dostupnost\",1,0)","v":0},{"$f":"IF(dotaznik_data2!$G20=\"vzhled\",1,0)","v":0}]
[null,null,null,null,null,null,null,20,{"$f":"IF(dotaznik_data2!$G21=\"cena\",1,0)","v":1},{"$f":"IF(dotaznik_data2!$G21=\"značka\",1,0)","v":0},{"$f":"IF(dotaznik_data2!$G21=\"vlastní zkušenost\",1,0)","v":0},{"$f":"IF(dotaznik_data2!$G21=\"doporučení\",1,0)","v":0},{"$f":"IF(dotaznik_data2!$G21=\"dostupnost\",1,0)","v":0},{"$f":"IF(dotaznik_data2!$G21=\"vzhled\",1,0)","v":0}]
[null,null,null,null,null,null,null,21,{"$f":"IF(dotaznik_data2!$G22=\"cena\",1,0)","v":1},{"$f":"IF(dotaznik_data2!$G22=\"značka\",1,0)","v":0},{"$f":"IF(dotaznik_data2!$G22=\"vlastní zkušenost\",1,0)","v":0},{"$f":"IF(dotaznik_data2!$G22=\"doporučení\",1,0)","v":0},{"$f":"IF(dotaznik_data2!$G22=\"dostupnost\",1,0)","v":0},{"$f":"IF(dotaznik_data2!$G22=\"vzhled\",1,0)","v":0}]
[null,null,null,null,null,null,null,22,{"$f":"IF(dotaznik_data2!$G23=\"cena\",1,0)","v":0},{"$f":"IF(dotaznik_data2!$G23=\"značka\",1,0)","v":0},{"$f":"IF(dotaznik_data2!$G23=\"vlastní zkušenost\",1,0)","v":0},{"$f":"IF(dotaznik_data2!$G23=\"doporučení\",1,0)","v":0},{"$f":"IF(dotaznik_data2!$G23=\"dostupnost\",1,0)","v":0},{"$f":"IF(dotaznik_data2!$G23=\"vzhled\",1,0)","v":0}]
[null,null,null,null,null,null,null,23,{"$f":"IF(dotaznik_data2!$G24=\"cena\",1,0)","v":1},{"$f":"IF(dotaznik_data2!$G24=\"značka\",1,0)","v":0},{"$f":"IF(dotaznik_data2!$G24=\"vlastní zkušenost\",1,0)","v":0},{"$f":"IF(dotaznik_data2!$G24=\"doporučení\",1,0)","v":0},{"$f":"IF(dotaznik_data2!$G24=\"dostupnost\",1,0)","v":0},{"$f":"IF(dotaznik_data2!$G24=\"vzhled\",1,0)","v":0}]
[null,null,null,null,null,null,null,24,{"$f":"IF(dotaznik_data2!$G25=\"cena\",1,0)","v":0},{"$f":"IF(dotaznik_data2!$G25=\"značka\",1,0)","v":0},{"$f":"IF(dotaznik_data2!$G25=\"vlastní zkušenost\",1,0)","v":0},{"$f":"IF(dotaznik_data2!$G25=\"doporučení\",1,0)","v":1},{"$f":"IF(dotaznik_data2!$G25=\"dostupnost\",1,0)","v":0},{"$f":"IF(dotaznik_data2!$G25=\"vzhled\",1,0)","v":0}]
[null,null,null,null,null,null,null,25,{"$f":"IF(dotaznik_data2!$G26=\"cena\",1,0)","v":0},{"$f":"IF(dotaznik_data2!$G26=\"značka\",1,0)","v":0},{"$f":"IF(dotaznik_data2!$G26=\"vlastní zkušenost\",1,0)","v":0},{"$f":"IF(dotaznik_data2!$G26=\"doporučení\",1,0)","v":0},{"$f":"IF(dotaznik_data2!$G26=\"dostupnost\",1,0)","v":0},{"$f":"IF(dotaznik_data2!$G26=\"vzhled\",1,0)","v":0}]
[null,null,null,null,null,null,null,26,{"$f":"IF(dotaznik_data2!$G27=\"cena\",1,0)","v":0},{"$f":"IF(dotaznik_data2!$G27=\"značka\",1,0)","v":0},{"$f":"IF(dotaznik_data2!$G27=\"vlastní zkušenost\",1,0)","v":1},{"$f":"IF(dotaznik_data2!$G27=\"doporučení\",1,0)","v":0},{"$f":"IF(dotaznik_data2!$G27=\"dostupnost\",1,0)","v":0},{"$f":"IF(dotaznik_data2!$G27=\"vzhled\",1,0)","v":0}]
[null,null,null,null,null,null,null,27,{"$f":"IF(dotaznik_data2!$G28=\"cena\",1,0)","v":0},{"$f":"IF(dotaznik_data2!$G28=\"značka\",1,0)","v":0},{"$f":"IF(dotaznik_data2!$G28=\"vlastní zkušenost\",1,0)","v":0},{"$f":"IF(dotaznik_data2!$G28=\"doporučení\",1,0)","v":0},{"$f":"IF(dotaznik_data2!$G28=\"dostupnost\",1,0)","v":0},{"$f":"IF(dotaznik_data2!$G28=\"vzhled\",1,0)","v":1}]
[null,null,null,null,null,null,null,28,{"$f":"IF(dotaznik_data2!$G29=\"cena\",1,0)","v":0},{"$f":"IF(dotaznik_data2!$G29=\"značka\",1,0)","v":0},{"$f":"IF(dotaznik_data2!$G29=\"vlastní zkušenost\",1,0)","v":1},{"$f":"IF(dotaznik_data2!$G29=\"doporučení\",1,0)","v":0},{"$f":"IF(dotaznik_data2!$G29=\"dostupnost\",1,0)","v":0},{"$f":"IF(dotaznik_data2!$G29=\"vzhled\",1,0)","v":0}]
[null,null,null,null,null,null,null,29,{"$f":"IF(dotaznik_data2!$G30=\"cena\",1,0)","v":0},{"$f":"IF(dotaznik_data2!$G30=\"značka\",1,0)","v":0},{"$f":"IF(dotaznik_data2!$G30=\"vlastní zkušenost\",1,0)","v":0},{"$f":"IF(dotaznik_data2!$G30=\"doporučení\",1,0)","v":0},{"$f":"IF(dotaznik_data2!$G30=\"dostupnost\",1,0)","v":0},{"$f":"IF(dotaznik_data2!$G30=\"vzhled\",1,0)","v":1}]
[null,null,null,null,null,null,null,30,{"$f":"IF(dotaznik_data2!$G31=\"cena\",1,0)","v":0},{"$f":"IF(dotaznik_data2!$G31=\"značka\",1,0)","v":0},{"$f":"IF(dotaznik_data2!$G31=\"vlastní zkušenost\",1,0)","v":0},{"$f":"IF(dotaznik_data2!$G31=\"doporučení\",1,0)","v":0},{"$f":"IF(dotaznik_data2!$G31=\"dostupnost\",1,0)","v":0},{"$f":"IF(dotaznik_data2!$G31=\"vzhled\",1,0)","v":1}]
[null,null,null,null,null,null,null,31,{"$f":"IF(dotaznik_data2!$G32=\"cena\",1,0)","v":0},{"$f":"IF(dotaznik_data2!$G32=\"značka\",1,0)","v":0},{"$f":"IF(dotaznik_data2!$G32=\"vlastní zkušenost\",1,0)","v":0},{"$f":"IF(dotaznik_data2!$G32=\"doporučení\",1,0)","v":0},{"$f":"IF(dotaznik_data2!$G32=\"dostupnost\",1,0)","v":0},{"$f":"IF(dotaznik_data2!$G32=\"vzhled\",1,0)","v":0}]
[null,null,null,null,null,null,null,32,{"$f":"IF(dotaznik_data2!$G33=\"cena\",1,0)","v":1},{"$f":"IF(dotaznik_data2!$G33=\"značka\",1,0)","v":0},{"$f":"IF(dotaznik_data2!$G33=\"vlastní zkušenost\",1,0)","v":0},{"$f":"IF(dotaznik_data2!$G33=\"doporučení\",1,0)","v":0},{"$f":"IF(dotaznik_data2!$G33=\"dostupnost\",1,0)","v":0},{"$f":"IF(dotaznik_data2!$G33=\"vzhled\",1,0)","v":0}]
[null,null,null,null,null,null,null,33,{"$f":"IF(dotaznik_data2!$G34=\"cena\",1,0)","v":1},{"$f":"IF(dotaznik_data2!$G34=\"značka\",1,0)","v":0},{"$f":"IF(dotaznik_data2!$G34=\"vlastní zkušenost\",1,0)","v":0},{"$f":"IF(dotaznik_data2!$G34=\"doporučení\",1,0)","v":0},{"$f":"IF(dotaznik_data2!$G34=\"dostupnost\",1,0)","v":0},{"$f":"IF(dotaznik_data2!$G34=\"vzhled\",1,0)","v":0}]
[null,null,null,null,null,null,null,34,{"$f":"IF(dotaznik_data2!$G35=\"cena\",1,0)","v":0},{"$f":"IF(dotaznik_data2!$G35=\"značka\",1,0)","v":0},{"$f":"IF(dotaznik_data2!$G35=\"vlastní zkušenost\",1,0)","v":1},{"$f":"IF(dotaznik_data2!$G35=\"doporučení\",1,0)","v":0},{"$f":"IF(dotaznik_data2!$G35=\"dostupnost\",1,0)","v":0},{"$f":"IF(dotaznik_data2!$G35=\"vzhled\",1,0)","v":0}]
[null,null,null,null,null,null,null,35,{"$f":"IF(dotaznik_data2!$G36=\"cena\",1,0)","v":0},{"$f":"IF(dotaznik_data2!$G36=\"značka\",1,0)","v":1},{"$f":"IF(dotaznik_data2!$G36=\"vlastní zkušenost\",1,0)","v":0},{"$f":"IF(dotaznik_data2!$G36=\"doporučení\",1,0)","v":0},{"$f":"IF(dotaznik_data2!$G36=\"dostupnost\",1,0)","v":0},{"$f":"IF(dotaznik_data2!$G36=\"vzhled\",1,0)","v":0}]
[null,null,null,null,null,null,null,36,{"$f":"IF(dotaznik_data2!$G37=\"cena\",1,0)","v":0},{"$f":"IF(dotaznik_data2!$G37=\"značka\",1,0)","v":0},{"$f":"IF(dotaznik_data2!$G37=\"vlastní zkušenost\",1,0)","v":0},{"$f":"IF(dotaznik_data2!$G37=\"doporučení\",1,0)","v":0},{"$f":"IF(dotaznik_data2!$G37=\"dostupnost\",1,0)","v":0},{"$f":"IF(dotaznik_data2!$G37=\"vzhled\",1,0)","v":1}]
[null,null,null,null,null,null,null,37,{"$f":"IF(dotaznik_data2!$G38=\"cena\",1,0)","v":1},{"$f":"IF(dotaznik_data2!$G38=\"značka\",1,0)","v":0},{"$f":"IF(dotaznik_data2!$G38=\"vlastní zkušenost\",1,0)","v":0},{"$f":"IF(dotaznik_data2!$G38=\"doporučení\",1,0)","v":0},{"$f":"IF(dotaznik_data2!$G38=\"dostupnost\",1,0)","v":0},{"$f":"IF(dotaznik_data2!$G38=\"vzhled\",1,0)","v":0}]
[null,null,null,null,null,null,null,38,{"$f":"IF(dotaznik_data2!$G39=\"cena\",1,0)","v":1},{"$f":"IF(dotaznik_data2!$G39=\"značka\",1,0)","v":0},{"$f":"IF(dotaznik_data2!$G39=\"vlastní zkušenost\",1,0)","v":0},{"$f":"IF(dotaznik_data2!$G39=\"doporučení\",1,0)","v":0},{"$f":"IF(dotaznik_data2!$G39=\"dostupnost\",1,0)","v":0},{"$f":"IF(dotaznik_data2!$G39=\"vzhled\",1,0)","v":0}]
[null,null,null,null,null,null,null,39,{"$f":"IF(dotaznik_data2!$G40=\"cena\",1,0)","v":0},{"$f":"IF(dotaznik_data2!$G40=\"značka\",1,0)","v":0},{"$f":"IF(dotaznik_data2!$G40=\"vlastní zkušenost\",1,0)","v":0},{"$f":"IF(dotaznik_data2!$G40=\"doporučení\",1,0)","v":1},{"$f":"IF(dotaznik_data2!$G40=\"dostupnost\",1,0)","v":0},{"$f":"IF(dotaznik_data2!$G40=\"vzhled\",1,0)","v":0}]
[null,null,null,null,null,null,null,40,{"$f":"IF(dotaznik_data2!$G41=\"cena\",1,0)","v":0},{"$f":"IF(dotaznik_data2!$G41=\"značka\",1,0)","v":0},{"$f":"IF(dotaznik_data2!$G41=\"vlastní zkušenost\",1,0)","v":1},{"$f":"IF(dotaznik_data2!$G41=\"doporučení\",1,0)","v":0},{"$f":"IF(dotaznik_data2!$G41=\"dostupnost\",1,0)","v":0},{"$f":"IF(dotaznik_data2!$G41=\"vzhled\",1,0)","v":0}]
[null,null,null,null,null,null,null,41,{"$f":"IF(dotaznik_data2!$G42=\"cena\",1,0)","v":0},{"$f":"IF(dotaznik_data2!$G42=\"značka\",1,0)","v":1},{"$f":"IF(dotaznik_data2!$G42=\"vlastní zkušenost\",1,0)","v":0},{"$f":"IF(dotaznik_data2!$G42=\"doporučení\",1,0)","v":0},{"$f":"IF(dotaznik_data2!$G42=\"dostupnost\",1,0)","v":0},{"$f":"IF(dotaznik_data2!$G42=\"vzhled\",1,0)","v":0}]
[null,null,null,null,null,null,null,42,{"$f":"IF(dotaznik_data2!$G43=\"cena\",1,0)","v":1},{"$f":"IF(dotaznik_data2!$G43=\"značka\",1,0)","v":0},{"$f":"IF(dotaznik_data2!$G43=\"vlastní zkušenost\",1,0)","v":0},{"$f":"IF(dotaznik_data2!$G43=\"doporučení\",1,0)","v":0},{"$f":"IF(dotaznik_data2!$G43=\"dostupnost\",1,0)","v":0},{"$f":"IF(dotaznik_data2!$G43=\"vzhled\",1,0)","v":0}]
[null,null,null,null,null,null,null,43,{"$f":"IF(dotaznik_data2!$G44=\"cena\",1,0)","v":0},{"$f":"IF(dotaznik_data2!$G44=\"značka\",1,0)","v":1},{"$f":"IF(dotaznik_data2!$G44=\"vlastní zkušenost\",1,0)","v":0},{"$f":"IF(dotaznik_data2!$G44=\"doporučení\",1,0)","v":0},{"$f":"IF(dotaznik_data2!$G44=\"dostupnost\",1,0)","v":0},{"$f":"IF(dotaznik_data2!$G44=\"vzhled\",1,0)","v":0}]
[null,null,null,null,null,null,null,44,{"$f":"IF(dotaznik_data2!$G45=\"cena\",1,0)","v":0},{"$f":"IF(dotaznik_data2!$G45=\"značka\",1,0)","v":0},{"$f":"IF(dotaznik_data2!$G45=\"vlastní zkušenost\",1,0)","v":0},{"$f":"IF(dotaznik_data2!$G45=\"doporučení\",1,0)","v":0},{"$f":"IF(dotaznik_data2!$G45=\"dostupnost\",1,0)","v":0},{"$f":"IF(dotaznik_data2!$G45=\"vzhled\",1,0)","v":1}]
[null,null,null,null,null,null,null,45,{"$f":"IF(dotaznik_data2!$G46=\"cena\",1,0)","v":0},{"$f":"IF(dotaznik_data2!$G46=\"značka\",1,0)","v":0},{"$f":"IF(dotaznik_data2!$G46=\"vlastní zkušenost\",1,0)","v":0},{"$f":"IF(dotaznik_data2!$G46=\"doporučení\",1,0)","v":1},{"$f":"IF(dotaznik_data2!$G46=\"dostupnost\",1,0)","v":0},{"$f":"IF(dotaznik_data2!$G46=\"vzhled\",1,0)","v":0}]
[null,null,null,null,null,null,null,46,{"$f":"IF(dotaznik_data2!$G47=\"cena\",1,0)","v":1},{"$f":"IF(dotaznik_data2!$G47=\"značka\",1,0)","v":0},{"$f":"IF(dotaznik_data2!$G47=\"vlastní zkušenost\",1,0)","v":0},{"$f":"IF(dotaznik_data2!$G47=\"doporučení\",1,0)","v":0},{"$f":"IF(dotaznik_data2!$G47=\"dostupnost\",1,0)","v":0},{"$f":"IF(dotaznik_data2!$G47=\"vzhled\",1,0)","v":0}]
[null,null,null,null,null,null,null,47,{"$f":"IF(dotaznik_data2!$G48=\"cena\",1,0)","v":0},{"$f":"IF(dotaznik_data2!$G48=\"značka\",1,0)","v":1},{"$f":"IF(dotaznik_data2!$G48=\"vlastní zkušenost\",1,0)","v":0},{"$f":"IF(dotaznik_data2!$G48=\"doporučení\",1,0)","v":0},{"$f":"IF(dotaznik_data2!$G48=\"dostupnost\",1,0)","v":0},{"$f":"IF(dotaznik_data2!$G48=\"vzhled\",1,0)","v":0}]
[null,null,null,null,null,null,null,48,{"$f":"IF(dotaznik_data2!$G49=\"cena\",1,0)","v":0},{"$f":"IF(dotaznik_data2!$G49=\"značka\",1,0)","v":1},{"$f":"IF(dotaznik_data2!$G49=\"vlastní zkušenost\",1,0)","v":0},{"$f":"IF(dotaznik_data2!$G49=\"doporučení\",1,0)","v":0},{"$f":"IF(dotaznik_data2!$G49=\"dostupnost\",1,0)","v":0},{"$f":"IF(dotaznik_data2!$G49=\"vzhled\",1,0)","v":0}]
[null,null,null,null,null,null,null,49,{"$f":"IF(dotaznik_data2!$G50=\"cena\",1,0)","v":0},{"$f":"IF(dotaznik_data2!$G50=\"značka\",1,0)","v":0},{"$f":"IF(dotaznik_data2!$G50=\"vlastní zkušenost\",1,0)","v":0},{"$f":"IF(dotaznik_data2!$G50=\"doporučení\",1,0)","v":1},{"$f":"IF(dotaznik_data2!$G50=\"dostupnost\",1,0)","v":0},{"$f":"IF(dotaznik_data2!$G50=\"vzhled\",1,0)","v":0}]
[null,null,null,null,null,null,null,50,{"$f":"IF(dotaznik_data2!$G51=\"cena\",1,0)","v":0},{"$f":"IF(dotaznik_data2!$G51=\"značka\",1,0)","v":1},{"$f":"IF(dotaznik_data2!$G51=\"vlastní zkušenost\",1,0)","v":0},{"$f":"IF(dotaznik_data2!$G51=\"doporučení\",1,0)","v":0},{"$f":"IF(dotaznik_data2!$G51=\"dostupnost\",1,0)","v":0},{"$f":"IF(dotaznik_data2!$G51=\"vzhled\",1,0)","v":0}]
[]
[7,"Co bylo druhým nejdůležitějším faktorem při výběru kola?",null,null,null,null,"cena"]
[null,null,null,null,null,null,"značka"]
[null,null,null,null,null,null,"doporučení"]
[null,null,null,null,null,null,"vlastní zkušenost"]
[null,null,null,null,null,null,"dostupnost","četnost",{"$f":"COUNTIF(I342:I391,1)","v":16},{"$f":"COUNTIF(J342:J391,1)","v":2},7,{"$f":"COUNTIF(L342:L391,1)","v":7},{"$f":"COUNTIF(M342:M391,1)","v":0},{"$f":"COUNTIF(N342:N391,1)","v":13}]
[null,null,null,null,null,null,"vzhled","odpověď","cena","značka","vlastní zkušenost","doporučení","dostupnost","vzhled"]
[null,null,null,null,null,null,"respondent číslo",1,{"$f":"IF(dotaznik_data2!$H2=\"cena\",1,0)","v":1},{"$f":"IF(dotaznik_data2!$H2=\"značka\",1,0)","v":0},{"$f":"IF(dotaznik_data2!$H2=\"vlastní zkušenost\",1,0)","v":0},{"$f":"IF(dotaznik_data2!$H2=\"doporučení\",1,0)","v":0},{"$f":"IF(dotaznik_data2!$H2=\"dostupnost\",1,0)","v":0},{"$f":"IF(dotaznik_data2!$H2=\"vzhled\",1,0)","v":0}]
[null,null,null,null,null,null,null,2,{"$f":"IF(dotaznik_data2!$H3=\"cena\",1,0)","v":1},{"$f":"IF(dotaznik_data2!$H3=\"značka\",1,0)","v":0},{"$f":"IF(dotaznik_data2!$H3=\"vlastní zkušenost\",1,0)","v":0},{"$f":"IF(dotaznik_data2!$H3=\"doporučení\",1,0)","v":0},{"$f":"IF(dotaznik_data2!$H3=\"dostupnost\",1,0)","v":0},{"$f":"IF(dotaznik_data2!$H3=\"vzhled\",1,0)","v":0}]
[null,null,null,null,null,null,null,3,{"$f":"IF(dotaznik_data2!$H4=\"cena\",1,0)","v":0},{"$f":"IF(dotaznik_data2!$H4=\"značka\",1,0)","v":0},{"$f":"IF(dotaznik_data2!$H4=\"vlastní zkušenost\",1,0)","v":0},{"$f":"IF(dotaznik_data2!$H4=\"doporučení\",1,0)","v":1},{"$f":"IF(dotaznik_data2!$H4=\"dostupnost\",1,0)","v":0},{"$f":"IF(dotaznik_data2!$H4=\"vzhled\",1,0)","v":0}]
[null,null,null,null,null,null,null,4,{"$f":"IF(dotaznik_data2!$H5=\"cena\",1,0)","v":1},{"$f":"IF(dotaznik_data2!$H5=\"značka\",1,0)","v":0},{"$f":"IF(dotaznik_data2!$H5=\"vlastní zkušenost\",1,0)","v":0},{"$f":"IF(dotaznik_data2!$H5=\"doporučení\",1,0)","v":0},{"$f":"IF(dotaznik_data2!$H5=\"dostupnost\",1,0)","v":0},{"$f":"IF(dotaznik_data2!$H5=\"vzhled\",1,0)","v":0}]
[null,null,null,null,null,null,null,5,{"$f":"IF(dotaznik_data2!$H6=\"cena\",1,0)","v":0},{"$f":"IF(dotaznik_data2!$H6=\"značka\",1,0)","v":0},{"$f":"IF(dotaznik_data2!$H6=\"vlastní zkušenost\",1,0)","v":0},{"$f":"IF(dotaznik_data2!$H6=\"doporučení\",1,0)","v":0},{"$f":"IF(dotaznik_data2!$H6=\"dostupnost\",1,0)","v":0},{"$f":"IF(dotaznik_data2!$H6=\"vzhled\",1,0)","v":1}]
[null,null,null,null,null,null,null,6,{"$f":"IF(dotaznik_data2!$H7=\"cena\",1,0)","v":0},{"$f":"IF(dotaznik_data2!$H7=\"značka\",1,0)","v":0},{"$f":"IF(dotaznik_data2!$H7=\"vlastní zkušenost\",1,0)","v":0},{"$f":"IF(dotaznik_data2!$H7=\"doporučení\",1,0)","v":0},{"$f":"IF(dotaznik_data2!$H7=\"dostupnost\",1,0)","v":0},{"$f":"IF(dotaznik_data2!$H7=\"vzhled\",1,0)","v":1}]
[null,null,null,null,null,null,null,7,{"$f":"IF(dotaznik_data2!$H8=\"cena\",1,0)","v":0},{"$f":"IF(dotaznik_data2!$H8=\"značka\",1,0)","v":0},{"$f":"IF(dotaznik_data2!$H8=\"vlastní zkušenost\",1,0)","v":0},{"$f":"IF(dotaznik_data2!$H8=\"doporučení\",1,0)","v":0},{"$f":"IF(dotaznik_data2!$H8=\"dostupnost\",1,0)","v":0},{"$f":"IF(dotaznik_data2!$H8=\"vzhled\",1,0)","v":1}]
[null,null,null,null,null,null,null,8,{"$f":"IF(dotaznik_data2!$H9=\"cena\",1,0)","v":1},{"$f":"IF(dotaznik_data2!$H9=\"značka\",1,0)","v":0},{"$f":"IF(dotaznik_data2!$H9=\"vlastní zkušenost\",1,0)","v":0},{"$f":"IF(dotaznik_data2!$H9=\"doporučení\",1,0)","v":0},{"$f":"IF(dotaznik_data2!$H9=\"dostupnost\",1,0)","v":0},{"$f":"IF(dotaznik_data2!$H9=\"vzhled\",1,0)","v":0}]
[null,null,null,null,null,null,null,9,{"$f":"IF(dotaznik_data2!$H10=\"cena\",1,0)","v":0},{"$f":"IF(dotaznik_data2!$H10=\"značka\",1,0)","v":0},{"$f":"IF(dotaznik_data2!$H10=\"vlastní zkušenost\",1,0)","v":0},{"$f":"IF(dotaznik_data2!$H10=\"doporučení\",1,0)","v":0},{"$f":"IF(dotaznik_data2!$H10=\"dostupnost\",1,0)","v":0},{"$f":"IF(dotaznik_data2!$H10=\"vzhled\",1,0)","v":0}]
[null,null,null,null,null,null,null,10,{"$f":"IF(dotaznik_data2!$H11=\"cena\",1,0)","v":0},{"$f":"IF(dotaznik_data2!$H11=\"značka\",1,0)","v":0},{"$f":"IF(dotaznik_data2!$H11=\"vlastní zkušenost\",1,0)","v":0},{"$f":"IF(dotaznik_data2!$H11=\"doporučení\",1,0)","v":0},{"$f":"IF(dotaznik_data2!$H11=\"dostupnost\",1,0)","v":0},{"$f":"IF(dotaznik_data2!$H11=\"vzhled\",1,0)","v":1}]
[null,null,null,null,null,null,null,11,{"$f":"IF(dotaznik_data2!$H12=\"cena\",1,0)","v":1},{"$f":"IF(dotaznik_data2!$H12=\"značka\",1,0)","v":0},{"$f":"IF(dotaznik_data2!$H12=\"vlastní zkušenost\",1,0)","v":0},{"$f":"IF(dotaznik_data2!$H12=\"doporučení\",1,0)","v":0},{"$f":"IF(dotaznik_data2!$H12=\"dostupnost\",1,0)","v":0},{"$f":"IF(dotaznik_data2!$H12=\"vzhled\",1,0)","v":0}]
[null,null,null,null,null,null,null,12,{"$f":"IF(dotaznik_data2!$H13=\"cena\",1,0)","v":0},{"$f":"IF(dotaznik_data2!$H13=\"značka\",1,0)","v":0},{"$f":"IF(dotaznik_data2!$H13=\"vlastní zkušenost\",1,0)","v":1},{"$f":"IF(dotaznik_data2!$H13=\"doporučení\",1,0)","v":0},{"$f":"IF(dotaznik_data2!$H13=\"dostupnost\",1,0)","v":0},{"$f":"IF(dotaznik_data2!$H13=\"vzhled\",1,0)","v":0}]
[null,null,null,null,null,null,null,13,{"$f":"IF(dotaznik_data2!$H14=\"cena\",1,0)","v":1},{"$f":"IF(dotaznik_data2!$H14=\"značka\",1,0)","v":0},{"$f":"IF(dotaznik_data2!$H14=\"vlastní zkušenost\",1,0)","v":0},{"$f":"IF(dotaznik_data2!$H14=\"doporučení\",1,0)","v":0},{"$f":"IF(dotaznik_data2!$H14=\"dostupnost\",1,0)","v":0},{"$f":"IF(dotaznik_data2!$H14=\"vzhled\",1,0)","v":0}]
[null,null,null,null,null,null,null,14,{"$f":"IF(dotaznik_data2!$H15=\"cena\",1,0)","v":1},{"$f":"IF(dotaznik_data2!$H15=\"značka\",1,0)","v":0},{"$f":"IF(dotaznik_data2!$H15=\"vlastní zkušenost\",1,0)","v":0},{"$f":"IF(dotaznik_data2!$H15=\"doporučení\",1,0)","v":0},{"$f":"IF(dotaznik_data2!$H15=\"dostupnost\",1,0)","v":0},{"$f":"IF(dotaznik_data2!$H15=\"vzhled\",1,0)","v":0}]
[null,null,null,null,null,null,null,15,{"$f":"IF(dotaznik_data2!$H16=\"cena\",1,0)","v":0},{"$f":"IF(dotaznik_data2!$H16=\"značka\",1,0)","v":0},{"$f":"IF(dotaznik_data2!$H16=\"vlastní zkušenost\",1,0)","v":0},{"$f":"IF(dotaznik_data2!$H16=\"doporučení\",1,0)","v":0},{"$f":"IF(dotaznik_data2!$H16=\"dostupnost\",1,0)","v":0},{"$f":"IF(dotaznik_data2!$H16=\"vzhled\",1,0)","v":0}]
[null,null,null,null,null,null,null,16,{"$f":"IF(dotaznik_data2!$H17=\"cena\",1,0)","v":0},{"$f":"IF(dotaznik_data2!$H17=\"značka\",1,0)","v":0},{"$f":"IF(dotaznik_data2!$H17=\"vlastní zkušenost\",1,0)","v":1},{"$f":"IF(dotaznik_data2!$H17=\"doporučení\",1,0)","v":0},{"$f":"IF(dotaznik_data2!$H17=\"dostupnost\",1,0)","v":0},{"$f":"IF(dotaznik_data2!$H17=\"vzhled\",1,0)","v":0}]
[null,null,null,null,null,null,null,17,{"$f":"IF(dotaznik_data2!$H18=\"cena\",1,0)","v":1},{"$f":"IF(dotaznik_data2!$H18=\"značka\",1,0)","v":0},{"$f":"IF(dotaznik_data2!$H18=\"vlastní zkušenost\",1,0)","v":0},{"$f":"IF(dotaznik_data2!$H18=\"doporučení\",1,0)","v":0},{"$f":"IF(dotaznik_data2!$H18=\"dostupnost\",1,0)","v":0},{"$f":"IF(dotaznik_data2!$H18=\"vzhled\",1,0)","v":0}]
[null,null,null,null,null,null,null,18,{"$f":"IF(dotaznik_data2!$H19=\"cena\",1,0)","v":0},{"$f":"IF(dotaznik_data2!$H19=\"značka\",1,0)","v":0},{"$f":"IF(dotaznik_data2!$H19=\"vlastní zkušenost\",1,0)","v":0},{"$f":"IF(dotaznik_data2!$H19=\"doporučení\",1,0)","v":0},{"$f":"IF(dotaznik_data2!$H19=\"dostupnost\",1,0)","v":0},{"$f":"IF(dotaznik_data2!$H19=\"vzhled\",1,0)","v":1}]
[null,null,null,null,null,null,null,19,{"$f":"IF(dotaznik_data2!$H20=\"cena\",1,0)","v":0},{"$f":"IF(dotaznik_data2!$H20=\"značka\",1,0)","v":0},{"$f":"IF(dotaznik_data2!$H20=\"vlastní zkušenost\",1,0)","v":0},{"$f":"IF(dotaznik_data2!$H20=\"doporučení\",1,0)","v":0},{"$f":"IF(dotaznik_data2!$H20=\"dostupnost\",1,0)","v":0},{"$f":"IF(dotaznik_data2!$H20=\"vzhled\",1,0)","v":1}]
[null,null,null,null,null,null,null,20,{"$f":"IF(dotaznik_data2!$H21=\"cena\",1,0)","v":0},{"$f":"IF(dotaznik_data2!$H21=\"značka\",1,0)","v":0},{"$f":"IF(dotaznik_data2!$H21=\"vlastní zkušenost\",1,0)","v":1},{"$f":"IF(dotaznik_data2!$H21=\"doporučení\",1,0)","v":0},{"$f":"IF(dotaznik_data2!$H21=\"dostupnost\",1,0)","v":0},{"$f":"IF(dotaznik_data2!$H21=\"vzhled\",1,0)","v":0}]
[null,null,null,null,null,null,null,21,{"$f":"IF(dotaznik_data2!$H22=\"cena\",1,0)","v":0},{"$f":"IF(dotaznik_data2!$H22=\"značka\",1,0)","v":0},{"$f":"IF(dotaznik_data2!$H22=\"vlastní zkušenost\",1,0)","v":0},{"$f":"IF(dotaznik_data2!$H22=\"doporučení\",1,0)","v":0},{"$f":"IF(dotaznik_data2!$H22=\"dostupnost\",1,0)","v":0},{"$f":"IF(dotaznik_data2!$H22=\"vzhled\",1,0)","v":1}]
[null,null,null,null,null,null,null,22,{"$f":"IF(dotaznik_data2!$H23=\"cena\",1,0)","v":0},{"$f":"IF(dotaznik_data2!$H23=\"značka\",1,0)","v":0},{"$f":"IF(dotaznik_data2!$H23=\"vlastní zkušenost\",1,0)","v":0},{"$f":"IF(dotaznik_data2!$H23=\"doporučení\",1,0)","v":0},{"$f":"IF(dotaznik_data2!$H23=\"dostupnost\",1,0)","v":0},{"$f":"IF(dotaznik_data2!$H23=\"vzhled\",1,0)","v":0}]
[null,null,null,null,null,null,null,23,{"$f":"IF(dotaznik_data2!$H24=\"cena\",1,0)","v":0},{"$f":"IF(dotaznik_data2!$H24=\"značka\",1,0)","v":0},{"$f":"IF(dotaznik_data2!$H24=\"vlastní zkušenost\",1,0)","v":0},{"$f":"IF(dotaznik_data2!$H24=\"doporučení\",1,0)","v":0},{"$f":"IF(dotaznik_data2!$H24=\"dostupnost\",1,0)","v":0},{"$f":"IF(dotaznik_data2!$H24=\"vzhled\",1,0)","v":1}]
[null,null,null,null,null,null,null,24,{"$f":"IF(dotaznik_data2!$H25=\"cena\",1,0)","v":0},{"$f":"IF(dotaznik_data2!$H25=\"značka\",1,0)","v":0},{"$f":"IF(dotaznik_data2!$H25=\"vlastní zkušenost\",1,0)","v":1},{"$f":"IF(dotaznik_data2!$H25=\"doporučení\",1,0)","v":0},{"$f":"IF(dotaznik_data2!$H25=\"dostupnost\",1,0)","v":0},{"$f":"IF(dotaznik_data2!$H25=\"vzhled\",1,0)","v":0}]
[null,null,null,null,null,null,null,25,{"$f":"IF(dotaznik_data2!$H26=\"cena\",1,0)","v":0},{"$f":"IF(dotaznik_data2!$H26=\"značka\",1,0)","v":0},{"$f":"IF(dotaznik_data2!$H26=\"vlastní zkušenost\",1,0)","v":0},{"$f":"IF(dotaznik_data2!$H26=\"doporučení\",1,0)","v":0},{"$f":"IF(dotaznik_data2!$H26=\"dostupnost\",1,0)","v":0},{"$f":"IF(dotaznik_data2!$H26=\"vzhled\",1,0)","v":0}]
[null,null,null,null,null,null,null,26,{"$f":"IF(dotaznik_data2!$H27=\"cena\",1,0)","v":1},{"$f":"IF(dotaznik_data2!$H27=\"značka\",1,0)","v":0},{"$f":"IF(dotaznik_data2!$H27=\"vlastní zkušenost\",1,0)","v":0},{"$f":"IF(dotaznik_data2!$H27=\"doporučení\",1,0)","v":0},{"$f":"IF(dotaznik_data2!$H27=\"dostupnost\",1,0)","v":0},{"$f":"IF(dotaznik_data2!$H27=\"vzhled\",1,0)","v":0}]
[null,null,null,null,null,null,null,27,{"$f":"IF(dotaznik_data2!$H28=\"cena\",1,0)","v":0},{"$f":"IF(dotaznik_data2!$H28=\"značka\",1,0)","v":0},{"$f":"IF(dotaznik_data2!$H28=\"vlastní zkušenost\",1,0)","v":0},{"$f":"IF(dotaznik_data2!$H28=\"doporučení\",1,0)","v":1},{"$f":"IF(dotaznik_data2!$H28=\"dostupnost\",1,0)","v":0},{"$f":"IF(dotaznik_data2!$H28=\"vzhled\",1,0)","v":0}]
[null,null,null,null,null,null,null,28,{"$f":"IF(dotaznik_data2!$H29=\"cena\",1,0)","v":0},{"$f":"IF(dotaznik_data2!$H29=\"značka\",1,0)","v":0},{"$f":"IF(dotaznik_data2!$H29=\"vlastní zkušenost\",1,0)","v":0},{"$f":"IF(dotaznik_data2!$H29=\"doporučení\",1,0)","v":1},{"$f":"IF(dotaznik_data2!$H29=\"dostupnost\",1,0)","v":0},{"$f":"IF(dotaznik_data2!$H29=\"vzhled\",1,0)","v":0}]
[null,null,null,null,null,null,null,29,{"$f":"IF(dotaznik_data2!$H30=\"cena\",1,0)","v":1},{"$f":"IF(dotaznik_data2!$H30=\"značka\",1,0)","v":0},{"$f":"IF(dotaznik_data2!$H30=\"vlastní zkušenost\",1,0)","v":0},{"$f":"IF(dotaznik_data2!$H30=\"doporučení\",1,0)","v":0},{"$f":"IF(dotaznik_data2!$H30=\"dostupnost\",1,0)","v":0},{"$f":"IF(dotaznik_data2!$H30=\"vzhled\",1,0)","v":0}]
[null,null,null,null,null,null,null,30,{"$f":"IF(dotaznik_data2!$H31=\"cena\",1,0)","v":0},{"$f":"IF(dotaznik_data2!$H31=\"značka\",1,0)","v":0},{"$f":"IF(dotaznik_data2!$H31=\"vlastní zkušenost\",1,0)","v":0},{"$f":"IF(dotaznik_data2!$H31=\"doporučení\",1,0)","v":1},{"$f":"IF(dotaznik_data2!$H31=\"dostupnost\",1,0)","v":0},{"$f":"IF(dotaznik_data2!$H31=\"vzhled\",1,0)","v":0}]
[null,null,null,null,null,null,null,31,{"$f":"IF(dotaznik_data2!$H32=\"cena\",1,0)","v":0},{"$f":"IF(dotaznik_data2!$H32=\"značka\",1,0)","v":0},{"$f":"IF(dotaznik_data2!$H32=\"vlastní zkušenost\",1,0)","v":0},{"$f":"IF(dotaznik_data2!$H32=\"doporučení\",1,0)","v":0},{"$f":"IF(dotaznik_data2!$H32=\"dostupnost\",1,0)","v":0},{"$f":"IF(dotaznik_data2!$H32=\"vzhled\",1,0)","v":0}]
[null,null,null,null,null,null,null,32,{"$f":"IF(dotaznik_data2!$H33=\"cena\",1,0)","v":0},{"$f":"IF(dotaznik_data2!$H33=\"značka\",1,0)","v":0},{"$f":"IF(dotaznik_data2!$H33=\"vlastní zkušenost\",1,0)","v":0},{"$f":"IF(dotaznik_data2!$H33=\"doporučení\",1,0)","v":0},{"$f":"IF(dotaznik_data2!$H33=\"dostupnost\",1,0)","v":0},{"$f":"IF(dotaznik_data2!$H33=\"vzhled\",1,0)","v":1}]
[null,null,null,null,null,null,null,33,{"$f":"IF(dotaznik_data2!$H34=\"cena\",1,0)","v":0},{"$f":"IF(dotaznik_data2!$H34=\"značka\",1,0)","v":0},{"$f":"IF(dotaznik_data2!$H34=\"vlastní zkušenost\",1,0)","v":0},{"$f":"IF(dotaznik_data2!$H34=\"doporučení\",1,0)","v":0},{"$f":"IF(dotaznik_data2!$H34=\"dostupnost\",1,0)","v":0},{"$f":"IF(dotaznik_data2!$H34=\"vzhled\",1,0)","v":1}]
[null,null,null,null,null,null,null,34,{"$f":"IF(dotaznik_data2!$H35=\"cena\",1,0)","v":0},{"$f":"IF(dotaznik_data2!$H35=\"značka\",1,0)","v":1},{"$f":"IF(dotaznik_data2!$H35=\"vlastní zkušenost\",1,0)","v":0},{"$f":"IF(dotaznik_data2!$H35=\"doporučení\",1,0)","v":0},{"$f":"IF(dotaznik_data2!$H35=\"dostupnost\",1,0)","v":0},{"$f":"IF(dotaznik_data2!$H35=\"vzhled\",1,0)","v":0}]
[null,null,null,null,null,null,null,35,{"$f":"IF(dotaznik_data2!$H36=\"cena\",1,0)","v":0},{"$f":"IF(dotaznik_data2!$H36=\"značka\",1,0)","v":0},{"$f":"IF(dotaznik_data2!$H36=\"vlastní zkušenost\",1,0)","v":0},{"$f":"IF(dotaznik_data2!$H36=\"doporučení\",1,0)","v":0},{"$f":"IF(dotaznik_data2!$H36=\"dostupnost\",1,0)","v":0},{"$f":"IF(dotaznik_data2!$H36=\"vzhled\",1,0)","v":1}]
[null,null,null,null,null,null,null,36,{"$f":"IF(dotaznik_data2!$H37=\"cena\",1,0)","v":1},{"$f":"IF(dotaznik_data2!$H37=\"značka\",1,0)","v":0},{"$f":"IF(dotaznik_data2!$H37=\"vlastní zkušenost\",1,0)","v":0},{"$f":"IF(dotaznik_data2!$H37=\"doporučení\",1,0)","v":0},{"$f":"IF(dotaznik_data2!$H37=\"dostupnost\",1,0)","v":0},{"$f":"IF(dotaznik_data2!$H37=\"vzhled\",1,0)","v":0}]
[null,null,null,null,null,null,null,37,{"$f":"IF(dotaznik_data2!$H38=\"cena\",1,0)","v":0},{"$f":"IF(dotaznik_data2!$H38=\"značka\",1,0)","v":0},{"$f":"IF(dotaznik_data2!$H38=\"vlastní zkušenost\",1,0)","v":0},{"$f":"IF(dotaznik_data2!$H38=\"doporučení\",1,0)","v":1},{"$f":"IF(dotaznik_data2!$H38=\"dostupnost\",1,0)","v":0},{"$f":"IF(dotaznik_data2!$H38=\"vzhled\",1,0)","v":0}]
[null,null,null,null,null,null,null,38,{"$f":"IF(dotaznik_data2!$H39=\"cena\",1,0)","v":0},{"$f":"IF(dotaznik_data2!$H39=\"značka\",1,0)","v":0},{"$f":"IF(dotaznik_data2!$H39=\"vlastní zkušenost\",1,0)","v":0},{"$f":"IF(dotaznik_data2!$H39=\"doporučení\",1,0)","v":0},{"$f":"IF(dotaznik_data2!$H39=\"dostupnost\",1,0)","v":0},{"$f":"IF(dotaznik_data2!$H39=\"vzhled\",1,0)","v":1}]
[null,null,null,null,null,null,null,39,{"$f":"IF(dotaznik_data2!$H40=\"cena\",1,0)","v":1},{"$f":"IF(dotaznik_data2!$H40=\"značka\",1,0)","v":0},{"$f":"IF(dotaznik_data2!$H40=\"vlastní zkušenost\",1,0)","v":0},{"$f":"IF(dotaznik_data2!$H40=\"doporučení\",1,0)","v":0},{"$f":"IF(dotaznik_data2!$H40=\"dostupnost\",1,0)","v":0},{"$f":"IF(dotaznik_data2!$H40=\"vzhled\",1,0)","v":0}]
[null,null,null,null,null,null,null,40,{"$f":"IF(dotaznik_data2!$H41=\"cena\",1,0)","v":0},{"$f":"IF(dotaznik_data2!$H41=\"značka\",1,0)","v":1},{"$f":"IF(dotaznik_data2!$H41=\"vlastní zkušenost\",1,0)","v":0},{"$f":"IF(dotaznik_data2!$H41=\"doporučení\",1,0)","v":0},{"$f":"IF(dotaznik_data2!$H41=\"dostupnost\",1,0)","v":0},{"$f":"IF(dotaznik_data2!$H41=\"vzhled\",1,0)","v":0}]
[null,null,null,null,null,null,null,41,{"$f":"IF(dotaznik_data2!$H42=\"cena\",1,0)","v":1},{"$f":"IF(dotaznik_data2!$H42=\"značka\",1,0)","v":0},{"$f":"IF(dotaznik_data2!$H42=\"vlastní zkušenost\",1,0)","v":0},{"$f":"IF(dotaznik_data2!$H42=\"doporučení\",1,0)","v":0},{"$f":"IF(dotaznik_data2!$H42=\"dostupnost\",1,0)","v":0},{"$f":"IF(dotaznik_data2!$H42=\"vzhled\",1,0)","v":0}]
[null,null,null,null,null,null,null,42,{"$f":"IF(dotaznik_data2!$H43=\"cena\",1,0)","v":0},{"$f":"IF(dotaznik_data2!$H43=\"značka\",1,0)","v":0},{"$f":"IF(dotaznik_data2!$H43=\"vlastní zkušenost\",1,0)","v":0},{"$f":"IF(dotaznik_data2!$H43=\"doporučení\",1,0)","v":0},{"$f":"IF(dotaznik_data2!$H43=\"dostupnost\",1,0)","v":0},{"$f":"IF(dotaznik_data2!$H43=\"vzhled\",1,0)","v":1}]
[null,null,null,null,null,null,null,43,{"$f":"IF(dotaznik_data2!$H44=\"cena\",1,0)","v":0},{"$f":"IF(dotaznik_data2!$H44=\"značka\",1,0)","v":0},{"$f":"IF(dotaznik_data2!$H44=\"vlastní zkušenost\",1,0)","v":0},{"$f":"IF(dotaznik_data2!$H44=\"doporučení\",1,0)","v":1},{"$f":"IF(dotaznik_data2!$H44=\"dostupnost\",1,0)","v":0},{"$f":"IF(dotaznik_data2!$H44=\"vzhled\",1,0)","v":0}]
[null,null,null,null,null,null,null,44,{"$f":"IF(dotaznik_data2!$H45=\"cena\",1,0)","v":1},{"$f":"IF(dotaznik_data2!$H45=\"značka\",1,0)","v":0},{"$f":"IF(dotaznik_data2!$H45=\"vlastní zkušenost\",1,0)","v":0},{"$f":"IF(dotaznik_data2!$H45=\"doporučení\",1,0)","v":0},{"$f":"IF(dotaznik_data2!$H45=\"dostupnost\",1,0)","v":0},{"$f":"IF(dotaznik_data2!$H45=\"vzhled\",1,0)","v":0}]
[null,null,null,null,null,null,null,45,{"$f":"IF(dotaznik_data2!$H46=\"cena\",1,0)","v":1},{"$f":"IF(dotaznik_data2!$H46=\"značka\",1,0)","v":0},{"$f":"IF(dotaznik_data2!$H46=\"vlastní zkušenost\",1,0)","v":0},{"$f":"IF(dotaznik_data2!$H46=\"doporučení\",1,0)","v":0},{"$f":"IF(dotaznik_data2!$H46=\"dostupnost\",1,0)","v":0},{"$f":"IF(dotaznik_data2!$H46=\"vzhled\",1,0)","v":0}]
[null,null,null,null,null,null,null,46,{"$f":"IF(dotaznik_data2!$H47=\"cena\",1,0)","v":0},{"$f":"IF(dotaznik_data2!$H47=\"značka\",1,0)","v":0},{"$f":"IF(dotaznik_data2!$H47=\"vlastní zkušenost\",1,0)","v":1},{"$f":"IF(dotaznik_data2!$H47=\"doporučení\",1,0)","v":0},{"$f":"IF(dotaznik_data2!$H47=\"dostupnost\",1,0)","v":0},{"$f":"IF(dotaznik_data2!$H47=\"vzhled\",1,0)","v":0}]
[null,null,null,null,null,null,null,47,{"$f":"IF(dotaznik_data2!$H48=\"cena\",1,0)","v":0},{"$f":"IF(dotaznik_data2!$H48=\"značka\",1,0)","v":0},{"$f":"IF(dotaznik_data2!$H48=\"vlastní zkušenost\",1,0)","v":1},{"$f":"IF(dotaznik_data2!$H48=\"doporučení\",1,0)","v":0},{"$f":"IF(dotaznik_data2!$H48=\"dostupnost\",1,0)","v":0},{"$f":"IF(dotaznik_data2!$H48=\"vzhled\",1,0)","v":0}]
[null,null,null,null,null,null,null,48,{"$f":"IF(dotaznik_data2!$H49=\"cena\",1,0)","v":0},{"$f":"IF(dotaznik_data2!$H49=\"značka\",1,0)","v":0},{"$f":"IF(dotaznik_data2!$H49=\"vlastní zkušenost\",1,0)","v":1},{"$f":"IF(dotaznik_data2!$H49=\"doporučení\",1,0)","v":0},{"$f":"IF(dotaznik_data2!$H49=\"dostupnost\",1,0)","v":0},{"$f":"IF(dotaznik_data2!$H49=\"vzhled\",1,0)","v":0}]
[null,null,null,null,null,null,null,49,{"$f":"IF(dotaznik_data2!$H50=\"cena\",1,0)","v":1},{"$f":"IF(dotaznik_data2!$H50=\"značka\",1,0)","v":0},{"$f":"IF(dotaznik_data2!$H50=\"vlastní zkušenost\",1,0)","v":0},{"$f":"IF(dotaznik_data2!$H50=\"doporučení\",1,0)","v":0},{"$f":"IF(dotaznik_data2!$H50=\"dostupnost\",1,0)","v":0},{"$f":"IF(dotaznik_data2!$H50=\"vzhled\",1,0)","v":0}]
[null,null,null,null,null,null,null,50,{"$f":"IF(dotaznik_data2!$H51=\"cena\",1,0)","v":0},{"$f":"IF(dotaznik_data2!$H51=\"značka\",1,0)","v":0},{"$f":"IF(dotaznik_data2!$H51=\"vlastní zkušenost\",1,0)","v":0},{"$f":"IF(dotaznik_data2!$H51=\"doporučení\",1,0)","v":1},{"$f":"IF(dotaznik_data2!$H51=\"dostupnost\",1,0)","v":0},{"$f":"IF(dotaznik_data2!$H51=\"vzhled\",1,0)","v":0}]
[]
[8,"K jakému účelu kolo přednostně využíváte?",null,null,null,null,"cestování rekreační"]
[null,null,null,null,null,null,"cestování do zaměstnání"]
[null,null,null,null,null,null,"sport","četnost",{"$f":"COUNTIF(I397:I446,1)","v":18},{"$f":"COUNTIF(J397:J446,1)","v":8},18,0]
[null,null,null,null,null,null,"jiné","odpověď","cestování rekreační","cestování do zaměstnání","sport","jiné"]
[null,null,null,null,null,null,"respondent číslo",1,{"$f":"IF(dotaznik_data2!$I2=\"cestování rekreační\",1,0)","v":0},{"$f":"IF(dotaznik_data2!$I2=\"cestování do zaměstnání\",1,0)","v":0},{"$f":"IF(dotaznik_data2!$I2=\"sport\",1,0)","v":1},{"$f":"IF(dotaznik_data2!$I2=\"jiné\",1,0)","v":0}]
[null,null,null,null,null,null,null,2,{"$f":"IF(dotaznik_data2!$I3=\"cestování rekreační\",1,0)","v":0},{"$f":"IF(dotaznik_data2!$I3=\"cestování do zaměstnání\",1,0)","v":0},{"$f":"IF(dotaznik_data2!$I3=\"sport\",1,0)","v":1},{"$f":"IF(dotaznik_data2!$I3=\"jiné\",1,0)","v":0}]
[null,null,null,null,null,null,null,3,{"$f":"IF(dotaznik_data2!$I4=\"cestování rekreační\",1,0)","v":0},{"$f":"IF(dotaznik_data2!$I4=\"cestování do zaměstnání\",1,0)","v":0},{"$f":"IF(dotaznik_data2!$I4=\"sport\",1,0)","v":1},{"$f":"IF(dotaznik_data2!$I4=\"jiné\",1,0)","v":0}]
[null,null,null,null,null,null,null,4,{"$f":"IF(dotaznik_data2!$I5=\"cestování rekreační\",1,0)","v":0},{"$f":"IF(dotaznik_data2!$I5=\"cestování do zaměstnání\",1,0)","v":1},{"$f":"IF(dotaznik_data2!$I5=\"sport\",1,0)","v":0},{"$f":"IF(dotaznik_data2!$I5=\"jiné\",1,0)","v":0}]
[null,null,null,null,null,null,null,5,{"$f":"IF(dotaznik_data2!$I6=\"cestování rekreační\",1,0)","v":0},{"$f":"IF(dotaznik_data2!$I6=\"cestování do zaměstnání\",1,0)","v":0},{"$f":"IF(dotaznik_data2!$I6=\"sport\",1,0)","v":1},{"$f":"IF(dotaznik_data2!$I6=\"jiné\",1,0)","v":0}]
[null,null,null,null,null,null,null,6,{"$f":"IF(dotaznik_data2!$I7=\"cestování rekreační\",1,0)","v":1},{"$f":"IF(dotaznik_data2!$I7=\"cestování do zaměstnání\",1,0)","v":0},{"$f":"IF(dotaznik_data2!$I7=\"sport\",1,0)","v":0},{"$f":"IF(dotaznik_data2!$I7=\"jiné\",1,0)","v":0}]
[null,null,null,null,null,null,null,7,{"$f":"IF(dotaznik_data2!$I8=\"cestování rekreační\",1,0)","v":1},{"$f":"IF(dotaznik_data2!$I8=\"cestování do zaměstnání\",1,0)","v":0},{"$f":"IF(dotaznik_data2!$I8=\"sport\",1,0)","v":0},{"$f":"IF(dotaznik_data2!$I8=\"jiné\",1,0)","v":0}]
[null,null,null,null,null,null,null,8,{"$f":"IF(dotaznik_data2!$I9=\"cestování rekreační\",1,0)","v":1},{"$f":"IF(dotaznik_data2!$I9=\"cestování do zaměstnání\",1,0)","v":0},{"$f":"IF(dotaznik_data2!$I9=\"sport\",1,0)","v":0},{"$f":"IF(dotaznik_data2!$I9=\"jiné\",1,0)","v":0}]
[null,null,null,null,null,null,null,9,{"$f":"IF(dotaznik_data2!$I10=\"cestování rekreační\",1,0)","v":0},{"$f":"IF(dotaznik_data2!$I10=\"cestování do zaměstnání\",1,0)","v":0},{"$f":"IF(dotaznik_data2!$I10=\"sport\",1,0)","v":0},{"$f":"IF(dotaznik_data2!$I10=\"jiné\",1,0)","v":0}]
[null,null,null,null,null,null,null,10,{"$f":"IF(dotaznik_data2!$I11=\"cestování rekreační\",1,0)","v":0},{"$f":"IF(dotaznik_data2!$I11=\"cestování do zaměstnání\",1,0)","v":0},{"$f":"IF(dotaznik_data2!$I11=\"sport\",1,0)","v":1},{"$f":"IF(dotaznik_data2!$I11=\"jiné\",1,0)","v":0}]
[null,null,null,null,null,null,null,11,{"$f":"IF(dotaznik_data2!$I12=\"cestování rekreační\",1,0)","v":0},{"$f":"IF(dotaznik_data2!$I12=\"cestování do zaměstnání\",1,0)","v":0},{"$f":"IF(dotaznik_data2!$I12=\"sport\",1,0)","v":1},{"$f":"IF(dotaznik_data2!$I12=\"jiné\",1,0)","v":0}]
[null,null,null,null,null,null,null,12,{"$f":"IF(dotaznik_data2!$I13=\"cestování rekreační\",1,0)","v":0},{"$f":"IF(dotaznik_data2!$I13=\"cestování do zaměstnání\",1,0)","v":1},{"$f":"IF(dotaznik_data2!$I13=\"sport\",1,0)","v":0},{"$f":"IF(dotaznik_data2!$I13=\"jiné\",1,0)","v":0}]
[null,null,null,null,null,null,null,13,{"$f":"IF(dotaznik_data2!$I14=\"cestování rekreační\",1,0)","v":1},{"$f":"IF(dotaznik_data2!$I14=\"cestování do zaměstnání\",1,0)","v":0},{"$f":"IF(dotaznik_data2!$I14=\"sport\",1,0)","v":0},{"$f":"IF(dotaznik_data2!$I14=\"jiné\",1,0)","v":0}]
[null,null,null,null,null,null,null,14,{"$f":"IF(dotaznik_data2!$I15=\"cestování rekreační\",1,0)","v":1},{"$f":"IF(dotaznik_data2!$I15=\"cestování do zaměstnání\",1,0)","v":0},{"$f":"IF(dotaznik_data2!$I15=\"sport\",1,0)","v":0},{"$f":"IF(dotaznik_data2!$I15=\"jiné\",1,0)","v":0}]
[null,null,null,null,null,null,null,15,{"$f":"IF(dotaznik_data2!$I16=\"cestování rekreační\",1,0)","v":0},{"$f":"IF(dotaznik_data2!$I16=\"cestování do zaměstnání\",1,0)","v":0},{"$f":"IF(dotaznik_data2!$I16=\"sport\",1,0)","v":0},{"$f":"IF(dotaznik_data2!$I16=\"jiné\",1,0)","v":0}]
[null,null,null,null,null,null,null,16,{"$f":"IF(dotaznik_data2!$I17=\"cestování rekreační\",1,0)","v":0},{"$f":"IF(dotaznik_data2!$I17=\"cestování do zaměstnání\",1,0)","v":1},{"$f":"IF(dotaznik_data2!$I17=\"sport\",1,0)","v":0},{"$f":"IF(dotaznik_data2!$I17=\"jiné\",1,0)","v":0}]
[null,null,null,null,null,null,null,17,{"$f":"IF(dotaznik_data2!$I18=\"cestování rekreační\",1,0)","v":1},{"$f":"IF(dotaznik_data2!$I18=\"cestování do zaměstnání\",1,0)","v":0},{"$f":"IF(dotaznik_data2!$I18=\"sport\",1,0)","v":0},{"$f":"IF(dotaznik_data2!$I18=\"jiné\",1,0)","v":0}]
[null,null,null,null,null,null,null,18,{"$f":"IF(dotaznik_data2!$I19=\"cestování rekreační\",1,0)","v":0},{"$f":"IF(dotaznik_data2!$I19=\"cestování do zaměstnání\",1,0)","v":1},{"$f":"IF(dotaznik_data2!$I19=\"sport\",1,0)","v":0},{"$f":"IF(dotaznik_data2!$I19=\"jiné\",1,0)","v":0}]
[null,null,null,null,null,null,null,19,{"$f":"IF(dotaznik_data2!$I20=\"cestování rekreační\",1,0)","v":0},{"$f":"IF(dotaznik_data2!$I20=\"cestování do zaměstnání\",1,0)","v":0},{"$f":"IF(dotaznik_data2!$I20=\"sport\",1,0)","v":1},{"$f":"IF(dotaznik_data2!$I20=\"jiné\",1,0)","v":0}]
[null,null,null,null,null,null,null,20,{"$f":"IF(dotaznik_data2!$I21=\"cestování rekreační\",1,0)","v":1},{"$f":"IF(dotaznik_data2!$I21=\"cestování do zaměstnání\",1,0)","v":0},{"$f":"IF(dotaznik_data2!$I21=\"sport\",1,0)","v":0},{"$f":"IF(dotaznik_data2!$I21=\"jiné\",1,0)","v":0}]
[null,null,null,null,null,null,null,21,{"$f":"IF(dotaznik_data2!$I22=\"cestování rekreační\",1,0)","v":0},{"$f":"IF(dotaznik_data2!$I22=\"cestování do zaměstnání\",1,0)","v":0},{"$f":"IF(dotaznik_data2!$I22=\"sport\",1,0)","v":1},{"$f":"IF(dotaznik_data2!$I22=\"jiné\",1,0)","v":0}]
[null,null,null,null,null,null,null,22,{"$f":"IF(dotaznik_data2!$I23=\"cestování rekreační\",1,0)","v":0},{"$f":"IF(dotaznik_data2!$I23=\"cestování do zaměstnání\",1,0)","v":0},{"$f":"IF(dotaznik_data2!$I23=\"sport\",1,0)","v":0},{"$f":"IF(dotaznik_data2!$I23=\"jiné\",1,0)","v":0}]
[null,null,null,null,null,null,null,23,{"$f":"IF(dotaznik_data2!$I24=\"cestování rekreační\",1,0)","v":0},{"$f":"IF(dotaznik_data2!$I24=\"cestování do zaměstnání\",1,0)","v":0},{"$f":"IF(dotaznik_data2!$I24=\"sport\",1,0)","v":0},{"$f":"IF(dotaznik_data2!$I24=\"jiné\",1,0)","v":0}]
[null,null,null,null,null,null,null,24,{"$f":"IF(dotaznik_data2!$I25=\"cestování rekreační\",1,0)","v":0},{"$f":"IF(dotaznik_data2!$I25=\"cestování do zaměstnání\",1,0)","v":0},{"$f":"IF(dotaznik_data2!$I25=\"sport\",1,0)","v":1},{"$f":"IF(dotaznik_data2!$I25=\"jiné\",1,0)","v":0}]
[null,null,null,null,null,null,null,25,{"$f":"IF(dotaznik_data2!$I26=\"cestování rekreační\",1,0)","v":0},{"$f":"IF(dotaznik_data2!$I26=\"cestování do zaměstnání\",1,0)","v":0},{"$f":"IF(dotaznik_data2!$I26=\"sport\",1,0)","v":0},{"$f":"IF(dotaznik_data2!$I26=\"jiné\",1,0)","v":0}]
[null,null,null,null,null,null,null,26,{"$f":"IF(dotaznik_data2!$I27=\"cestování rekreační\",1,0)","v":0},{"$f":"IF(dotaznik_data2!$I27=\"cestování do zaměstnání\",1,0)","v":1},{"$f":"IF(dotaznik_data2!$I27=\"sport\",1,0)","v":0},{"$f":"IF(dotaznik_data2!$I27=\"jiné\",1,0)","v":0}]
[null,null,null,null,null,null,null,27,{"$f":"IF(dotaznik_data2!$I28=\"cestování rekreační\",1,0)","v":0},{"$f":"IF(dotaznik_data2!$I28=\"cestování do zaměstnání\",1,0)","v":0},{"$f":"IF(dotaznik_data2!$I28=\"sport\",1,0)","v":1},{"$f":"IF(dotaznik_data2!$I28=\"jiné\",1,0)","v":0}]
[null,null,null,null,null,null,null,28,{"$f":"IF(dotaznik_data2!$I29=\"cestování rekreační\",1,0)","v":0},{"$f":"IF(dotaznik_data2!$I29=\"cestování do zaměstnání\",1,0)","v":0},{"$f":"IF(dotaznik_data2!$I29=\"sport\",1,0)","v":1},{"$f":"IF(dotaznik_data2!$I29=\"jiné\",1,0)","v":0}]
[null,null,null,null,null,null,null,29,{"$f":"IF(dotaznik_data2!$I30=\"cestování rekreační\",1,0)","v":1},{"$f":"IF(dotaznik_data2!$I30=\"cestování do zaměstnání\",1,0)","v":0},{"$f":"IF(dotaznik_data2!$I30=\"sport\",1,0)","v":0},{"$f":"IF(dotaznik_data2!$I30=\"jiné\",1,0)","v":0}]
[null,null,null,null,null,null,null,30,{"$f":"IF(dotaznik_data2!$I31=\"cestování rekreační\",1,0)","v":0},{"$f":"IF(dotaznik_data2!$I31=\"cestování do zaměstnání\",1,0)","v":1},{"$f":"IF(dotaznik_data2!$I31=\"sport\",1,0)","v":0},{"$f":"IF(dotaznik_data2!$I31=\"jiné\",1,0)","v":0}]
[null,null,null,null,null,null,null,31,{"$f":"IF(dotaznik_data2!$I32=\"cestování rekreační\",1,0)","v":0},{"$f":"IF(dotaznik_data2!$I32=\"cestování do zaměstnání\",1,0)","v":0},{"$f":"IF(dotaznik_data2!$I32=\"sport\",1,0)","v":0},{"$f":"IF(dotaznik_data2!$I32=\"jiné\",1,0)","v":0}]
[null,null,null,null,null,null,null,32,{"$f":"IF(dotaznik_data2!$I33=\"cestování rekreační\",1,0)","v":1},{"$f":"IF(dotaznik_data2!$I33=\"cestování do zaměstnání\",1,0)","v":0},{"$f":"IF(dotaznik_data2!$I33=\"sport\",1,0)","v":0},{"$f":"IF(dotaznik_data2!$I33=\"jiné\",1,0)","v":0}]
[null,null,null,null,null,null,null,33,{"$f":"IF(dotaznik_data2!$I34=\"cestování rekreační\",1,0)","v":0},{"$f":"IF(dotaznik_data2!$I34=\"cestování do zaměstnání\",1,0)","v":0},{"$f":"IF(dotaznik_data2!$I34=\"sport\",1,0)","v":1},{"$f":"IF(dotaznik_data2!$I34=\"jiné\",1,0)","v":0}]
[null,null,null,null,null,null,null,34,{"$f":"IF(dotaznik_data2!$I35=\"cestování rekreační\",1,0)","v":0},{"$f":"IF(dotaznik_data2!$I35=\"cestování do zaměstnání\",1,0)","v":0},{"$f":"IF(dotaznik_data2!$I35=\"sport\",1,0)","v":1},{"$f":"IF(dotaznik_data2!$I35=\"jiné\",1,0)","v":0}]
[null,null,null,null,null,null,null,35,{"$f":"IF(dotaznik_data2!$I36=\"cestování rekreační\",1,0)","v":1},{"$f":"IF(dotaznik_data2!$I36=\"cestování do zaměstnání\",1,0)","v":0},{"$f":"IF(dotaznik_data2!$I36=\"sport\",1,0)","v":0},{"$f":"IF(dotaznik_data2!$I36=\"jiné\",1,0)","v":0}]
[null,null,null,null,null,null,null,36,{"$f":"IF(dotaznik_data2!$I37=\"cestování rekreační\",1,0)","v":0},{"$f":"IF(dotaznik_data2!$I37=\"cestování do zaměstnání\",1,0)","v":0},{"$f":"IF(dotaznik_data2!$I37=\"sport\",1,0)","v":1},{"$f":"IF(dotaznik_data2!$I37=\"jiné\",1,0)","v":0}]
[null,null,null,null,null,null,null,37,{"$f":"IF(dotaznik_data2!$I38=\"cestování rekreační\",1,0)","v":0},{"$f":"IF(dotaznik_data2!$I38=\"cestování do zaměstnání\",1,0)","v":0},{"$f":"IF(dotaznik_data2!$I38=\"sport\",1,0)","v":1},{"$f":"IF(dotaznik_data2!$I38=\"jiné\",1,0)","v":0}]
[null,null,null,null,null,null,null,38,{"$f":"IF(dotaznik_data2!$I39=\"cestování rekreační\",1,0)","v":1},{"$f":"IF(dotaznik_data2!$I39=\"cestování do zaměstnání\",1,0)","v":0},{"$f":"IF(dotaznik_data2!$I39=\"sport\",1,0)","v":0},{"$f":"IF(dotaznik_data2!$I39=\"jiné\",1,0)","v":0}]
[null,null,null,null,null,null,null,39,{"$f":"IF(dotaznik_data2!$I40=\"cestování rekreační\",1,0)","v":1},{"$f":"IF(dotaznik_data2!$I40=\"cestování do zaměstnání\",1,0)","v":0},{"$f":"IF(dotaznik_data2!$I40=\"sport\",1,0)","v":0},{"$f":"IF(dotaznik_data2!$I40=\"jiné\",1,0)","v":0}]
[null,null,null,null,null,null,null,40,{"$f":"IF(dotaznik_data2!$I41=\"cestování rekreační\",1,0)","v":0},{"$f":"IF(dotaznik_data2!$I41=\"cestování do zaměstnání\",1,0)","v":0},{"$f":"IF(dotaznik_data2!$I41=\"sport\",1,0)","v":1},{"$f":"IF(dotaznik_data2!$I41=\"jiné\",1,0)","v":0}]
[null,null,null,null,null,null,null,41,{"$f":"IF(dotaznik_data2!$I42=\"cestování rekreační\",1,0)","v":1},{"$f":"IF(dotaznik_data2!$I42=\"cestování do zaměstnání\",1,0)","v":0},{"$f":"IF(dotaznik_data2!$I42=\"sport\",1,0)","v":0},{"$f":"IF(dotaznik_data2!$I42=\"jiné\",1,0)","v":0}]
[null,null,null,null,null,null,null,42,{"$f":"IF(dotaznik_data2!$I43=\"cestování rekreační\",1,0)","v":0},{"$f":"IF(dotaznik_data2!$I43=\"cestování do zaměstnání\",1,0)","v":1},{"$f":"IF(dotaznik_data2!$I43=\"sport\",1,0)","v":0},{"$f":"IF(dotaznik_data2!$I43=\"jiné\",1,0)","v":0}]
[null,null,null,null,null,null,null,43,{"$f":"IF(dotaznik_data2!$I44=\"cestování rekreační\",1,0)","v":0},{"$f":"IF(dotaznik_data2!$I44=\"cestování do zaměstnání\",1,0)","v":0},{"$f":"IF(dotaznik_data2!$I44=\"sport\",1,0)","v":1},{"$f":"IF(dotaznik_data2!$I44=\"jiné\",1,0)","v":0}]
[null,null,null,null,null,null,null,44,{"$f":"IF(dotaznik_data2!$I45=\"cestování rekreační\",1,0)","v":1},{"$f":"IF(dotaznik_data2!$I45=\"cestování do zaměstnání\",1,0)","v":0},{"$f":"IF(dotaznik_data2!$I45=\"sport\",1,0)","v":0},{"$f":"IF(dotaznik_data2!$I45=\"jiné\",1,0)","v":0}]
[null,null,null,null,null,null,null,45,{"$f":"IF(dotaznik_data2!$I46=\"cestování rekreační\",1,0)","v":0},{"$f":"IF(dotaznik_data2!$I46=\"cestování do zaměstnání\",1,0)","v":0},{"$f":"IF(dotaznik_data2!$I46=\"sport\",1,0)","v":1},{"$f":"IF(dotaznik_data2!$I46=\"jiné\",1,0)","v":0}]
[null,null,null,null,null,null,null,46,{"$f":"IF(dotaznik_data2!$I47=\"cestování rekreační\",1,0)","v":1},{"$f":"IF(dotaznik_data2!$I47=\"cestování do zaměstnání\",1,0)","v":0},{"$f":"IF(dotaznik_data2!$I47=\"sport\",1,0)","v":0},{"$f":"IF(dotaznik_data2!$I47=\"jiné\",1,0)","v":0}]
[null,null,null,null,null,null,null,47,{"$f":"IF(dotaznik_data2!$I48=\"cestování rekreační\",1,0)","v":1},{"$f":"IF(dotaznik_data2!$I48=\"cestování do zaměstnání\",1,0)","v":0},{"$f":"IF(dotaznik_data2!$I48=\"sport\",1,0)","v":0},{"$f":"IF(dotaznik_data2!$I48=\"jiné\",1,0)","v":0}]
[null,null,null,null,null,null,null,48,{"$f":"IF(dotaznik_data2!$I49=\"cestování rekreační\",1,0)","v":1},{"$f":"IF(dotaznik_data2!$I49=\"cestování do zaměstnání\",1,0)","v":0},{"$f":"IF(dotaznik_data2!$I49=\"sport\",1,0)","v":0},{"$f":"IF(dotaznik_data2!$I49=\"jiné\",1,0)","v":0}]
[null,null,null,null,null,null,null,49,{"$f":"IF(dotaznik_data2!$I50=\"cestování rekreační\",1,0)","v":1},{"$f":"IF(dotaznik_data2!$I50=\"cestování do zaměstnání\",1,0)","v":0},{"$f":"IF(dotaznik_data2!$I50=\"sport\",1,0)","v":0},{"$f":"IF(dotaznik_data2!$I50=\"jiné\",1,0)","v":0}]
[null,null,null,null,null,null,null,50,{"$f":"IF(dotaznik_data2!$I51=\"cestování rekreační\",1,0)","v":0},{"$f":"IF(dotaznik_data2!$I51=\"cestování do zaměstnání\",1,0)","v":1},{"$f":"IF(dotaznik_data2!$I51=\"sport\",1,0)","v":0},{"$f":"IF(dotaznik_data2!$I51=\"jiné\",1,0)","v":0}]
[]
[9,"Jak často kolo využíváte ke zmíněnému účelu ",null,null,null,null,"více jak 2x týdně"]
[null,null,null,null,null,null,"1-2x týdně"]
[null,null,null,null,null,null,"několikrát za měsíc"]
[null,null,null,null,null,null,"několikrát za rok","četnost",{"$f":"COUNTIF(I453:I502,1)","v":16},{"$f":"COUNTIF(J453:J502,1)","v":5},15,9,0]
[null,null,null,null,null,null,"méně často","odpověď","více jak 2x týdně","1-2x týdně","několikrát za měsíc","několikrát za rok","méně často"]
[null,null,null,null,null,null,"respondent číslo",1,{"$f":"IF(dotaznik_data2!$J2=\"více jak 2x týdně\",1,0)","v":0},{"$f":"IF(dotaznik_data2!$J2=\"1-2x týdně\",1,0)","v":1},{"$f":"IF(dotaznik_data2!$J2=\"několikrát za měsíc\",1,0)","v":0},{"$f":"IF(dotaznik_data2!$J2=\"několikrát za rok\",1,0)","v":0},{"$f":"IF(dotaznik_data2!$J2=\"méně často\",1,0)","v":0}]
[null,null,null,null,null,null,null,2,{"$f":"IF(dotaznik_data2!$J3=\"více jak 2x týdně\",1,0)","v":0},{"$f":"IF(dotaznik_data2!$J3=\"1-2x týdně\",1,0)","v":0},{"$f":"IF(dotaznik_data2!$J3=\"několikrát za měsíc\",1,0)","v":1},{"$f":"IF(dotaznik_data2!$J3=\"několikrát za rok\",1,0)","v":0},{"$f":"IF(dotaznik_data2!$J3=\"méně často\",1,0)","v":0}]
[null,null,null,null,null,null,null,3,{"$f":"IF(dotaznik_data2!$J4=\"více jak 2x týdně\",1,0)","v":0},{"$f":"IF(dotaznik_data2!$J4=\"1-2x týdně\",1,0)","v":0},{"$f":"IF(dotaznik_data2!$J4=\"několikrát za měsíc\",1,0)","v":1},{"$f":"IF(dotaznik_data2!$J4=\"několikrát za rok\",1,0)","v":0},{"$f":"IF(dotaznik_data2!$J4=\"méně často\",1,0)","v":0}]
[null,null,null,null,null,null,null,4,{"$f":"IF(dotaznik_data2!$J5=\"více jak 2x týdně\",1,0)","v":1},{"$f":"IF(dotaznik_data2!$J5=\"1-2x týdně\",1,0)","v":0},{"$f":"IF(dotaznik_data2!$J5=\"několikrát za měsíc\",1,0)","v":0},{"$f":"IF(dotaznik_data2!$J5=\"několikrát za rok\",1,0)","v":0},{"$f":"IF(dotaznik_data2!$J5=\"méně často\",1,0)","v":0}]
[null,null,null,null,null,null,null,5,{"$f":"IF(dotaznik_data2!$J6=\"více jak 2x týdně\",1,0)","v":0},{"$f":"IF(dotaznik_data2!$J6=\"1-2x týdně\",1,0)","v":0},{"$f":"IF(dotaznik_data2!$J6=\"několikrát za měsíc\",1,0)","v":1},{"$f":"IF(dotaznik_data2!$J6=\"několikrát za rok\",1,0)","v":0},{"$f":"IF(dotaznik_data2!$J6=\"méně často\",1,0)","v":0}]
[null,null,null,null,null,null,null,6,{"$f":"IF(dotaznik_data2!$J7=\"více jak 2x týdně\",1,0)","v":0},{"$f":"IF(dotaznik_data2!$J7=\"1-2x týdně\",1,0)","v":0},{"$f":"IF(dotaznik_data2!$J7=\"několikrát za měsíc\",1,0)","v":1},{"$f":"IF(dotaznik_data2!$J7=\"několikrát za rok\",1,0)","v":0},{"$f":"IF(dotaznik_data2!$J7=\"méně často\",1,0)","v":0}]
[null,null,null,null,null,null,null,7,{"$f":"IF(dotaznik_data2!$J8=\"více jak 2x týdně\",1,0)","v":0},{"$f":"IF(dotaznik_data2!$J8=\"1-2x týdně\",1,0)","v":0},{"$f":"IF(dotaznik_data2!$J8=\"několikrát za měsíc\",1,0)","v":0},{"$f":"IF(dotaznik_data2!$J8=\"několikrát za rok\",1,0)","v":1},{"$f":"IF(dotaznik_data2!$J8=\"méně často\",1,0)","v":0}]
[null,null,null,null,null,null,null,8,{"$f":"IF(dotaznik_data2!$J9=\"více jak 2x týdně\",1,0)","v":0},{"$f":"IF(dotaznik_data2!$J9=\"1-2x týdně\",1,0)","v":0},{"$f":"IF(dotaznik_data2!$J9=\"několikrát za měsíc\",1,0)","v":0},{"$f":"IF(dotaznik_data2!$J9=\"několikrát za rok\",1,0)","v":1},{"$f":"IF(dotaznik_data2!$J9=\"méně často\",1,0)","v":0}]
[null,null,null,null,null,null,null,9,{"$f":"IF(dotaznik_data2!$J10=\"více jak 2x týdně\",1,0)","v":0},{"$f":"IF(dotaznik_data2!$J10=\"1-2x týdně\",1,0)","v":0},{"$f":"IF(dotaznik_data2!$J10=\"několikrát za měsíc\",1,0)","v":0},{"$f":"IF(dotaznik_data2!$J10=\"několikrát za rok\",1,0)","v":0},{"$f":"IF(dotaznik_data2!$J10=\"méně často\",1,0)","v":0}]
[null,null,null,null,null,null,null,10,{"$f":"IF(dotaznik_data2!$J11=\"více jak 2x týdně\",1,0)","v":0},{"$f":"IF(dotaznik_data2!$J11=\"1-2x týdně\",1,0)","v":0},{"$f":"IF(dotaznik_data2!$J11=\"několikrát za měsíc\",1,0)","v":1},{"$f":"IF(dotaznik_data2!$J11=\"několikrát za rok\",1,0)","v":0},{"$f":"IF(dotaznik_data2!$J11=\"méně často\",1,0)","v":0}]
[null,null,null,null,null,null,null,11,{"$f":"IF(dotaznik_data2!$J12=\"více jak 2x týdně\",1,0)","v":0},{"$f":"IF(dotaznik_data2!$J12=\"1-2x týdně\",1,0)","v":0},{"$f":"IF(dotaznik_data2!$J12=\"několikrát za měsíc\",1,0)","v":1},{"$f":"IF(dotaznik_data2!$J12=\"několikrát za rok\",1,0)","v":0},{"$f":"IF(dotaznik_data2!$J12=\"méně často\",1,0)","v":0}]
[null,null,null,null,null,null,null,12,{"$f":"IF(dotaznik_data2!$J13=\"více jak 2x týdně\",1,0)","v":1},{"$f":"IF(dotaznik_data2!$J13=\"1-2x týdně\",1,0)","v":0},{"$f":"IF(dotaznik_data2!$J13=\"několikrát za měsíc\",1,0)","v":0},{"$f":"IF(dotaznik_data2!$J13=\"několikrát za rok\",1,0)","v":0},{"$f":"IF(dotaznik_data2!$J13=\"méně často\",1,0)","v":0}]
[null,null,null,null,null,null,null,13,{"$f":"IF(dotaznik_data2!$J14=\"více jak 2x týdně\",1,0)","v":0},{"$f":"IF(dotaznik_data2!$J14=\"1-2x týdně\",1,0)","v":0},{"$f":"IF(dotaznik_data2!$J14=\"několikrát za měsíc\",1,0)","v":0},{"$f":"IF(dotaznik_data2!$J14=\"několikrát za rok\",1,0)","v":1},{"$f":"IF(dotaznik_data2!$J14=\"méně často\",1,0)","v":0}]
[null,null,null,null,null,null,null,14,{"$f":"IF(dotaznik_data2!$J15=\"více jak 2x týdně\",1,0)","v":0},{"$f":"IF(dotaznik_data2!$J15=\"1-2x týdně\",1,0)","v":0},{"$f":"IF(dotaznik_data2!$J15=\"několikrát za měsíc\",1,0)","v":1},{"$f":"IF(dotaznik_data2!$J15=\"několikrát za rok\",1,0)","v":0},{"$f":"IF(dotaznik_data2!$J15=\"méně často\",1,0)","v":0}]
[null,null,null,null,null,null,null,15,{"$f":"IF(dotaznik_data2!$J16=\"více jak 2x týdně\",1,0)","v":0},{"$f":"IF(dotaznik_data2!$J16=\"1-2x týdně\",1,0)","v":0},{"$f":"IF(dotaznik_data2!$J16=\"několikrát za měsíc\",1,0)","v":0},{"$f":"IF(dotaznik_data2!$J16=\"několikrát za rok\",1,0)","v":0},{"$f":"IF(dotaznik_data2!$J16=\"méně často\",1,0)","v":0}]
[null,null,null,null,null,null,null,16,{"$f":"IF(dotaznik_data2!$J17=\"více jak 2x týdně\",1,0)","v":1},{"$f":"IF(dotaznik_data2!$J17=\"1-2x týdně\",1,0)","v":0},{"$f":"IF(dotaznik_data2!$J17=\"několikrát za měsíc\",1,0)","v":0},{"$f":"IF(dotaznik_data2!$J17=\"několikrát za rok\",1,0)","v":0},{"$f":"IF(dotaznik_data2!$J17=\"méně často\",1,0)","v":0}]
[null,null,null,null,null,null,null,17,{"$f":"IF(dotaznik_data2!$J18=\"více jak 2x týdně\",1,0)","v":0},{"$f":"IF(dotaznik_data2!$J18=\"1-2x týdně\",1,0)","v":0},{"$f":"IF(dotaznik_data2!$J18=\"několikrát za měsíc\",1,0)","v":0},{"$f":"IF(dotaznik_data2!$J18=\"několikrát za rok\",1,0)","v":1},{"$f":"IF(dotaznik_data2!$J18=\"méně často\",1,0)","v":0}]
[null,null,null,null,null,null,null,18,{"$f":"IF(dotaznik_data2!$J19=\"více jak 2x týdně\",1,0)","v":1},{"$f":"IF(dotaznik_data2!$J19=\"1-2x týdně\",1,0)","v":0},{"$f":"IF(dotaznik_data2!$J19=\"několikrát za měsíc\",1,0)","v":0},{"$f":"IF(dotaznik_data2!$J19=\"několikrát za rok\",1,0)","v":0},{"$f":"IF(dotaznik_data2!$J19=\"méně často\",1,0)","v":0}]
[null,null,null,null,null,null,null,19,{"$f":"IF(dotaznik_data2!$J20=\"více jak 2x týdně\",1,0)","v":0},{"$f":"IF(dotaznik_data2!$J20=\"1-2x týdně\",1,0)","v":0},{"$f":"IF(dotaznik_data2!$J20=\"několikrát za měsíc\",1,0)","v":1},{"$f":"IF(dotaznik_data2!$J20=\"několikrát za rok\",1,0)","v":0},{"$f":"IF(dotaznik_data2!$J20=\"méně často\",1,0)","v":0}]
[null,null,null,null,null,null,null,20,{"$f":"IF(dotaznik_data2!$J21=\"více jak 2x týdně\",1,0)","v":0},{"$f":"IF(dotaznik_data2!$J21=\"1-2x týdně\",1,0)","v":0},{"$f":"IF(dotaznik_data2!$J21=\"několikrát za měsíc\",1,0)","v":1},{"$f":"IF(dotaznik_data2!$J21=\"několikrát za rok\",1,0)","v":0},{"$f":"IF(dotaznik_data2!$J21=\"méně často\",1,0)","v":0}]
[null,null,null,null,null,null,null,21,{"$f":"IF(dotaznik_data2!$J22=\"více jak 2x týdně\",1,0)","v":0},{"$f":"IF(dotaznik_data2!$J22=\"1-2x týdně\",1,0)","v":0},{"$f":"IF(dotaznik_data2!$J22=\"několikrát za měsíc\",1,0)","v":0},{"$f":"IF(dotaznik_data2!$J22=\"několikrát za rok\",1,0)","v":1},{"$f":"IF(dotaznik_data2!$J22=\"méně často\",1,0)","v":0}]
[null,null,null,null,null,null,null,22,{"$f":"IF(dotaznik_data2!$J23=\"více jak 2x týdně\",1,0)","v":0},{"$f":"IF(dotaznik_data2!$J23=\"1-2x týdně\",1,0)","v":0},{"$f":"IF(dotaznik_data2!$J23=\"několikrát za měsíc\",1,0)","v":0},{"$f":"IF(dotaznik_data2!$J23=\"několikrát za rok\",1,0)","v":0},{"$f":"IF(dotaznik_data2!$J23=\"méně často\",1,0)","v":0}]
[null,null,null,null,null,null,null,23,{"$f":"IF(dotaznik_data2!$J24=\"více jak 2x týdně\",1,0)","v":0},{"$f":"IF(dotaznik_data2!$J24=\"1-2x týdně\",1,0)","v":0},{"$f":"IF(dotaznik_data2!$J24=\"několikrát za měsíc\",1,0)","v":1},{"$f":"IF(dotaznik_data2!$J24=\"několikrát za rok\",1,0)","v":0},{"$f":"IF(dotaznik_data2!$J24=\"méně často\",1,0)","v":0}]
[null,null,null,null,null,null,null,24,{"$f":"IF(dotaznik_data2!$J25=\"více jak 2x týdně\",1,0)","v":1},{"$f":"IF(dotaznik_data2!$J25=\"1-2x týdně\",1,0)","v":0},{"$f":"IF(dotaznik_data2!$J25=\"několikrát za měsíc\",1,0)","v":0},{"$f":"IF(dotaznik_data2!$J25=\"několikrát za rok\",1,0)","v":0},{"$f":"IF(dotaznik_data2!$J25=\"méně často\",1,0)","v":0}]
[null,null,null,null,null,null,null,25,{"$f":"IF(dotaznik_data2!$J26=\"více jak 2x týdně\",1,0)","v":0},{"$f":"IF(dotaznik_data2!$J26=\"1-2x týdně\",1,0)","v":0},{"$f":"IF(dotaznik_data2!$J26=\"několikrát za měsíc\",1,0)","v":0},{"$f":"IF(dotaznik_data2!$J26=\"několikrát za rok\",1,0)","v":0},{"$f":"IF(dotaznik_data2!$J26=\"méně často\",1,0)","v":0}]
[null,null,null,null,null,null,null,26,{"$f":"IF(dotaznik_data2!$J27=\"více jak 2x týdně\",1,0)","v":1},{"$f":"IF(dotaznik_data2!$J27=\"1-2x týdně\",1,0)","v":0},{"$f":"IF(dotaznik_data2!$J27=\"několikrát za měsíc\",1,0)","v":0},{"$f":"IF(dotaznik_data2!$J27=\"několikrát za rok\",1,0)","v":0},{"$f":"IF(dotaznik_data2!$J27=\"méně často\",1,0)","v":0}]
[null,null,null,null,null,null,null,27,{"$f":"IF(dotaznik_data2!$J28=\"více jak 2x týdně\",1,0)","v":0},{"$f":"IF(dotaznik_data2!$J28=\"1-2x týdně\",1,0)","v":0},{"$f":"IF(dotaznik_data2!$J28=\"několikrát za měsíc\",1,0)","v":1},{"$f":"IF(dotaznik_data2!$J28=\"několikrát za rok\",1,0)","v":0},{"$f":"IF(dotaznik_data2!$J28=\"méně často\",1,0)","v":0}]
[null,null,null,null,null,null,null,28,{"$f":"IF(dotaznik_data2!$J29=\"více jak 2x týdně\",1,0)","v":1},{"$f":"IF(dotaznik_data2!$J29=\"1-2x týdně\",1,0)","v":0},{"$f":"IF(dotaznik_data2!$J29=\"několikrát za měsíc\",1,0)","v":0},{"$f":"IF(dotaznik_data2!$J29=\"několikrát za rok\",1,0)","v":0},{"$f":"IF(dotaznik_data2!$J29=\"méně často\",1,0)","v":0}]
[null,null,null,null,null,null,null,29,{"$f":"IF(dotaznik_data2!$J30=\"více jak 2x týdně\",1,0)","v":0},{"$f":"IF(dotaznik_data2!$J30=\"1-2x týdně\",1,0)","v":1},{"$f":"IF(dotaznik_data2!$J30=\"několikrát za měsíc\",1,0)","v":0},{"$f":"IF(dotaznik_data2!$J30=\"několikrát za rok\",1,0)","v":0},{"$f":"IF(dotaznik_data2!$J30=\"méně často\",1,0)","v":0}]
[null,null,null,null,null,null,null,30,{"$f":"IF(dotaznik_data2!$J31=\"více jak 2x týdně\",1,0)","v":0},{"$f":"IF(dotaznik_data2!$J31=\"1-2x týdně\",1,0)","v":0},{"$f":"IF(dotaznik_data2!$J31=\"několikrát za měsíc\",1,0)","v":1},{"$f":"IF(dotaznik_data2!$J31=\"několikrát za rok\",1,0)","v":0},{"$f":"IF(dotaznik_data2!$J31=\"méně často\",1,0)","v":0}]
[null,null,null,null,null,null,null,31,{"$f":"IF(dotaznik_data2!$J32=\"více jak 2x týdně\",1,0)","v":0},{"$f":"IF(dotaznik_data2!$J32=\"1-2x týdně\",1,0)","v":0},{"$f":"IF(dotaznik_data2!$J32=\"několikrát za měsíc\",1,0)","v":0},{"$f":"IF(dotaznik_data2!$J32=\"několikrát za rok\",1,0)","v":0},{"$f":"IF(dotaznik_data2!$J32=\"méně často\",1,0)","v":0}]
[null,null,null,null,null,null,null,32,{"$f":"IF(dotaznik_data2!$J33=\"více jak 2x týdně\",1,0)","v":0},{"$f":"IF(dotaznik_data2!$J33=\"1-2x týdně\",1,0)","v":1},{"$f":"IF(dotaznik_data2!$J33=\"několikrát za měsíc\",1,0)","v":0},{"$f":"IF(dotaznik_data2!$J33=\"několikrát za rok\",1,0)","v":0},{"$f":"IF(dotaznik_data2!$J33=\"méně často\",1,0)","v":0}]
[null,null,null,null,null,null,null,33,{"$f":"IF(dotaznik_data2!$J34=\"více jak 2x týdně\",1,0)","v":0},{"$f":"IF(dotaznik_data2!$J34=\"1-2x týdně\",1,0)","v":0},{"$f":"IF(dotaznik_data2!$J34=\"několikrát za měsíc\",1,0)","v":1},{"$f":"IF(dotaznik_data2!$J34=\"několikrát za rok\",1,0)","v":0},{"$f":"IF(dotaznik_data2!$J34=\"méně často\",1,0)","v":0}]
[null,null,null,null,null,null,null,34,{"$f":"IF(dotaznik_data2!$J35=\"více jak 2x týdně\",1,0)","v":1},{"$f":"IF(dotaznik_data2!$J35=\"1-2x týdně\",1,0)","v":0},{"$f":"IF(dotaznik_data2!$J35=\"několikrát za měsíc\",1,0)","v":0},{"$f":"IF(dotaznik_data2!$J35=\"několikrát za rok\",1,0)","v":0},{"$f":"IF(dotaznik_data2!$J35=\"méně často\",1,0)","v":0}]
[null,null,null,null,null,null,null,35,{"$f":"IF(dotaznik_data2!$J36=\"více jak 2x týdně\",1,0)","v":1},{"$f":"IF(dotaznik_data2!$J36=\"1-2x týdně\",1,0)","v":0},{"$f":"IF(dotaznik_data2!$J36=\"několikrát za měsíc\",1,0)","v":0},{"$f":"IF(dotaznik_data2!$J36=\"několikrát za rok\",1,0)","v":0},{"$f":"IF(dotaznik_data2!$J36=\"méně často\",1,0)","v":0}]
[null,null,null,null,null,null,null,36,{"$f":"IF(dotaznik_data2!$J37=\"více jak 2x týdně\",1,0)","v":1},{"$f":"IF(dotaznik_data2!$J37=\"1-2x týdně\",1,0)","v":0},{"$f":"IF(dotaznik_data2!$J37=\"několikrát za měsíc\",1,0)","v":0},{"$f":"IF(dotaznik_data2!$J37=\"několikrát za rok\",1,0)","v":0},{"$f":"IF(dotaznik_data2!$J37=\"méně často\",1,0)","v":0}]
[null,null,null,null,null,null,null,37,{"$f":"IF(dotaznik_data2!$J38=\"více jak 2x týdně\",1,0)","v":0},{"$f":"IF(dotaznik_data2!$J38=\"1-2x týdně\",1,0)","v":1},{"$f":"IF(dotaznik_data2!$J38=\"několikrát za měsíc\",1,0)","v":0},{"$f":"IF(dotaznik_data2!$J38=\"několikrát za rok\",1,0)","v":0},{"$f":"IF(dotaznik_data2!$J38=\"méně často\",1,0)","v":0}]
[null,null,null,null,null,null,null,38,{"$f":"IF(dotaznik_data2!$J39=\"více jak 2x týdně\",1,0)","v":0},{"$f":"IF(dotaznik_data2!$J39=\"1-2x týdně\",1,0)","v":0},{"$f":"IF(dotaznik_data2!$J39=\"několikrát za měsíc\",1,0)","v":1},{"$f":"IF(dotaznik_data2!$J39=\"několikrát za rok\",1,0)","v":0},{"$f":"IF(dotaznik_data2!$J39=\"méně často\",1,0)","v":0}]
[null,null,null,null,null,null,null,39,{"$f":"IF(dotaznik_data2!$J40=\"více jak 2x týdně\",1,0)","v":0},{"$f":"IF(dotaznik_data2!$J40=\"1-2x týdně\",1,0)","v":0},{"$f":"IF(dotaznik_data2!$J40=\"několikrát za měsíc\",1,0)","v":0},{"$f":"IF(dotaznik_data2!$J40=\"několikrát za rok\",1,0)","v":1},{"$f":"IF(dotaznik_data2!$J40=\"méně často\",1,0)","v":0}]
[null,null,null,null,null,null,null,40,{"$f":"IF(dotaznik_data2!$J41=\"více jak 2x týdně\",1,0)","v":1},{"$f":"IF(dotaznik_data2!$J41=\"1-2x týdně\",1,0)","v":0},{"$f":"IF(dotaznik_data2!$J41=\"několikrát za měsíc\",1,0)","v":0},{"$f":"IF(dotaznik_data2!$J41=\"několikrát za rok\",1,0)","v":0},{"$f":"IF(dotaznik_data2!$J41=\"méně často\",1,0)","v":0}]
[null,null,null,null,null,null,null,41,{"$f":"IF(dotaznik_data2!$J42=\"více jak 2x týdně\",1,0)","v":0},{"$f":"IF(dotaznik_data2!$J42=\"1-2x týdně\",1,0)","v":0},{"$f":"IF(dotaznik_data2!$J42=\"několikrát za měsíc\",1,0)","v":0},{"$f":"IF(dotaznik_data2!$J42=\"několikrát za rok\",1,0)","v":1},{"$f":"IF(dotaznik_data2!$J42=\"méně často\",1,0)","v":0}]
[null,null,null,null,null,null,null,42,{"$f":"IF(dotaznik_data2!$J43=\"více jak 2x týdně\",1,0)","v":1},{"$f":"IF(dotaznik_data2!$J43=\"1-2x týdně\",1,0)","v":0},{"$f":"IF(dotaznik_data2!$J43=\"několikrát za měsíc\",1,0)","v":0},{"$f":"IF(dotaznik_data2!$J43=\"několikrát za rok\",1,0)","v":0},{"$f":"IF(dotaznik_data2!$J43=\"méně často\",1,0)","v":0}]
[null,null,null,null,null,null,null,43,{"$f":"IF(dotaznik_data2!$J44=\"více jak 2x týdně\",1,0)","v":0},{"$f":"IF(dotaznik_data2!$J44=\"1-2x týdně\",1,0)","v":1},{"$f":"IF(dotaznik_data2!$J44=\"několikrát za měsíc\",1,0)","v":0},{"$f":"IF(dotaznik_data2!$J44=\"několikrát za rok\",1,0)","v":0},{"$f":"IF(dotaznik_data2!$J44=\"méně často\",1,0)","v":0}]
[null,null,null,null,null,null,null,44,{"$f":"IF(dotaznik_data2!$J45=\"více jak 2x týdně\",1,0)","v":0},{"$f":"IF(dotaznik_data2!$J45=\"1-2x týdně\",1,0)","v":0},{"$f":"IF(dotaznik_data2!$J45=\"několikrát za měsíc\",1,0)","v":0},{"$f":"IF(dotaznik_data2!$J45=\"několikrát za rok\",1,0)","v":1},{"$f":"IF(dotaznik_data2!$J45=\"méně často\",1,0)","v":0}]
[null,null,null,null,null,null,null,45,{"$f":"IF(dotaznik_data2!$J46=\"více jak 2x týdně\",1,0)","v":1},{"$f":"IF(dotaznik_data2!$J46=\"1-2x týdně\",1,0)","v":0},{"$f":"IF(dotaznik_data2!$J46=\"několikrát za měsíc\",1,0)","v":0},{"$f":"IF(dotaznik_data2!$J46=\"několikrát za rok\",1,0)","v":0},{"$f":"IF(dotaznik_data2!$J46=\"méně často\",1,0)","v":0}]
[null,null,null,null,null,null,null,46,{"$f":"IF(dotaznik_data2!$J47=\"více jak 2x týdně\",1,0)","v":0},{"$f":"IF(dotaznik_data2!$J47=\"1-2x týdně\",1,0)","v":0},{"$f":"IF(dotaznik_data2!$J47=\"několikrát za měsíc\",1,0)","v":0},{"$f":"IF(dotaznik_data2!$J47=\"několikrát za rok\",1,0)","v":1},{"$f":"IF(dotaznik_data2!$J47=\"méně často\",1,0)","v":0}]
[null,null,null,null,null,null,null,47,{"$f":"IF(dotaznik_data2!$J48=\"více jak 2x týdně\",1,0)","v":1},{"$f":"IF(dotaznik_data2!$J48=\"1-2x týdně\",1,0)","v":0},{"$f":"IF(dotaznik_data2!$J48=\"několikrát za měsíc\",1,0)","v":0},{"$f":"IF(dotaznik_data2!$J48=\"několikrát za rok\",1,0)","v":0},{"$f":"IF(dotaznik_data2!$J48=\"méně často\",1,0)","v":0}]
[null,null,null,null,null,null,null,48,{"$f":"IF(dotaznik_data2!$J49=\"více jak 2x týdně\",1,0)","v":1},{"$f":"IF(dotaznik_data2!$J49=\"1-2x týdně\",1,0)","v":0},{"$f":"IF(dotaznik_data2!$J49=\"několikrát za měsíc\",1,0)","v":0},{"$f":"IF(dotaznik_data2!$J49=\"několikrát za rok\",1,0)","v":0},{"$f":"IF(dotaznik_data2!$J49=\"méně často\",1,0)","v":0}]
[null,null,null,null,null,null,null,49,{"$f":"IF(dotaznik_data2!$J50=\"více jak 2x týdně\",1,0)","v":0},{"$f":"IF(dotaznik_data2!$J50=\"1-2x týdně\",1,0)","v":0},{"$f":"IF(dotaznik_data2!$J50=\"několikrát za měsíc\",1,0)","v":1},{"$f":"IF(dotaznik_data2!$J50=\"několikrát za rok\",1,0)","v":0},{"$f":"IF(dotaznik_data2!$J50=\"méně často\",1,0)","v":0}]
[null,null,null,null,null,null,null,50,{"$f":"IF(dotaznik_data2!$J51=\"více jak 2x týdně\",1,0)","v":1},{"$f":"IF(dotaznik_data2!$J51=\"1-2x týdně\",1,0)","v":0},{"$f":"IF(dotaznik_data2!$J51=\"několikrát za měsíc\",1,0)","v":0},{"$f":"IF(dotaznik_data2!$J51=\"několikrát za rok\",1,0)","v":0},{"$f":"IF(dotaznik_data2!$J51=\"méně často\",1,0)","v":0}]
[]
[10,"K jakému účelu kolo  využíváte ještě ?",null,null,null,null,"cestování rekreační"]
[null,null,null,null,null,null,"cestování do zaměstnání"]
[null,null,null,null,null,null,"sport"]
[null,null,null,null,null,null,"jiné (napište)","četnost",{"$f":"COUNTIF(I509:I558,1)","v":10},{"$f":"COUNTIF(J509:J558,1)","v":12},8,13]
[null,null,null,null,null,null,null,"odpověď","cestování rekreační","cestování do zaměstnání","sport","jiné (napište)"]
[null,null,null,null,null,null,"respondent číslo",1,{"$f":"IF(dotaznik_data2!$K2=\"cestování rekreační\",1,0)","v":0},{"$f":"IF(dotaznik_data2!$K2=\"cestování do zaměstnání\",1,0)","v":0},{"$f":"IF(dotaznik_data2!$K2=\"sport\",1,0)","v":1},{"$f":"IF(dotaznik_data2!$K2=\"jiné (napište)\",1,0)","v":0}]
[null,null,null,null,null,null,null,2,{"$f":"IF(dotaznik_data2!$K3=\"cestování rekreační\",1,0)","v":0},{"$f":"IF(dotaznik_data2!$K3=\"cestování do zaměstnání\",1,0)","v":0},{"$f":"IF(dotaznik_data2!$K3=\"sport\",1,0)","v":0},{"$f":"IF(dotaznik_data2!$K3=\"jiné (napište)\",1,0)","v":1}]
[null,null,null,null,null,null,null,3,{"$f":"IF(dotaznik_data2!$K4=\"cestování rekreační\",1,0)","v":0},{"$f":"IF(dotaznik_data2!$K4=\"cestování do zaměstnání\",1,0)","v":0},{"$f":"IF(dotaznik_data2!$K4=\"sport\",1,0)","v":0},{"$f":"IF(dotaznik_data2!$K4=\"jiné (napište)\",1,0)","v":1}]
[null,null,null,null,null,null,null,4,{"$f":"IF(dotaznik_data2!$K5=\"cestování rekreační\",1,0)","v":0},{"$f":"IF(dotaznik_data2!$K5=\"cestování do zaměstnání\",1,0)","v":0},{"$f":"IF(dotaznik_data2!$K5=\"sport\",1,0)","v":0},{"$f":"IF(dotaznik_data2!$K5=\"jiné (napište)\",1,0)","v":1}]
[null,null,null,null,null,null,null,5,{"$f":"IF(dotaznik_data2!$K6=\"cestování rekreační\",1,0)","v":0},{"$f":"IF(dotaznik_data2!$K6=\"cestování do zaměstnání\",1,0)","v":0},{"$f":"IF(dotaznik_data2!$K6=\"sport\",1,0)","v":0},{"$f":"IF(dotaznik_data2!$K6=\"jiné (napište)\",1,0)","v":1}]
[null,null,null,null,null,null,null,6,{"$f":"IF(dotaznik_data2!$K7=\"cestování rekreační\",1,0)","v":0},{"$f":"IF(dotaznik_data2!$K7=\"cestování do zaměstnání\",1,0)","v":0},{"$f":"IF(dotaznik_data2!$K7=\"sport\",1,0)","v":0},{"$f":"IF(dotaznik_data2!$K7=\"jiné (napište)\",1,0)","v":1}]
[null,null,null,null,null,null,null,7,{"$f":"IF(dotaznik_data2!$K8=\"cestování rekreační\",1,0)","v":0},{"$f":"IF(dotaznik_data2!$K8=\"cestování do zaměstnání\",1,0)","v":0},{"$f":"IF(dotaznik_data2!$K8=\"sport\",1,0)","v":1},{"$f":"IF(dotaznik_data2!$K8=\"jiné (napište)\",1,0)","v":0}]
[null,null,null,null,null,null,null,8,{"$f":"IF(dotaznik_data2!$K9=\"cestování rekreační\",1,0)","v":0},{"$f":"IF(dotaznik_data2!$K9=\"cestování do zaměstnání\",1,0)","v":0},{"$f":"IF(dotaznik_data2!$K9=\"sport\",1,0)","v":0},{"$f":"IF(dotaznik_data2!$K9=\"jiné (napište)\",1,0)","v":1}]
[null,null,null,null,null,null,null,9,{"$f":"IF(dotaznik_data2!$K10=\"cestování rekreační\",1,0)","v":0},{"$f":"IF(dotaznik_data2!$K10=\"cestování do zaměstnání\",1,0)","v":0},{"$f":"IF(dotaznik_data2!$K10=\"sport\",1,0)","v":0},{"$f":"IF(dotaznik_data2!$K10=\"jiné (napište)\",1,0)","v":0}]
[null,null,null,null,null,null,null,10,{"$f":"IF(dotaznik_data2!$K11=\"cestování rekreační\",1,0)","v":0},{"$f":"IF(dotaznik_data2!$K11=\"cestování do zaměstnání\",1,0)","v":0},{"$f":"IF(dotaznik_data2!$K11=\"sport\",1,0)","v":0},{"$f":"IF(dotaznik_data2!$K11=\"jiné (napište)\",1,0)","v":1}]
[null,null,null,null,null,null,null,11,{"$f":"IF(dotaznik_data2!$K12=\"cestování rekreační\",1,0)","v":1},{"$f":"IF(dotaznik_data2!$K12=\"cestování do zaměstnání\",1,0)","v":0},{"$f":"IF(dotaznik_data2!$K12=\"sport\",1,0)","v":0},{"$f":"IF(dotaznik_data2!$K12=\"jiné (napište)\",1,0)","v":0}]
[null,null,null,null,null,null,null,12,{"$f":"IF(dotaznik_data2!$K13=\"cestování rekreační\",1,0)","v":0},{"$f":"IF(dotaznik_data2!$K13=\"cestování do zaměstnání\",1,0)","v":0},{"$f":"IF(dotaznik_data2!$K13=\"sport\",1,0)","v":1},{"$f":"IF(dotaznik_data2!$K13=\"jiné (napište)\",1,0)","v":0}]
[null,null,null,null,null,null,null,13,{"$f":"IF(dotaznik_data2!$K14=\"cestování rekreační\",1,0)","v":0},{"$f":"IF(dotaznik_data2!$K14=\"cestování do zaměstnání\",1,0)","v":0},{"$f":"IF(dotaznik_data2!$K14=\"sport\",1,0)","v":0},{"$f":"IF(dotaznik_data2!$K14=\"jiné (napište)\",1,0)","v":1}]
[null,null,null,null,null,null,null,14,{"$f":"IF(dotaznik_data2!$K15=\"cestování rekreační\",1,0)","v":0},{"$f":"IF(dotaznik_data2!$K15=\"cestování do zaměstnání\",1,0)","v":0},{"$f":"IF(dotaznik_data2!$K15=\"sport\",1,0)","v":0},{"$f":"IF(dotaznik_data2!$K15=\"jiné (napište)\",1,0)","v":1}]
[null,null,null,null,null,null,null,15,{"$f":"IF(dotaznik_data2!$K16=\"cestování rekreační\",1,0)","v":0},{"$f":"IF(dotaznik_data2!$K16=\"cestování do zaměstnání\",1,0)","v":0},{"$f":"IF(dotaznik_data2!$K16=\"sport\",1,0)","v":0},{"$f":"IF(dotaznik_data2!$K16=\"jiné (napište)\",1,0)","v":0}]
[null,null,null,null,null,null,null,16,{"$f":"IF(dotaznik_data2!$K17=\"cestování rekreační\",1,0)","v":0},{"$f":"IF(dotaznik_data2!$K17=\"cestování do zaměstnání\",1,0)","v":0},{"$f":"IF(dotaznik_data2!$K17=\"sport\",1,0)","v":0},{"$f":"IF(dotaznik_data2!$K17=\"jiné (napište)\",1,0)","v":1}]
[null,null,null,null,null,null,null,17,{"$f":"IF(dotaznik_data2!$K18=\"cestování rekreační\",1,0)","v":1},{"$f":"IF(dotaznik_data2!$K18=\"cestování do zaměstnání\",1,0)","v":0},{"$f":"IF(dotaznik_data2!$K18=\"sport\",1,0)","v":0},{"$f":"IF(dotaznik_data2!$K18=\"jiné (napište)\",1,0)","v":0}]
[null,null,null,null,null,null,null,18,{"$f":"IF(dotaznik_data2!$K19=\"cestování rekreační\",1,0)","v":0},{"$f":"IF(dotaznik_data2!$K19=\"cestování do zaměstnání\",1,0)","v":0},{"$f":"IF(dotaznik_data2!$K19=\"sport\",1,0)","v":0},{"$f":"IF(dotaznik_data2!$K19=\"jiné (napište)\",1,0)","v":1}]
[null,null,null,null,null,null,null,19,{"$f":"IF(dotaznik_data2!$K20=\"cestování rekreační\",1,0)","v":1},{"$f":"IF(dotaznik_data2!$K20=\"cestování do zaměstnání\",1,0)","v":0},{"$f":"IF(dotaznik_data2!$K20=\"sport\",1,0)","v":0},{"$f":"IF(dotaznik_data2!$K20=\"jiné (napište)\",1,0)","v":0}]
[null,null,null,null,null,null,null,20,{"$f":"IF(dotaznik_data2!$K21=\"cestování rekreační\",1,0)","v":0},{"$f":"IF(dotaznik_data2!$K21=\"cestování do zaměstnání\",1,0)","v":0},{"$f":"IF(dotaznik_data2!$K21=\"sport\",1,0)","v":0},{"$f":"IF(dotaznik_data2!$K21=\"jiné (napište)\",1,0)","v":1}]
[null,null,null,null,null,null,null,21,{"$f":"IF(dotaznik_data2!$K22=\"cestování rekreační\",1,0)","v":0},{"$f":"IF(dotaznik_data2!$K22=\"cestování do zaměstnání\",1,0)","v":1},{"$f":"IF(dotaznik_data2!$K22=\"sport\",1,0)","v":0},{"$f":"IF(dotaznik_data2!$K22=\"jiné (napište)\",1,0)","v":0}]
[null,null,null,null,null,null,null,22,{"$f":"IF(dotaznik_data2!$K23=\"cestování rekreační\",1,0)","v":0},{"$f":"IF(dotaznik_data2!$K23=\"cestování do zaměstnání\",1,0)","v":0},{"$f":"IF(dotaznik_data2!$K23=\"sport\",1,0)","v":0},{"$f":"IF(dotaznik_data2!$K23=\"jiné (napište)\",1,0)","v":0}]
[null,null,null,null,null,null,null,23,{"$f":"IF(dotaznik_data2!$K24=\"cestování rekreační\",1,0)","v":0},{"$f":"IF(dotaznik_data2!$K24=\"cestování do zaměstnání\",1,0)","v":1},{"$f":"IF(dotaznik_data2!$K24=\"sport\",1,0)","v":0},{"$f":"IF(dotaznik_data2!$K24=\"jiné (napište)\",1,0)","v":0}]
[null,null,null,null,null,null,null,24,{"$f":"IF(dotaznik_data2!$K25=\"cestování rekreační\",1,0)","v":0},{"$f":"IF(dotaznik_data2!$K25=\"cestování do zaměstnání\",1,0)","v":0},{"$f":"IF(dotaznik_data2!$K25=\"sport\",1,0)","v":1},{"$f":"IF(dotaznik_data2!$K25=\"jiné (napište)\",1,0)","v":0}]
[null,null,null,null,null,null,null,25,{"$f":"IF(dotaznik_data2!$K26=\"cestování rekreační\",1,0)","v":0},{"$f":"IF(dotaznik_data2!$K26=\"cestování do zaměstnání\",1,0)","v":0},{"$f":"IF(dotaznik_data2!$K26=\"sport\",1,0)","v":0},{"$f":"IF(dotaznik_data2!$K26=\"jiné (napište)\",1,0)","v":0}]
[null,null,null,null,null,null,null,26,{"$f":"IF(dotaznik_data2!$K27=\"cestování rekreační\",1,0)","v":1},{"$f":"IF(dotaznik_data2!$K27=\"cestování do zaměstnání\",1,0)","v":0},{"$f":"IF(dotaznik_data2!$K27=\"sport\",1,0)","v":0},{"$f":"IF(dotaznik_data2!$K27=\"jiné (napište)\",1,0)","v":0}]
[null,null,null,null,null,null,null,27,{"$f":"IF(dotaznik_data2!$K28=\"cestování rekreační\",1,0)","v":0},{"$f":"IF(dotaznik_data2!$K28=\"cestování do zaměstnání\",1,0)","v":0},{"$f":"IF(dotaznik_data2!$K28=\"sport\",1,0)","v":1},{"$f":"IF(dotaznik_data2!$K28=\"jiné (napište)\",1,0)","v":0}]
[null,null,null,null,null,null,null,28,{"$f":"IF(dotaznik_data2!$K29=\"cestování rekreační\",1,0)","v":0},{"$f":"IF(dotaznik_data2!$K29=\"cestování do zaměstnání\",1,0)","v":0},{"$f":"IF(dotaznik_data2!$K29=\"sport\",1,0)","v":0},{"$f":"IF(dotaznik_data2!$K29=\"jiné (napište)\",1,0)","v":1}]
[null,null,null,null,null,null,null,29,{"$f":"IF(dotaznik_data2!$K30=\"cestování rekreační\",1,0)","v":0},{"$f":"IF(dotaznik_data2!$K30=\"cestování do zaměstnání\",1,0)","v":1},{"$f":"IF(dotaznik_data2!$K30=\"sport\",1,0)","v":0},{"$f":"IF(dotaznik_data2!$K30=\"jiné (napište)\",1,0)","v":0}]
[null,null,null,null,null,null,null,30,{"$f":"IF(dotaznik_data2!$K31=\"cestování rekreační\",1,0)","v":1},{"$f":"IF(dotaznik_data2!$K31=\"cestování do zaměstnání\",1,0)","v":0},{"$f":"IF(dotaznik_data2!$K31=\"sport\",1,0)","v":0},{"$f":"IF(dotaznik_data2!$K31=\"jiné (napište)\",1,0)","v":0}]
[null,null,null,null,null,null,null,31,{"$f":"IF(dotaznik_data2!$K32=\"cestování rekreační\",1,0)","v":0},{"$f":"IF(dotaznik_data2!$K32=\"cestování do zaměstnání\",1,0)","v":0},{"$f":"IF(dotaznik_data2!$K32=\"sport\",1,0)","v":0},{"$f":"IF(dotaznik_data2!$K32=\"jiné (napište)\",1,0)","v":0}]
[null,null,null,null,null,null,null,32,{"$f":"IF(dotaznik_data2!$K33=\"cestování rekreační\",1,0)","v":0},{"$f":"IF(dotaznik_data2!$K33=\"cestování do zaměstnání\",1,0)","v":0},{"$f":"IF(dotaznik_data2!$K33=\"sport\",1,0)","v":1},{"$f":"IF(dotaznik_data2!$K33=\"jiné (napište)\",1,0)","v":0}]
[null,null,null,null,null,null,null,33,{"$f":"IF(dotaznik_data2!$K34=\"cestování rekreační\",1,0)","v":1},{"$f":"IF(dotaznik_data2!$K34=\"cestování do zaměstnání\",1,0)","v":0},{"$f":"IF(dotaznik_data2!$K34=\"sport\",1,0)","v":0},{"$f":"IF(dotaznik_data2!$K34=\"jiné (napište)\",1,0)","v":0}]
[null,null,null,null,null,null,null,34,{"$f":"IF(dotaznik_data2!$K35=\"cestování rekreační\",1,0)","v":0},{"$f":"IF(dotaznik_data2!$K35=\"cestování do zaměstnání\",1,0)","v":1},{"$f":"IF(dotaznik_data2!$K35=\"sport\",1,0)","v":0},{"$f":"IF(dotaznik_data2!$K35=\"jiné (napište)\",1,0)","v":0}]
[null,null,null,null,null,null,null,35,{"$f":"IF(dotaznik_data2!$K36=\"cestování rekreační\",1,0)","v":0},{"$f":"IF(dotaznik_data2!$K36=\"cestování do zaměstnání\",1,0)","v":0},{"$f":"IF(dotaznik_data2!$K36=\"sport\",1,0)","v":0},{"$f":"IF(dotaznik_data2!$K36=\"jiné (napište)\",1,0)","v":0}]
[null,null,null,null,null,null,null,36,{"$f":"IF(dotaznik_data2!$K37=\"cestování rekreační\",1,0)","v":1},{"$f":"IF(dotaznik_data2!$K37=\"cestování do zaměstnání\",1,0)","v":0},{"$f":"IF(dotaznik_data2!$K37=\"sport\",1,0)","v":0},{"$f":"IF(dotaznik_data2!$K37=\"jiné (napište)\",1,0)","v":0}]
[null,null,null,null,null,null,null,37,{"$f":"IF(dotaznik_data2!$K38=\"cestování rekreační\",1,0)","v":0},{"$f":"IF(dotaznik_data2!$K38=\"cestování do zaměstnání\",1,0)","v":0},{"$f":"IF(dotaznik_data2!$K38=\"sport\",1,0)","v":0},{"$f":"IF(dotaznik_data2!$K38=\"jiné (napište)\",1,0)","v":0}]
[null,null,null,null,null,null,null,38,{"$f":"IF(dotaznik_data2!$K39=\"cestování rekreační\",1,0)","v":0},{"$f":"IF(dotaznik_data2!$K39=\"cestování do zaměstnání\",1,0)","v":1},{"$f":"IF(dotaznik_data2!$K39=\"sport\",1,0)","v":0},{"$f":"IF(dotaznik_data2!$K39=\"jiné (napište)\",1,0)","v":0}]
[null,null,null,null,null,null,null,39,{"$f":"IF(dotaznik_data2!$K40=\"cestování rekreační\",1,0)","v":0},{"$f":"IF(dotaznik_data2!$K40=\"cestování do zaměstnání\",1,0)","v":0},{"$f":"IF(dotaznik_data2!$K40=\"sport\",1,0)","v":1},{"$f":"IF(dotaznik_data2!$K40=\"jiné (napište)\",1,0)","v":0}]
[null,null,null,null,null,null,null,40,{"$f":"IF(dotaznik_data2!$K41=\"cestování rekreační\",1,0)","v":0},{"$f":"IF(dotaznik_data2!$K41=\"cestování do zaměstnání\",1,0)","v":1},{"$f":"IF(dotaznik_data2!$K41=\"sport\",1,0)","v":0},{"$f":"IF(dotaznik_data2!$K41=\"jiné (napište)\",1,0)","v":0}]
[null,null,null,null,null,null,null,41,{"$f":"IF(dotaznik_data2!$K42=\"cestování rekreační\",1,0)","v":0},{"$f":"IF(dotaznik_data2!$K42=\"cestování do zaměstnání\",1,0)","v":1},{"$f":"IF(dotaznik_data2!$K42=\"sport\",1,0)","v":0},{"$f":"IF(dotaznik_data2!$K42=\"jiné (napište)\",1,0)","v":0}]
[null,null,null,null,null,null,null,42,{"$f":"IF(dotaznik_data2!$K43=\"cestování rekreační\",1,0)","v":1},{"$f":"IF(dotaznik_data2!$K43=\"cestování do zaměstnání\",1,0)","v":0},{"$f":"IF(dotaznik_data2!$K43=\"sport\",1,0)","v":0},{"$f":"IF(dotaznik_data2!$K43=\"jiné (napište)\",1,0)","v":0}]
[null,null,null,null,null,null,null,43,{"$f":"IF(dotaznik_data2!$K44=\"cestování rekreační\",1,0)","v":1},{"$f":"IF(dotaznik_data2!$K44=\"cestování do zaměstnání\",1,0)","v":0},{"$f":"IF(dotaznik_data2!$K44=\"sport\",1,0)","v":0},{"$f":"IF(dotaznik_data2!$K44=\"jiné (napište)\",1,0)","v":0}]
[null,null,null,null,null,null,null,44,{"$f":"IF(dotaznik_data2!$K45=\"cestování rekreační\",1,0)","v":0},{"$f":"IF(dotaznik_data2!$K45=\"cestování do zaměstnání\",1,0)","v":1},{"$f":"IF(dotaznik_data2!$K45=\"sport\",1,0)","v":0},{"$f":"IF(dotaznik_data2!$K45=\"jiné (napište)\",1,0)","v":0}]
[null,null,null,null,null,null,null,45,{"$f":"IF(dotaznik_data2!$K46=\"cestování rekreační\",1,0)","v":1},{"$f":"IF(dotaznik_data2!$K46=\"cestování do zaměstnání\",1,0)","v":0},{"$f":"IF(dotaznik_data2!$K46=\"sport\",1,0)","v":0},{"$f":"IF(dotaznik_data2!$K46=\"jiné (napište)\",1,0)","v":0}]
[null,null,null,null,null,null,null,46,{"$f":"IF(dotaznik_data2!$K47=\"cestování rekreační\",1,0)","v":0},{"$f":"IF(dotaznik_data2!$K47=\"cestování do zaměstnání\",1,0)","v":1},{"$f":"IF(dotaznik_data2!$K47=\"sport\",1,0)","v":0},{"$f":"IF(dotaznik_data2!$K47=\"jiné (napište)\",1,0)","v":0}]
[null,null,null,null,null,null,null,47,{"$f":"IF(dotaznik_data2!$K48=\"cestování rekreační\",1,0)","v":0},{"$f":"IF(dotaznik_data2!$K48=\"cestování do zaměstnání\",1,0)","v":1},{"$f":"IF(dotaznik_data2!$K48=\"sport\",1,0)","v":0},{"$f":"IF(dotaznik_data2!$K48=\"jiné (napište)\",1,0)","v":0}]
[null,null,null,null,null,null,null,48,{"$f":"IF(dotaznik_data2!$K49=\"cestování rekreační\",1,0)","v":0},{"$f":"IF(dotaznik_data2!$K49=\"cestování do zaměstnání\",1,0)","v":1},{"$f":"IF(dotaznik_data2!$K49=\"sport\",1,0)","v":0},{"$f":"IF(dotaznik_data2!$K49=\"jiné (napište)\",1,0)","v":0}]
[null,null,null,null,null,null,null,49,{"$f":"IF(dotaznik_data2!$K50=\"cestování rekreační\",1,0)","v":0},{"$f":"IF(dotaznik_data2!$K50=\"cestování do zaměstnání\",1,0)","v":1},{"$f":"IF(dotaznik_data2!$K50=\"sport\",1,0)","v":0},{"$f":"IF(dotaznik_data2!$K50=\"jiné (napište)\",1,0)","v":0}]
[null,null,null,null,null,null,null,50,{"$f":"IF(dotaznik_data2!$K51=\"cestování rekreační\",1,0)","v":0},{"$f":"IF(dotaznik_data2!$K51=\"cestování do zaměstnání\",1,0)","v":0},{"$f":"IF(dotaznik_data2!$K51=\"sport\",1,0)","v":1},{"$f":"IF(dotaznik_data2!$K51=\"jiné (napište)\",1,0)","v":0}]
[]
[11,"Jak často kolo využíváte ke zmíněnému účelu ?",null,null,null,null,"více jak 2x týdně"]
[null,null,null,null,null,null,"1-2x týdně"]
[null,null,null,null,null,null,"několikrát za měsíc"]
[null,null,null,null,null,null,"několikrát za rok","četnost",{"$f":"COUNTIF(I565:I614,1)","v":2},{"$f":"COUNTIF(J565:J614,1)","v":5},10,14,14]
[null,null,null,null,null,null,"méně často","odpověď","více jak 2x týdně","1-2x týdně","několikrát za měsíc","několikrát za rok","méně často"]
[null,null,null,null,null,null,"respondent číslo",1,{"$f":"IF(dotaznik_data2!$L2=\"více jak 2x týdně\",1,0)","v":0},{"$f":"IF(dotaznik_data2!$L2=\"1-2x týdně\",1,0)","v":1},{"$f":"IF(dotaznik_data2!$L2=\"několikrát za měsíc\",1,0)","v":0},{"$f":"IF(dotaznik_data2!$L2=\"několikrát za rok\",1,0)","v":0},{"$f":"IF(dotaznik_data2!$L2=\"méně často\",1,0)","v":0}]
[null,null,null,null,null,null,null,2,{"$f":"IF(dotaznik_data2!$L3=\"více jak 2x týdně\",1,0)","v":0},{"$f":"IF(dotaznik_data2!$L3=\"1-2x týdně\",1,0)","v":0},{"$f":"IF(dotaznik_data2!$L3=\"několikrát za měsíc\",1,0)","v":0},{"$f":"IF(dotaznik_data2!$L3=\"několikrát za rok\",1,0)","v":0},{"$f":"IF(dotaznik_data2!$L3=\"méně často\",1,0)","v":1}]
[null,null,null,null,null,null,null,3,{"$f":"IF(dotaznik_data2!$L4=\"více jak 2x týdně\",1,0)","v":0},{"$f":"IF(dotaznik_data2!$L4=\"1-2x týdně\",1,0)","v":0},{"$f":"IF(dotaznik_data2!$L4=\"několikrát za měsíc\",1,0)","v":0},{"$f":"IF(dotaznik_data2!$L4=\"několikrát za rok\",1,0)","v":0},{"$f":"IF(dotaznik_data2!$L4=\"méně často\",1,0)","v":1}]
[null,null,null,null,null,null,null,4,{"$f":"IF(dotaznik_data2!$L5=\"více jak 2x týdně\",1,0)","v":0},{"$f":"IF(dotaznik_data2!$L5=\"1-2x týdně\",1,0)","v":0},{"$f":"IF(dotaznik_data2!$L5=\"několikrát za měsíc\",1,0)","v":0},{"$f":"IF(dotaznik_data2!$L5=\"několikrát za rok\",1,0)","v":0},{"$f":"IF(dotaznik_data2!$L5=\"méně často\",1,0)","v":1}]
[null,null,null,null,null,null,null,5,{"$f":"IF(dotaznik_data2!$L6=\"více jak 2x týdně\",1,0)","v":0},{"$f":"IF(dotaznik_data2!$L6=\"1-2x týdně\",1,0)","v":0},{"$f":"IF(dotaznik_data2!$L6=\"několikrát za měsíc\",1,0)","v":0},{"$f":"IF(dotaznik_data2!$L6=\"několikrát za rok\",1,0)","v":0},{"$f":"IF(dotaznik_data2!$L6=\"méně často\",1,0)","v":1}]
[null,null,null,null,null,null,null,6,{"$f":"IF(dotaznik_data2!$L7=\"více jak 2x týdně\",1,0)","v":0},{"$f":"IF(dotaznik_data2!$L7=\"1-2x týdně\",1,0)","v":0},{"$f":"IF(dotaznik_data2!$L7=\"několikrát za měsíc\",1,0)","v":0},{"$f":"IF(dotaznik_data2!$L7=\"několikrát za rok\",1,0)","v":0},{"$f":"IF(dotaznik_data2!$L7=\"méně často\",1,0)","v":1}]
[null,null,null,null,null,null,null,7,{"$f":"IF(dotaznik_data2!$L8=\"více jak 2x týdně\",1,0)","v":0},{"$f":"IF(dotaznik_data2!$L8=\"1-2x týdně\",1,0)","v":0},{"$f":"IF(dotaznik_data2!$L8=\"několikrát za měsíc\",1,0)","v":0},{"$f":"IF(dotaznik_data2!$L8=\"několikrát za rok\",1,0)","v":1},{"$f":"IF(dotaznik_data2!$L8=\"méně často\",1,0)","v":0}]
[null,null,null,null,null,null,null,8,{"$f":"IF(dotaznik_data2!$L9=\"více jak 2x týdně\",1,0)","v":0},{"$f":"IF(dotaznik_data2!$L9=\"1-2x týdně\",1,0)","v":0},{"$f":"IF(dotaznik_data2!$L9=\"několikrát za měsíc\",1,0)","v":0},{"$f":"IF(dotaznik_data2!$L9=\"několikrát za rok\",1,0)","v":0},{"$f":"IF(dotaznik_data2!$L9=\"méně často\",1,0)","v":1}]
[null,null,null,null,null,null,null,9,{"$f":"IF(dotaznik_data2!$L10=\"více jak 2x týdně\",1,0)","v":0},{"$f":"IF(dotaznik_data2!$L10=\"1-2x týdně\",1,0)","v":0},{"$f":"IF(dotaznik_data2!$L10=\"několikrát za měsíc\",1,0)","v":0},{"$f":"IF(dotaznik_data2!$L10=\"několikrát za rok\",1,0)","v":0},{"$f":"IF(dotaznik_data2!$L10=\"méně často\",1,0)","v":0}]
[null,null,null,null,null,null,null,10,{"$f":"IF(dotaznik_data2!$L11=\"více jak 2x týdně\",1,0)","v":0},{"$f":"IF(dotaznik_data2!$L11=\"1-2x týdně\",1,0)","v":0},{"$f":"IF(dotaznik_data2!$L11=\"několikrát za měsíc\",1,0)","v":0},{"$f":"IF(dotaznik_data2!$L11=\"několikrát za rok\",1,0)","v":0},{"$f":"IF(dotaznik_data2!$L11=\"méně často\",1,0)","v":1}]
[null,null,null,null,null,null,null,11,{"$f":"IF(dotaznik_data2!$L12=\"více jak 2x týdně\",1,0)","v":0},{"$f":"IF(dotaznik_data2!$L12=\"1-2x týdně\",1,0)","v":0},{"$f":"IF(dotaznik_data2!$L12=\"několikrát za měsíc\",1,0)","v":0},{"$f":"IF(dotaznik_data2!$L12=\"několikrát za rok\",1,0)","v":0},{"$f":"IF(dotaznik_data2!$L12=\"méně často\",1,0)","v":1}]
[null,null,null,null,null,null,null,12,{"$f":"IF(dotaznik_data2!$L13=\"více jak 2x týdně\",1,0)","v":0},{"$f":"IF(dotaznik_data2!$L13=\"1-2x týdně\",1,0)","v":0},{"$f":"IF(dotaznik_data2!$L13=\"několikrát za měsíc\",1,0)","v":0},{"$f":"IF(dotaznik_data2!$L13=\"několikrát za rok\",1,0)","v":1},{"$f":"IF(dotaznik_data2!$L13=\"méně často\",1,0)","v":0}]
[null,null,null,null,null,null,null,13,{"$f":"IF(dotaznik_data2!$L14=\"více jak 2x týdně\",1,0)","v":0},{"$f":"IF(dotaznik_data2!$L14=\"1-2x týdně\",1,0)","v":0},{"$f":"IF(dotaznik_data2!$L14=\"několikrát za měsíc\",1,0)","v":0},{"$f":"IF(dotaznik_data2!$L14=\"několikrát za rok\",1,0)","v":0},{"$f":"IF(dotaznik_data2!$L14=\"méně často\",1,0)","v":1}]
[null,null,null,null,null,null,null,14,{"$f":"IF(dotaznik_data2!$L15=\"více jak 2x týdně\",1,0)","v":0},{"$f":"IF(dotaznik_data2!$L15=\"1-2x týdně\",1,0)","v":0},{"$f":"IF(dotaznik_data2!$L15=\"několikrát za měsíc\",1,0)","v":0},{"$f":"IF(dotaznik_data2!$L15=\"několikrát za rok\",1,0)","v":0},{"$f":"IF(dotaznik_data2!$L15=\"méně často\",1,0)","v":1}]
[null,null,null,null,null,null,null,15,{"$f":"IF(dotaznik_data2!$L16=\"více jak 2x týdně\",1,0)","v":0},{"$f":"IF(dotaznik_data2!$L16=\"1-2x týdně\",1,0)","v":0},{"$f":"IF(dotaznik_data2!$L16=\"několikrát za měsíc\",1,0)","v":0},{"$f":"IF(dotaznik_data2!$L16=\"několikrát za rok\",1,0)","v":0},{"$f":"IF(dotaznik_data2!$L16=\"méně často\",1,0)","v":0}]
[null,null,null,null,null,null,null,16,{"$f":"IF(dotaznik_data2!$L17=\"více jak 2x týdně\",1,0)","v":0},{"$f":"IF(dotaznik_data2!$L17=\"1-2x týdně\",1,0)","v":0},{"$f":"IF(dotaznik_data2!$L17=\"několikrát za měsíc\",1,0)","v":0},{"$f":"IF(dotaznik_data2!$L17=\"několikrát za rok\",1,0)","v":1},{"$f":"IF(dotaznik_data2!$L17=\"méně často\",1,0)","v":0}]
[null,null,null,null,null,null,null,17,{"$f":"IF(dotaznik_data2!$L18=\"více jak 2x týdně\",1,0)","v":0},{"$f":"IF(dotaznik_data2!$L18=\"1-2x týdně\",1,0)","v":0},{"$f":"IF(dotaznik_data2!$L18=\"několikrát za měsíc\",1,0)","v":0},{"$f":"IF(dotaznik_data2!$L18=\"několikrát za rok\",1,0)","v":1},{"$f":"IF(dotaznik_data2!$L18=\"méně často\",1,0)","v":0}]
[null,null,null,null,null,null,null,18,{"$f":"IF(dotaznik_data2!$L19=\"více jak 2x týdně\",1,0)","v":0},{"$f":"IF(dotaznik_data2!$L19=\"1-2x týdně\",1,0)","v":0},{"$f":"IF(dotaznik_data2!$L19=\"několikrát za měsíc\",1,0)","v":0},{"$f":"IF(dotaznik_data2!$L19=\"několikrát za rok\",1,0)","v":0},{"$f":"IF(dotaznik_data2!$L19=\"méně často\",1,0)","v":1}]
[null,null,null,null,null,null,null,19,{"$f":"IF(dotaznik_data2!$L20=\"více jak 2x týdně\",1,0)","v":0},{"$f":"IF(dotaznik_data2!$L20=\"1-2x týdně\",1,0)","v":0},{"$f":"IF(dotaznik_data2!$L20=\"několikrát za měsíc\",1,0)","v":0},{"$f":"IF(dotaznik_data2!$L20=\"několikrát za rok\",1,0)","v":1},{"$f":"IF(dotaznik_data2!$L20=\"méně často\",1,0)","v":0}]
[null,null,null,null,null,null,null,20,{"$f":"IF(dotaznik_data2!$L21=\"více jak 2x týdně\",1,0)","v":0},{"$f":"IF(dotaznik_data2!$L21=\"1-2x týdně\",1,0)","v":0},{"$f":"IF(dotaznik_data2!$L21=\"několikrát za měsíc\",1,0)","v":0},{"$f":"IF(dotaznik_data2!$L21=\"několikrát za rok\",1,0)","v":1},{"$f":"IF(dotaznik_data2!$L21=\"méně často\",1,0)","v":0}]
[null,null,null,null,null,null,null,21,{"$f":"IF(dotaznik_data2!$L22=\"více jak 2x týdně\",1,0)","v":0},{"$f":"IF(dotaznik_data2!$L22=\"1-2x týdně\",1,0)","v":0},{"$f":"IF(dotaznik_data2!$L22=\"několikrát za měsíc\",1,0)","v":1},{"$f":"IF(dotaznik_data2!$L22=\"několikrát za rok\",1,0)","v":0},{"$f":"IF(dotaznik_data2!$L22=\"méně často\",1,0)","v":0}]
[null,null,null,null,null,null,null,22,{"$f":"IF(dotaznik_data2!$L23=\"více jak 2x týdně\",1,0)","v":0},{"$f":"IF(dotaznik_data2!$L23=\"1-2x týdně\",1,0)","v":0},{"$f":"IF(dotaznik_data2!$L23=\"několikrát za měsíc\",1,0)","v":0},{"$f":"IF(dotaznik_data2!$L23=\"několikrát za rok\",1,0)","v":0},{"$f":"IF(dotaznik_data2!$L23=\"méně často\",1,0)","v":0}]
[null,null,null,null,null,null,null,23,{"$f":"IF(dotaznik_data2!$L24=\"více jak 2x týdně\",1,0)","v":0},{"$f":"IF(dotaznik_data2!$L24=\"1-2x týdně\",1,0)","v":0},{"$f":"IF(dotaznik_data2!$L24=\"několikrát za měsíc\",1,0)","v":1},{"$f":"IF(dotaznik_data2!$L24=\"několikrát za rok\",1,0)","v":0},{"$f":"IF(dotaznik_data2!$L24=\"méně často\",1,0)","v":0}]
[null,null,null,null,null,null,null,24,{"$f":"IF(dotaznik_data2!$L25=\"více jak 2x týdně\",1,0)","v":0},{"$f":"IF(dotaznik_data2!$L25=\"1-2x týdně\",1,0)","v":0},{"$f":"IF(dotaznik_data2!$L25=\"několikrát za měsíc\",1,0)","v":0},{"$f":"IF(dotaznik_data2!$L25=\"několikrát za rok\",1,0)","v":1},{"$f":"IF(dotaznik_data2!$L25=\"méně často\",1,0)","v":0}]
[null,null,null,null,null,null,null,25,{"$f":"IF(dotaznik_data2!$L26=\"více jak 2x týdně\",1,0)","v":0},{"$f":"IF(dotaznik_data2!$L26=\"1-2x týdně\",1,0)","v":0},{"$f":"IF(dotaznik_data2!$L26=\"několikrát za měsíc\",1,0)","v":0},{"$f":"IF(dotaznik_data2!$L26=\"několikrát za rok\",1,0)","v":0},{"$f":"IF(dotaznik_data2!$L26=\"méně často\",1,0)","v":0}]
[null,null,null,null,null,null,null,26,{"$f":"IF(dotaznik_data2!$L27=\"více jak 2x týdně\",1,0)","v":0},{"$f":"IF(dotaznik_data2!$L27=\"1-2x týdně\",1,0)","v":0},{"$f":"IF(dotaznik_data2!$L27=\"několikrát za měsíc\",1,0)","v":1},{"$f":"IF(dotaznik_data2!$L27=\"několikrát za rok\",1,0)","v":0},{"$f":"IF(dotaznik_data2!$L27=\"méně často\",1,0)","v":0}]
[null,null,null,null,null,null,null,27,{"$f":"IF(dotaznik_data2!$L28=\"více jak 2x týdně\",1,0)","v":0},{"$f":"IF(dotaznik_data2!$L28=\"1-2x týdně\",1,0)","v":0},{"$f":"IF(dotaznik_data2!$L28=\"několikrát za měsíc\",1,0)","v":0},{"$f":"IF(dotaznik_data2!$L28=\"několikrát za rok\",1,0)","v":1},{"$f":"IF(dotaznik_data2!$L28=\"méně často\",1,0)","v":0}]
[null,null,null,null,null,null,null,28,{"$f":"IF(dotaznik_data2!$L29=\"více jak 2x týdně\",1,0)","v":0},{"$f":"IF(dotaznik_data2!$L29=\"1-2x týdně\",1,0)","v":0},{"$f":"IF(dotaznik_data2!$L29=\"několikrát za měsíc\",1,0)","v":1},{"$f":"IF(dotaznik_data2!$L29=\"několikrát za rok\",1,0)","v":0},{"$f":"IF(dotaznik_data2!$L29=\"méně často\",1,0)","v":0}]
[null,null,null,null,null,null,null,29,{"$f":"IF(dotaznik_data2!$L30=\"více jak 2x týdně\",1,0)","v":0},{"$f":"IF(dotaznik_data2!$L30=\"1-2x týdně\",1,0)","v":1},{"$f":"IF(dotaznik_data2!$L30=\"několikrát za měsíc\",1,0)","v":0},{"$f":"IF(dotaznik_data2!$L30=\"několikrát za rok\",1,0)","v":0},{"$f":"IF(dotaznik_data2!$L30=\"méně často\",1,0)","v":0}]
[null,null,null,null,null,null,null,30,{"$f":"IF(dotaznik_data2!$L31=\"více jak 2x týdně\",1,0)","v":0},{"$f":"IF(dotaznik_data2!$L31=\"1-2x týdně\",1,0)","v":0},{"$f":"IF(dotaznik_data2!$L31=\"několikrát za měsíc\",1,0)","v":1},{"$f":"IF(dotaznik_data2!$L31=\"několikrát za rok\",1,0)","v":0},{"$f":"IF(dotaznik_data2!$L31=\"méně často\",1,0)","v":0}]
[null,null,null,null,null,null,null,31,{"$f":"IF(dotaznik_data2!$L32=\"více jak 2x týdně\",1,0)","v":0},{"$f":"IF(dotaznik_data2!$L32=\"1-2x týdně\",1,0)","v":0},{"$f":"IF(dotaznik_data2!$L32=\"několikrát za měsíc\",1,0)","v":0},{"$f":"IF(dotaznik_data2!$L32=\"několikrát za rok\",1,0)","v":0},{"$f":"IF(dotaznik_data2!$L32=\"méně často\",1,0)","v":0}]
[null,null,null,null,null,null,null,32,{"$f":"IF(dotaznik_data2!$L33=\"více jak 2x týdně\",1,0)","v":0},{"$f":"IF(dotaznik_data2!$L33=\"1-2x týdně\",1,0)","v":0},{"$f":"IF(dotaznik_data2!$L33=\"několikrát za měsíc\",1,0)","v":1},{"$f":"IF(dotaznik_data2!$L33=\"několikrát za rok\",1,0)","v":0},{"$f":"IF(dotaznik_data2!$L33=\"méně často\",1,0)","v":0}]
[null,null,null,null,null,null,null,33,{"$f":"IF(dotaznik_data2!$L34=\"více jak 2x týdně\",1,0)","v":0},{"$f":"IF(dotaznik_data2!$L34=\"1-2x týdně\",1,0)","v":0},{"$f":"IF(dotaznik_data2!$L34=\"několikrát za měsíc\",1,0)","v":1},{"$f":"IF(dotaznik_data2!$L34=\"několikrát za rok\",1,0)","v":0},{"$f":"IF(dotaznik_data2!$L34=\"méně často\",1,0)","v":0}]
[null,null,null,null,null,null,null,34,{"$f":"IF(dotaznik_data2!$L35=\"více jak 2x týdně\",1,0)","v":1},{"$f":"IF(dotaznik_data2!$L35=\"1-2x týdně\",1,0)","v":0},{"$f":"IF(dotaznik_data2!$L35=\"několikrát za měsíc\",1,0)","v":0},{"$f":"IF(dotaznik_data2!$L35=\"několikrát za rok\",1,0)","v":0},{"$f":"IF(dotaznik_data2!$L35=\"méně často\",1,0)","v":0}]
[null,null,null,null,null,null,null,35,{"$f":"IF(dotaznik_data2!$L36=\"více jak 2x týdně\",1,0)","v":1},{"$f":"IF(dotaznik_data2!$L36=\"1-2x týdně\",1,0)","v":0},{"$f":"IF(dotaznik_data2!$L36=\"několikrát za měsíc\",1,0)","v":0},{"$f":"IF(dotaznik_data2!$L36=\"několikrát za rok\",1,0)","v":0},{"$f":"IF(dotaznik_data2!$L36=\"méně často\",1,0)","v":0}]
[null,null,null,null,null,null,null,36,{"$f":"IF(dotaznik_data2!$L37=\"více jak 2x týdně\",1,0)","v":0},{"$f":"IF(dotaznik_data2!$L37=\"1-2x týdně\",1,0)","v":0},{"$f":"IF(dotaznik_data2!$L37=\"několikrát za měsíc\",1,0)","v":0},{"$f":"IF(dotaznik_data2!$L37=\"několikrát za rok\",1,0)","v":1},{"$f":"IF(dotaznik_data2!$L37=\"méně často\",1,0)","v":0}]
[null,null,null,null,null,null,null,37,{"$f":"IF(dotaznik_data2!$L38=\"více jak 2x týdně\",1,0)","v":0},{"$f":"IF(dotaznik_data2!$L38=\"1-2x týdně\",1,0)","v":0},{"$f":"IF(dotaznik_data2!$L38=\"několikrát za měsíc\",1,0)","v":0},{"$f":"IF(dotaznik_data2!$L38=\"několikrát za rok\",1,0)","v":1},{"$f":"IF(dotaznik_data2!$L38=\"méně často\",1,0)","v":0}]
[null,null,null,null,null,null,null,38,{"$f":"IF(dotaznik_data2!$L39=\"více jak 2x týdně\",1,0)","v":0},{"$f":"IF(dotaznik_data2!$L39=\"1-2x týdně\",1,0)","v":0},{"$f":"IF(dotaznik_data2!$L39=\"několikrát za měsíc\",1,0)","v":1},{"$f":"IF(dotaznik_data2!$L39=\"několikrát za rok\",1,0)","v":0},{"$f":"IF(dotaznik_data2!$L39=\"méně často\",1,0)","v":0}]
[null,null,null,null,null,null,null,39,{"$f":"IF(dotaznik_data2!$L40=\"více jak 2x týdně\",1,0)","v":0},{"$f":"IF(dotaznik_data2!$L40=\"1-2x týdně\",1,0)","v":0},{"$f":"IF(dotaznik_data2!$L40=\"několikrát za měsíc\",1,0)","v":0},{"$f":"IF(dotaznik_data2!$L40=\"několikrát za rok\",1,0)","v":1},{"$f":"IF(dotaznik_data2!$L40=\"méně často\",1,0)","v":0}]
[null,null,null,null,null,null,null,40,{"$f":"IF(dotaznik_data2!$L41=\"více jak 2x týdně\",1,0)","v":0},{"$f":"IF(dotaznik_data2!$L41=\"1-2x týdně\",1,0)","v":0},{"$f":"IF(dotaznik_data2!$L41=\"několikrát za měsíc\",1,0)","v":1},{"$f":"IF(dotaznik_data2!$L41=\"několikrát za rok\",1,0)","v":0},{"$f":"IF(dotaznik_data2!$L41=\"méně často\",1,0)","v":0}]
[null,null,null,null,null,null,null,41,{"$f":"IF(dotaznik_data2!$L42=\"více jak 2x týdně\",1,0)","v":0},{"$f":"IF(dotaznik_data2!$L42=\"1-2x týdně\",1,0)","v":0},{"$f":"IF(dotaznik_data2!$L42=\"několikrát za měsíc\",1,0)","v":0},{"$f":"IF(dotaznik_data2!$L42=\"několikrát za rok\",1,0)","v":0},{"$f":"IF(dotaznik_data2!$L42=\"méně často\",1,0)","v":1}]
[null,null,null,null,null,null,null,42,{"$f":"IF(dotaznik_data2!$L43=\"více jak 2x týdně\",1,0)","v":0},{"$f":"IF(dotaznik_data2!$L43=\"1-2x týdně\",1,0)","v":0},{"$f":"IF(dotaznik_data2!$L43=\"několikrát za měsíc\",1,0)","v":0},{"$f":"IF(dotaznik_data2!$L43=\"několikrát za rok\",1,0)","v":1},{"$f":"IF(dotaznik_data2!$L43=\"méně často\",1,0)","v":0}]
[null,null,null,null,null,null,null,43,{"$f":"IF(dotaznik_data2!$L44=\"více jak 2x týdně\",1,0)","v":0},{"$f":"IF(dotaznik_data2!$L44=\"1-2x týdně\",1,0)","v":0},{"$f":"IF(dotaznik_data2!$L44=\"několikrát za měsíc\",1,0)","v":1},{"$f":"IF(dotaznik_data2!$L44=\"několikrát za rok\",1,0)","v":0},{"$f":"IF(dotaznik_data2!$L44=\"méně často\",1,0)","v":0}]
[null,null,null,null,null,null,null,44,{"$f":"IF(dotaznik_data2!$L45=\"více jak 2x týdně\",1,0)","v":0},{"$f":"IF(dotaznik_data2!$L45=\"1-2x týdně\",1,0)","v":0},{"$f":"IF(dotaznik_data2!$L45=\"několikrát za měsíc\",1,0)","v":0},{"$f":"IF(dotaznik_data2!$L45=\"několikrát za rok\",1,0)","v":0},{"$f":"IF(dotaznik_data2!$L45=\"méně často\",1,0)","v":1}]
[null,null,null,null,null,null,null,45,{"$f":"IF(dotaznik_data2!$L46=\"více jak 2x týdně\",1,0)","v":0},{"$f":"IF(dotaznik_data2!$L46=\"1-2x týdně\",1,0)","v":0},{"$f":"IF(dotaznik_data2!$L46=\"několikrát za měsíc\",1,0)","v":0},{"$f":"IF(dotaznik_data2!$L46=\"několikrát za rok\",1,0)","v":1},{"$f":"IF(dotaznik_data2!$L46=\"méně často\",1,0)","v":0}]
[null,null,null,null,null,null,null,46,{"$f":"IF(dotaznik_data2!$L47=\"více jak 2x týdně\",1,0)","v":0},{"$f":"IF(dotaznik_data2!$L47=\"1-2x týdně\",1,0)","v":0},{"$f":"IF(dotaznik_data2!$L47=\"několikrát za měsíc\",1,0)","v":0},{"$f":"IF(dotaznik_data2!$L47=\"několikrát za rok\",1,0)","v":0},{"$f":"IF(dotaznik_data2!$L47=\"méně často\",1,0)","v":1}]
[null,null,null,null,null,null,null,47,{"$f":"IF(dotaznik_data2!$L48=\"více jak 2x týdně\",1,0)","v":0},{"$f":"IF(dotaznik_data2!$L48=\"1-2x týdně\",1,0)","v":1},{"$f":"IF(dotaznik_data2!$L48=\"několikrát za měsíc\",1,0)","v":0},{"$f":"IF(dotaznik_data2!$L48=\"několikrát za rok\",1,0)","v":0},{"$f":"IF(dotaznik_data2!$L48=\"méně často\",1,0)","v":0}]
[null,null,null,null,null,null,null,48,{"$f":"IF(dotaznik_data2!$L49=\"více jak 2x týdně\",1,0)","v":0},{"$f":"IF(dotaznik_data2!$L49=\"1-2x týdně\",1,0)","v":1},{"$f":"IF(dotaznik_data2!$L49=\"několikrát za měsíc\",1,0)","v":0},{"$f":"IF(dotaznik_data2!$L49=\"několikrát za rok\",1,0)","v":0},{"$f":"IF(dotaznik_data2!$L49=\"méně často\",1,0)","v":0}]
[null,null,null,null,null,null,null,49,{"$f":"IF(dotaznik_data2!$L50=\"více jak 2x týdně\",1,0)","v":0},{"$f":"IF(dotaznik_data2!$L50=\"1-2x týdně\",1,0)","v":0},{"$f":"IF(dotaznik_data2!$L50=\"několikrát za měsíc\",1,0)","v":0},{"$f":"IF(dotaznik_data2!$L50=\"několikrát za rok\",1,0)","v":1},{"$f":"IF(dotaznik_data2!$L50=\"méně často\",1,0)","v":0}]
[null,null,null,null,null,null,null,50,{"$f":"IF(dotaznik_data2!$L51=\"více jak 2x týdně\",1,0)","v":0},{"$f":"IF(dotaznik_data2!$L51=\"1-2x týdně\",1,0)","v":1},{"$f":"IF(dotaznik_data2!$L51=\"několikrát za měsíc\",1,0)","v":0},{"$f":"IF(dotaznik_data2!$L51=\"několikrát za rok\",1,0)","v":0},{"$f":"IF(dotaznik_data2!$L51=\"méně často\",1,0)","v":0}]
[]
[12,"Kolik jste investovali při pořízení kola?",null,null,null,null,"méně než 5000"]
[null,null,null,null,null,null,"5000-10000"]
[null,null,null,null,null,null,"10001-15000"]
[null,null,null,null,null,null,"15001-25000"]
[null,null,null,null,null,null,"25001-35000"]
[null,null,null,null,null,null,"35001-45000","četnost",{"$f":"COUNTIF(I623:I672,1)","v":0},{"$f":"COUNTIF(J623:J672,1)","v":11},12,6,9,3,4,null,null,"pořizovací",null,null,null,null,"seřazeno","seřazeno",null,"seřazeno bez krajních hodnot","seřazeno bez krajních hodnot"]
[null,null,null,null,null,null,"45001 a více","odpověď","méně než 5000","5000-10000","10001-15000","15001-25000","25001-35000","35001-45000","45001 a více",null,"plat","cena interval","průměr cena","celkový užitek","Pořadí cena","Pořadí užitek","průměr cena","celkový užitek",null,"průměr cena","celkový užitek"]
[null,null,null,null,null,null,"respondent číslo",1,{"$f":"IF(dotaznik_data2!$M2=\"méně než 5000\",1,0)","v":0},{"$f":"IF(dotaznik_data2!$M2=\"5000-10000\",1,0)","v":0},{"$f":"IF(dotaznik_data2!$M2=\"10001-15000\",1,0)","v":0},{"$f":"IF(dotaznik_data2!$M2=\"15001-25000\",1,0)","v":0},{"$f":"IF(dotaznik_data2!$M2=\"25001-35000\",1,0)","v":1},{"$f":"IF(dotaznik_data2!$M2=\"35001-45000\",1,0)","v":0},{"$f":"IF(dotaznik_data2!$M2=\"45001 a více\",1,0)","v":0},null,null,{"$f":"dotaznik_data2!M2","v":"25001-35000"},{"$f":"IF(R623=\"méně než 5000\",5000,IF(R623=\"5000-10000\",(5000+10000)/2,IF(R623=\"10001-15000\",(10001+15000)/2,IF(R623=\"15001-25000\",(15001+25000)/2,IF(R623=\"25001-35000\",(25001+35000)/2,IF(R623=\"35001-45000\",(35001+45000)/2,50000))))))","v":30000.5},{"$f":"Q1254","v":45000},{"$f":"_xlfn.RANK.AVG(S623,$S$623:$S$672,1)","v":34},{"$f":"_xlfn.RANK.AVG(T623,$T$623:$T$672,1)","v":31.5},{"$f":"_xlfn._xlws.SORT(S623:T672,1,1)","v":7500},19000,null,7500,19000,1]
[null,null,null,null,null,null,null,2,{"$f":"IF(dotaznik_data2!$M3=\"méně než 5000\",1,0)","v":0},{"$f":"IF(dotaznik_data2!$M3=\"5000-10000\",1,0)","v":0},{"$f":"IF(dotaznik_data2!$M3=\"10001-15000\",1,0)","v":1},{"$f":"IF(dotaznik_data2!$M3=\"15001-25000\",1,0)","v":0},{"$f":"IF(dotaznik_data2!$M3=\"25001-35000\",1,0)","v":0},{"$f":"IF(dotaznik_data2!$M3=\"35001-45000\",1,0)","v":0},{"$f":"IF(dotaznik_data2!$M3=\"45001 a více\",1,0)","v":0},null,null,{"$f":"dotaznik_data2!M3","v":"10001-15000"},{"$f":"IF(R624=\"méně než 5000\",5000,IF(R624=\"5000-10000\",(5000+10000)/2,IF(R624=\"10001-15000\",(10001+15000)/2,IF(R624=\"15001-25000\",(15001+25000)/2,IF(R624=\"25001-35000\",(25001+35000)/2,IF(R624=\"35001-45000\",(35001+45000)/2,50000))))))","v":12500.5},{"$f":"Q1255","v":20000},{"$f":"_xlfn.RANK.AVG(S624,$S$623:$S$672,1)","v":17.5},{"$f":"_xlfn.RANK.AVG(T624,$T$623:$T$672,1)","v":11},7500,10000,null,7500,10000,2]
[null,null,null,null,null,null,null,3,{"$f":"IF(dotaznik_data2!$M4=\"méně než 5000\",1,0)","v":0},{"$f":"IF(dotaznik_data2!$M4=\"5000-10000\",1,0)","v":0},{"$f":"IF(dotaznik_data2!$M4=\"10001-15000\",1,0)","v":0},{"$f":"IF(dotaznik_data2!$M4=\"15001-25000\",1,0)","v":0},{"$f":"IF(dotaznik_data2!$M4=\"25001-35000\",1,0)","v":1},{"$f":"IF(dotaznik_data2!$M4=\"35001-45000\",1,0)","v":0},{"$f":"IF(dotaznik_data2!$M4=\"45001 a více\",1,0)","v":0},null,null,{"$f":"dotaznik_data2!M4","v":"25001-35000"},30000.5,33000,34,25,7500,16000,null,7500,16000,3]
[null,null,null,null,null,null,null,4,{"$f":"IF(dotaznik_data2!$M5=\"méně než 5000\",1,0)","v":0},{"$f":"IF(dotaznik_data2!$M5=\"5000-10000\",1,0)","v":0},{"$f":"IF(dotaznik_data2!$M5=\"10001-15000\",1,0)","v":0},{"$f":"IF(dotaznik_data2!$M5=\"15001-25000\",1,0)","v":1},{"$f":"IF(dotaznik_data2!$M5=\"25001-35000\",1,0)","v":0},{"$f":"IF(dotaznik_data2!$M5=\"35001-45000\",1,0)","v":0},{"$f":"IF(dotaznik_data2!$M5=\"45001 a více\",1,0)","v":0},null,null,{"$f":"dotaznik_data2!M5","v":"15001-25000"},20000.5,30000,26.5,19.5,7500,20000,null,7500,20000,4]
[null,null,null,null,null,null,null,5,{"$f":"IF(dotaznik_data2!$M6=\"méně než 5000\",1,0)","v":0},{"$f":"IF(dotaznik_data2!$M6=\"5000-10000\",1,0)","v":0},{"$f":"IF(dotaznik_data2!$M6=\"10001-15000\",1,0)","v":0},{"$f":"IF(dotaznik_data2!$M6=\"15001-25000\",1,0)","v":1},{"$f":"IF(dotaznik_data2!$M6=\"25001-35000\",1,0)","v":0},{"$f":"IF(dotaznik_data2!$M6=\"35001-45000\",1,0)","v":0},{"$f":"IF(dotaznik_data2!$M6=\"45001 a více\",1,0)","v":0},null,null,{"$f":"dotaznik_data2!M6","v":"15001-25000"},20000.5,30000,26.5,19.5,7500,30000,null,7500,30000,5]
[null,null,null,null,null,null,null,6,{"$f":"IF(dotaznik_data2!$M7=\"méně než 5000\",1,0)","v":0},{"$f":"IF(dotaznik_data2!$M7=\"5000-10000\",1,0)","v":0},{"$f":"IF(dotaznik_data2!$M7=\"10001-15000\",1,0)","v":1},{"$f":"IF(dotaznik_data2!$M7=\"15001-25000\",1,0)","v":0},{"$f":"IF(dotaznik_data2!$M7=\"25001-35000\",1,0)","v":0},{"$f":"IF(dotaznik_data2!$M7=\"35001-45000\",1,0)","v":0},{"$f":"IF(dotaznik_data2!$M7=\"45001 a více\",1,0)","v":0},null,null,{"$f":"dotaznik_data2!M7","v":"10001-15000"},12500.5,32000,17.5,23,7500,16000,null,7500,16000,6]
[null,null,null,null,null,null,null,7,{"$f":"IF(dotaznik_data2!$M8=\"méně než 5000\",1,0)","v":0},{"$f":"IF(dotaznik_data2!$M8=\"5000-10000\",1,0)","v":1},{"$f":"IF(dotaznik_data2!$M8=\"10001-15000\",1,0)","v":0},{"$f":"IF(dotaznik_data2!$M8=\"15001-25000\",1,0)","v":0},{"$f":"IF(dotaznik_data2!$M8=\"25001-35000\",1,0)","v":0},{"$f":"IF(dotaznik_data2!$M8=\"35001-45000\",1,0)","v":0},{"$f":"IF(dotaznik_data2!$M8=\"45001 a více\",1,0)","v":0},null,null,{"$f":"dotaznik_data2!M8","v":"5000-10000"},7500,19000,6,7.5,7500,23000,null,7500,23000,7]
[null,null,null,null,null,null,null,8,{"$f":"IF(dotaznik_data2!$M9=\"méně než 5000\",1,0)","v":0},{"$f":"IF(dotaznik_data2!$M9=\"5000-10000\",1,0)","v":0},{"$f":"IF(dotaznik_data2!$M9=\"10001-15000\",1,0)","v":1},{"$f":"IF(dotaznik_data2!$M9=\"15001-25000\",1,0)","v":0},{"$f":"IF(dotaznik_data2!$M9=\"25001-35000\",1,0)","v":0},{"$f":"IF(dotaznik_data2!$M9=\"35001-45000\",1,0)","v":0},{"$f":"IF(dotaznik_data2!$M9=\"45001 a více\",1,0)","v":0},null,null,{"$f":"dotaznik_data2!M9","v":"10001-15000"},12500.5,25000,17.5,16.5,7500,40000,null,7500,40000,8]
[null,null,null,null,null,null,null,9,{"$f":"IF(dotaznik_data2!$M10=\"méně než 5000\",1,0)","v":0},{"$f":"IF(dotaznik_data2!$M10=\"5000-10000\",1,0)","v":0},{"$f":"IF(dotaznik_data2!$M10=\"10001-15000\",1,0)","v":0},{"$f":"IF(dotaznik_data2!$M10=\"15001-25000\",1,0)","v":0},{"$f":"IF(dotaznik_data2!$M10=\"25001-35000\",1,0)","v":0},{"$f":"IF(dotaznik_data2!$M10=\"35001-45000\",1,0)","v":0},{"$f":"IF(dotaznik_data2!$M10=\"45001 a více\",1,0)","v":0},null,null,{"$f":"dotaznik_data2!M10","v":0},null,null,null,null,7500,100000,null,7500,20000,10]
[null,null,null,null,null,null,null,10,{"$f":"IF(dotaznik_data2!$M11=\"méně než 5000\",1,0)","v":0},{"$f":"IF(dotaznik_data2!$M11=\"5000-10000\",1,0)","v":1},{"$f":"IF(dotaznik_data2!$M11=\"10001-15000\",1,0)","v":0},{"$f":"IF(dotaznik_data2!$M11=\"15001-25000\",1,0)","v":0},{"$f":"IF(dotaznik_data2!$M11=\"25001-35000\",1,0)","v":0},{"$f":"IF(dotaznik_data2!$M11=\"35001-45000\",1,0)","v":0},{"$f":"IF(dotaznik_data2!$M11=\"45001 a více\",1,0)","v":0},null,null,{"$f":"dotaznik_data2!M11","v":"5000-10000"},7500,{"$f":"Q1263","v":10000},{"$f":"_xlfn.RANK.AVG(S632,$S$623:$S$672,1)","v":6},{"$f":"_xlfn.RANK.AVG(T632,$T$623:$T$672,1)","v":1},7500,20000,null,7500,23000,11]
[null,null,null,null,null,null,null,11,{"$f":"IF(dotaznik_data2!$M12=\"méně než 5000\",1,0)","v":0},{"$f":"IF(dotaznik_data2!$M12=\"5000-10000\",1,0)","v":0},{"$f":"IF(dotaznik_data2!$M12=\"10001-15000\",1,0)","v":1},{"$f":"IF(dotaznik_data2!$M12=\"15001-25000\",1,0)","v":0},{"$f":"IF(dotaznik_data2!$M12=\"25001-35000\",1,0)","v":0},{"$f":"IF(dotaznik_data2!$M12=\"35001-45000\",1,0)","v":0},{"$f":"IF(dotaznik_data2!$M12=\"45001 a více\",1,0)","v":0},null,null,{"$f":"dotaznik_data2!M12","v":"10001-15000"},12500.5,{"$f":"Q1264","v":19000},{"$f":"_xlfn.RANK.AVG(S633,$S$623:$S$672,1)","v":17.5},{"$f":"_xlfn.RANK.AVG(T633,$T$623:$T$672,1)","v":7.5},7500,23000,null,12500.5,20000,12]
[null,null,null,null,null,null,null,12,{"$f":"IF(dotaznik_data2!$M13=\"méně než 5000\",1,0)","v":0},{"$f":"IF(dotaznik_data2!$M13=\"5000-10000\",1,0)","v":1},{"$f":"IF(dotaznik_data2!$M13=\"10001-15000\",1,0)","v":0},{"$f":"IF(dotaznik_data2!$M13=\"15001-25000\",1,0)","v":0},{"$f":"IF(dotaznik_data2!$M13=\"25001-35000\",1,0)","v":0},{"$f":"IF(dotaznik_data2!$M13=\"35001-45000\",1,0)","v":0},{"$f":"IF(dotaznik_data2!$M13=\"45001 a více\",1,0)","v":0},null,null,{"$f":"dotaznik_data2!M13","v":"5000-10000"},7500,16000,6,4.5,12500.5,20000,null,12500.5,32000,13]
[null,null,null,null,null,null,null,13,{"$f":"IF(dotaznik_data2!$M14=\"méně než 5000\",1,0)","v":0},{"$f":"IF(dotaznik_data2!$M14=\"5000-10000\",1,0)","v":0},{"$f":"IF(dotaznik_data2!$M14=\"10001-15000\",1,0)","v":1},{"$f":"IF(dotaznik_data2!$M14=\"15001-25000\",1,0)","v":0},{"$f":"IF(dotaznik_data2!$M14=\"25001-35000\",1,0)","v":0},{"$f":"IF(dotaznik_data2!$M14=\"35001-45000\",1,0)","v":0},{"$f":"IF(dotaznik_data2!$M14=\"45001 a více\",1,0)","v":0},null,null,{"$f":"dotaznik_data2!M14","v":"10001-15000"},12500.5,32000,17.5,23,12500.5,32000,null,12500.5,25000,14]
[null,null,null,null,null,null,null,14,{"$f":"IF(dotaznik_data2!$M15=\"méně než 5000\",1,0)","v":0},{"$f":"IF(dotaznik_data2!$M15=\"5000-10000\",1,0)","v":0},{"$f":"IF(dotaznik_data2!$M15=\"10001-15000\",1,0)","v":1},{"$f":"IF(dotaznik_data2!$M15=\"15001-25000\",1,0)","v":0},{"$f":"IF(dotaznik_data2!$M15=\"25001-35000\",1,0)","v":0},{"$f":"IF(dotaznik_data2!$M15=\"35001-45000\",1,0)","v":0},{"$f":"IF(dotaznik_data2!$M15=\"45001 a více\",1,0)","v":0},null,null,{"$f":"dotaznik_data2!M15","v":"10001-15000"},12500.5,35000,17.5,27.5,12500.5,25000,null,12500.5,19000,15]
[null,null,null,null,null,null,null,15,{"$f":"IF(dotaznik_data2!$M16=\"méně než 5000\",1,0)","v":0},{"$f":"IF(dotaznik_data2!$M16=\"5000-10000\",1,0)","v":0},{"$f":"IF(dotaznik_data2!$M16=\"10001-15000\",1,0)","v":0},{"$f":"IF(dotaznik_data2!$M16=\"15001-25000\",1,0)","v":0},{"$f":"IF(dotaznik_data2!$M16=\"25001-35000\",1,0)","v":0},{"$f":"IF(dotaznik_data2!$M16=\"35001-45000\",1,0)","v":0},{"$f":"IF(dotaznik_data2!$M16=\"45001 a více\",1,0)","v":0},null,null,{"$f":"dotaznik_data2!M16","v":0},null,null,null,null,12500.5,19000,null,12500.5,32000,16]
[null,null,null,null,null,null,null,16,{"$f":"IF(dotaznik_data2!$M17=\"méně než 5000\",1,0)","v":0},{"$f":"IF(dotaznik_data2!$M17=\"5000-10000\",1,0)","v":0},{"$f":"IF(dotaznik_data2!$M17=\"10001-15000\",1,0)","v":0},{"$f":"IF(dotaznik_data2!$M17=\"15001-25000\",1,0)","v":0},{"$f":"IF(dotaznik_data2!$M17=\"25001-35000\",1,0)","v":0},{"$f":"IF(dotaznik_data2!$M17=\"35001-45000\",1,0)","v":1},{"$f":"IF(dotaznik_data2!$M17=\"45001 a více\",1,0)","v":0},null,null,{"$f":"dotaznik_data2!M17","v":"35001-45000"},40000.5,{"$f":"Q1269","v":45000},{"$f":"_xlfn.RANK.AVG(S638,$S$623:$S$672,1)","v":40},{"$f":"_xlfn.RANK.AVG(T638,$T$623:$T$672,1)","v":31.5},12500.5,32000,null,12500.5,35000,17]
[null,null,null,null,null,null,null,17,{"$f":"IF(dotaznik_data2!$M18=\"méně než 5000\",1,0)","v":0},{"$f":"IF(dotaznik_data2!$M18=\"5000-10000\",1,0)","v":1},{"$f":"IF(dotaznik_data2!$M18=\"10001-15000\",1,0)","v":0},{"$f":"IF(dotaznik_data2!$M18=\"15001-25000\",1,0)","v":0},{"$f":"IF(dotaznik_data2!$M18=\"25001-35000\",1,0)","v":0},{"$f":"IF(dotaznik_data2!$M18=\"35001-45000\",1,0)","v":0},{"$f":"IF(dotaznik_data2!$M18=\"45001 a více\",1,0)","v":0},null,null,{"$f":"dotaznik_data2!M18","v":"5000-10000"},7500,{"$f":"Q1270","v":20000},{"$f":"_xlfn.RANK.AVG(S639,$S$623:$S$672,1)","v":6},{"$f":"_xlfn.RANK.AVG(T639,$T$623:$T$672,1)","v":11},12500.5,35000,null,12500.5,20000,18]
[null,null,null,null,null,null,null,18,{"$f":"IF(dotaznik_data2!$M19=\"méně než 5000\",1,0)","v":0},{"$f":"IF(dotaznik_data2!$M19=\"5000-10000\",1,0)","v":0},{"$f":"IF(dotaznik_data2!$M19=\"10001-15000\",1,0)","v":0},{"$f":"IF(dotaznik_data2!$M19=\"15001-25000\",1,0)","v":0},{"$f":"IF(dotaznik_data2!$M19=\"25001-35000\",1,0)","v":0},{"$f":"IF(dotaznik_data2!$M19=\"35001-45000\",1,0)","v":1},{"$f":"IF(dotaznik_data2!$M19=\"45001 a více\",1,0)","v":0},null,null,{"$f":"dotaznik_data2!M19","v":"35001-45000"},40000.5,60000,40,38,12500.5,20000,null,12500.5,35000,19]
[null,null,null,null,null,null,null,19,{"$f":"IF(dotaznik_data2!$M20=\"méně než 5000\",1,0)","v":0},{"$f":"IF(dotaznik_data2!$M20=\"5000-10000\",1,0)","v":1},{"$f":"IF(dotaznik_data2!$M20=\"10001-15000\",1,0)","v":0},{"$f":"IF(dotaznik_data2!$M20=\"15001-25000\",1,0)","v":0},{"$f":"IF(dotaznik_data2!$M20=\"25001-35000\",1,0)","v":0},{"$f":"IF(dotaznik_data2!$M20=\"35001-45000\",1,0)","v":0},{"$f":"IF(dotaznik_data2!$M20=\"45001 a více\",1,0)","v":0},null,null,{"$f":"dotaznik_data2!M20","v":"5000-10000"},7500,30000,6,19.5,12500.5,35000,null,12500.5,17000,20]
[null,null,null,null,null,null,null,20,{"$f":"IF(dotaznik_data2!$M21=\"méně než 5000\",1,0)","v":0},{"$f":"IF(dotaznik_data2!$M21=\"5000-10000\",1,0)","v":0},{"$f":"IF(dotaznik_data2!$M21=\"10001-15000\",1,0)","v":1},{"$f":"IF(dotaznik_data2!$M21=\"15001-25000\",1,0)","v":0},{"$f":"IF(dotaznik_data2!$M21=\"25001-35000\",1,0)","v":0},{"$f":"IF(dotaznik_data2!$M21=\"35001-45000\",1,0)","v":0},{"$f":"IF(dotaznik_data2!$M21=\"45001 a více\",1,0)","v":0},null,null,{"$f":"dotaznik_data2!M21","v":"10001-15000"},12500.5,20000,17.5,11,12500.5,17000,null,12500.5,20000,21]
[null,null,null,null,null,null,null,21,{"$f":"IF(dotaznik_data2!$M22=\"méně než 5000\",1,0)","v":0},{"$f":"IF(dotaznik_data2!$M22=\"5000-10000\",1,0)","v":0},{"$f":"IF(dotaznik_data2!$M22=\"10001-15000\",1,0)","v":1},{"$f":"IF(dotaznik_data2!$M22=\"15001-25000\",1,0)","v":0},{"$f":"IF(dotaznik_data2!$M22=\"25001-35000\",1,0)","v":0},{"$f":"IF(dotaznik_data2!$M22=\"35001-45000\",1,0)","v":0},{"$f":"IF(dotaznik_data2!$M22=\"45001 a více\",1,0)","v":0},null,null,{"$f":"dotaznik_data2!M22","v":"10001-15000"},12500.5,35000,17.5,27.5,12500.5,20000,null,12500.5,15000,22]
[null,null,null,null,null,null,null,22,{"$f":"IF(dotaznik_data2!$M23=\"méně než 5000\",1,0)","v":0},{"$f":"IF(dotaznik_data2!$M23=\"5000-10000\",1,0)","v":0},{"$f":"IF(dotaznik_data2!$M23=\"10001-15000\",1,0)","v":0},{"$f":"IF(dotaznik_data2!$M23=\"15001-25000\",1,0)","v":0},{"$f":"IF(dotaznik_data2!$M23=\"25001-35000\",1,0)","v":0},{"$f":"IF(dotaznik_data2!$M23=\"35001-45000\",1,0)","v":0},{"$f":"IF(dotaznik_data2!$M23=\"45001 a více\",1,0)","v":0},null,null,{"$f":"dotaznik_data2!M23","v":0},null,null,null,null,12500.5,15000,null,12500.5,15000,23]
[null,null,null,null,null,null,null,23,{"$f":"IF(dotaznik_data2!$M24=\"méně než 5000\",1,0)","v":0},{"$f":"IF(dotaznik_data2!$M24=\"5000-10000\",1,0)","v":1},{"$f":"IF(dotaznik_data2!$M24=\"10001-15000\",1,0)","v":0},{"$f":"IF(dotaznik_data2!$M24=\"15001-25000\",1,0)","v":0},{"$f":"IF(dotaznik_data2!$M24=\"25001-35000\",1,0)","v":0},{"$f":"IF(dotaznik_data2!$M24=\"35001-45000\",1,0)","v":0},{"$f":"IF(dotaznik_data2!$M24=\"45001 a více\",1,0)","v":0},null,null,{"$f":"dotaznik_data2!M24","v":"5000-10000"},7500,16000,6,4.5,12500.5,15000,null,20000.5,30000,24]
[null,null,null,null,null,null,null,24,{"$f":"IF(dotaznik_data2!$M25=\"méně než 5000\",1,0)","v":0},{"$f":"IF(dotaznik_data2!$M25=\"5000-10000\",1,0)","v":0},{"$f":"IF(dotaznik_data2!$M25=\"10001-15000\",1,0)","v":0},{"$f":"IF(dotaznik_data2!$M25=\"15001-25000\",1,0)","v":0},{"$f":"IF(dotaznik_data2!$M25=\"25001-35000\",1,0)","v":0},{"$f":"IF(dotaznik_data2!$M25=\"35001-45000\",1,0)","v":0},{"$f":"IF(dotaznik_data2!$M25=\"45001 a více\",1,0)","v":1},null,null,{"$f":"dotaznik_data2!M25","v":"45001 a více"},50000,80000,43.5,40.5,20000.5,30000,null,20000.5,30000,25]
[null,null,null,null,null,null,null,25,{"$f":"IF(dotaznik_data2!$M26=\"méně než 5000\",1,0)","v":0},{"$f":"IF(dotaznik_data2!$M26=\"5000-10000\",1,0)","v":0},{"$f":"IF(dotaznik_data2!$M26=\"10001-15000\",1,0)","v":0},{"$f":"IF(dotaznik_data2!$M26=\"15001-25000\",1,0)","v":0},{"$f":"IF(dotaznik_data2!$M26=\"25001-35000\",1,0)","v":0},{"$f":"IF(dotaznik_data2!$M26=\"35001-45000\",1,0)","v":0},{"$f":"IF(dotaznik_data2!$M26=\"45001 a více\",1,0)","v":0},null,null,{"$f":"dotaznik_data2!M26","v":0},null,null,null,null,20000.5,30000,null,20000.5,34000,27]
[null,null,null,null,null,null,null,26,{"$f":"IF(dotaznik_data2!$M27=\"méně než 5000\",1,0)","v":0},{"$f":"IF(dotaznik_data2!$M27=\"5000-10000\",1,0)","v":0},{"$f":"IF(dotaznik_data2!$M27=\"10001-15000\",1,0)","v":0},{"$f":"IF(dotaznik_data2!$M27=\"15001-25000\",1,0)","v":0},{"$f":"IF(dotaznik_data2!$M27=\"25001-35000\",1,0)","v":1},{"$f":"IF(dotaznik_data2!$M27=\"35001-45000\",1,0)","v":0},{"$f":"IF(dotaznik_data2!$M27=\"45001 a více\",1,0)","v":0},null,null,{"$f":"dotaznik_data2!M27","v":"25001-35000"},30000.5,110000,34,43,20000.5,60000,null,20000.5,50000,28]
[null,null,null,null,null,null,null,27,{"$f":"IF(dotaznik_data2!$M28=\"méně než 5000\",1,0)","v":0},{"$f":"IF(dotaznik_data2!$M28=\"5000-10000\",1,0)","v":0},{"$f":"IF(dotaznik_data2!$M28=\"10001-15000\",1,0)","v":0},{"$f":"IF(dotaznik_data2!$M28=\"15001-25000\",1,0)","v":0},{"$f":"IF(dotaznik_data2!$M28=\"25001-35000\",1,0)","v":1},{"$f":"IF(dotaznik_data2!$M28=\"35001-45000\",1,0)","v":0},{"$f":"IF(dotaznik_data2!$M28=\"45001 a více\",1,0)","v":0},null,null,{"$f":"dotaznik_data2!M28","v":"25001-35000"},30000.5,45000,34,31.5,20000.5,34000,null,20000.5,45000,29]
[null,null,null,null,null,null,null,28,{"$f":"IF(dotaznik_data2!$M29=\"méně než 5000\",1,0)","v":0},{"$f":"IF(dotaznik_data2!$M29=\"5000-10000\",1,0)","v":0},{"$f":"IF(dotaznik_data2!$M29=\"10001-15000\",1,0)","v":0},{"$f":"IF(dotaznik_data2!$M29=\"15001-25000\",1,0)","v":0},{"$f":"IF(dotaznik_data2!$M29=\"25001-35000\",1,0)","v":1},{"$f":"IF(dotaznik_data2!$M29=\"35001-45000\",1,0)","v":0},{"$f":"IF(dotaznik_data2!$M29=\"45001 a více\",1,0)","v":0},null,null,{"$f":"dotaznik_data2!M29","v":"25001-35000"},30000.5,50000,34,35,20000.5,50000,null,30000.5,45000,30]
[null,null,null,null,null,null,null,29,{"$f":"IF(dotaznik_data2!$M30=\"méně než 5000\",1,0)","v":0},{"$f":"IF(dotaznik_data2!$M30=\"5000-10000\",1,0)","v":1},{"$f":"IF(dotaznik_data2!$M30=\"10001-15000\",1,0)","v":0},{"$f":"IF(dotaznik_data2!$M30=\"15001-25000\",1,0)","v":0},{"$f":"IF(dotaznik_data2!$M30=\"25001-35000\",1,0)","v":0},{"$f":"IF(dotaznik_data2!$M30=\"35001-45000\",1,0)","v":0},{"$f":"IF(dotaznik_data2!$M30=\"45001 a více\",1,0)","v":0},null,null,{"$f":"dotaznik_data2!M30","v":"5000-10000"},7500,23000,{"$f":"_xlfn.RANK.AVG(S651,$S$623:$S$672,1)","v":6},{"$f":"_xlfn.RANK.AVG(T651,$T$623:$T$672,1)","v":14.5},20000.5,45000,null,30000.5,33000,31]
[null,null,null,null,null,null,null,30,{"$f":"IF(dotaznik_data2!$M31=\"méně než 5000\",1,0)","v":0},{"$f":"IF(dotaznik_data2!$M31=\"5000-10000\",1,0)","v":1},{"$f":"IF(dotaznik_data2!$M31=\"10001-15000\",1,0)","v":0},{"$f":"IF(dotaznik_data2!$M31=\"15001-25000\",1,0)","v":0},{"$f":"IF(dotaznik_data2!$M31=\"25001-35000\",1,0)","v":0},{"$f":"IF(dotaznik_data2!$M31=\"35001-45000\",1,0)","v":0},{"$f":"IF(dotaznik_data2!$M31=\"45001 a více\",1,0)","v":0},null,null,{"$f":"dotaznik_data2!M31","v":"5000-10000"},7500,{"$f":"Q1283","v":40000},{"$f":"_xlfn.RANK.AVG(S652,$S$623:$S$672,1)","v":6},{"$f":"_xlfn.RANK.AVG(T652,$T$623:$T$672,1)","v":29},30000.5,45000,null,30000.5,45000,33]
[null,null,null,null,null,null,null,31,{"$f":"IF(dotaznik_data2!$M32=\"méně než 5000\",1,0)","v":0},{"$f":"IF(dotaznik_data2!$M32=\"5000-10000\",1,0)","v":0},{"$f":"IF(dotaznik_data2!$M32=\"10001-15000\",1,0)","v":0},{"$f":"IF(dotaznik_data2!$M32=\"15001-25000\",1,0)","v":0},{"$f":"IF(dotaznik_data2!$M32=\"25001-35000\",1,0)","v":0},{"$f":"IF(dotaznik_data2!$M32=\"35001-45000\",1,0)","v":0},{"$f":"IF(dotaznik_data2!$M32=\"45001 a více\",1,0)","v":0},null,null,{"$f":"dotaznik_data2!M32","v":0},null,null,null,null,30000.5,33000,null,30000.5,50000,34]
[null,null,null,null,null,null,null,32,{"$f":"IF(dotaznik_data2!$M33=\"méně než 5000\",1,0)","v":0},{"$f":"IF(dotaznik_data2!$M33=\"5000-10000\",1,0)","v":0},{"$f":"IF(dotaznik_data2!$M33=\"10001-15000\",1,0)","v":0},{"$f":"IF(dotaznik_data2!$M33=\"15001-25000\",1,0)","v":0},{"$f":"IF(dotaznik_data2!$M33=\"25001-35000\",1,0)","v":1},{"$f":"IF(dotaznik_data2!$M33=\"35001-45000\",1,0)","v":0},{"$f":"IF(dotaznik_data2!$M33=\"45001 a více\",1,0)","v":0},null,null,{"$f":"dotaznik_data2!M33","v":"25001-35000"},30000.5,{"$f":"Q1285","v":50000},{"$f":"_xlfn.RANK.AVG(S654,$S$623:$S$672,1)","v":34},{"$f":"_xlfn.RANK.AVG(T654,$T$623:$T$672,1)","v":35},30000.5,110000,null,30000.5,50000,35]
[null,null,null,null,null,null,null,33,{"$f":"IF(dotaznik_data2!$M34=\"méně než 5000\",1,0)","v":0},{"$f":"IF(dotaznik_data2!$M34=\"5000-10000\",1,0)","v":0},{"$f":"IF(dotaznik_data2!$M34=\"10001-15000\",1,0)","v":0},{"$f":"IF(dotaznik_data2!$M34=\"15001-25000\",1,0)","v":0},{"$f":"IF(dotaznik_data2!$M34=\"25001-35000\",1,0)","v":0},{"$f":"IF(dotaznik_data2!$M34=\"35001-45000\",1,0)","v":0},{"$f":"IF(dotaznik_data2!$M34=\"45001 a více\",1,0)","v":1},null,null,{"$f":"dotaznik_data2!M34","v":"45001 a více"},50000,150000,43.5,45,30000.5,45000,null,30000.5,30000]
[null,null,null,null,null,null,null,34,{"$f":"IF(dotaznik_data2!$M35=\"méně než 5000\",1,0)","v":0},{"$f":"IF(dotaznik_data2!$M35=\"5000-10000\",1,0)","v":0},{"$f":"IF(dotaznik_data2!$M35=\"10001-15000\",1,0)","v":0},{"$f":"IF(dotaznik_data2!$M35=\"15001-25000\",1,0)","v":1},{"$f":"IF(dotaznik_data2!$M35=\"25001-35000\",1,0)","v":0},{"$f":"IF(dotaznik_data2!$M35=\"35001-45000\",1,0)","v":0},{"$f":"IF(dotaznik_data2!$M35=\"45001 a více\",1,0)","v":0},null,null,{"$f":"dotaznik_data2!M35","v":"15001-25000"},20000.5,60000,26.5,38,30000.5,50000,null,30000.5,32000]
[null,null,null,null,null,null,null,35,{"$f":"IF(dotaznik_data2!$M36=\"méně než 5000\",1,0)","v":0},{"$f":"IF(dotaznik_data2!$M36=\"5000-10000\",1,0)","v":0},{"$f":"IF(dotaznik_data2!$M36=\"10001-15000\",1,0)","v":0},{"$f":"IF(dotaznik_data2!$M36=\"15001-25000\",1,0)","v":1},{"$f":"IF(dotaznik_data2!$M36=\"25001-35000\",1,0)","v":0},{"$f":"IF(dotaznik_data2!$M36=\"35001-45000\",1,0)","v":0},{"$f":"IF(dotaznik_data2!$M36=\"45001 a více\",1,0)","v":0},null,null,{"$f":"dotaznik_data2!M36","v":"15001-25000"},20000.5,34000,{"$f":"_xlfn.RANK.AVG(S657,$S$623:$S$672,1)","v":26.5},{"$f":"_xlfn.RANK.AVG(T657,$T$623:$T$672,1)","v":26},30000.5,50000,null,40000.5,45000]
[null,null,null,null,null,null,null,36,{"$f":"IF(dotaznik_data2!$M37=\"méně než 5000\",1,0)","v":0},{"$f":"IF(dotaznik_data2!$M37=\"5000-10000\",1,0)","v":1},{"$f":"IF(dotaznik_data2!$M37=\"10001-15000\",1,0)","v":0},{"$f":"IF(dotaznik_data2!$M37=\"15001-25000\",1,0)","v":0},{"$f":"IF(dotaznik_data2!$M37=\"25001-35000\",1,0)","v":0},{"$f":"IF(dotaznik_data2!$M37=\"35001-45000\",1,0)","v":0},{"$f":"IF(dotaznik_data2!$M37=\"45001 a více\",1,0)","v":0},null,null,{"$f":"dotaznik_data2!M37","v":"5000-10000"},7500,{"$f":"Q1289","v":100000},{"$f":"_xlfn.RANK.AVG(S658,$S$623:$S$672,1)","v":6},{"$f":"_xlfn.RANK.AVG(T658,$T$623:$T$672,1)","v":42},30000.5,25000,null,40000.5,60000]
[null,null,null,null,null,null,null,37,{"$f":"IF(dotaznik_data2!$M38=\"méně než 5000\",1,0)","v":0},{"$f":"IF(dotaznik_data2!$M38=\"5000-10000\",1,0)","v":0},{"$f":"IF(dotaznik_data2!$M38=\"10001-15000\",1,0)","v":0},{"$f":"IF(dotaznik_data2!$M38=\"15001-25000\",1,0)","v":1},{"$f":"IF(dotaznik_data2!$M38=\"25001-35000\",1,0)","v":0},{"$f":"IF(dotaznik_data2!$M38=\"35001-45000\",1,0)","v":0},{"$f":"IF(dotaznik_data2!$M38=\"45001 a více\",1,0)","v":0},null,null,{"$f":"dotaznik_data2!M38","v":"15001-25000"},20000.5,{"$f":"Q1290","v":50000},{"$f":"_xlfn.RANK.AVG(S659,$S$623:$S$672,1)","v":26.5},{"$f":"_xlfn.RANK.AVG(T659,$T$623:$T$672,1)","v":35},30000.5,30000,null,40000.5,60000]
[null,null,null,null,null,null,null,38,{"$f":"IF(dotaznik_data2!$M39=\"méně než 5000\",1,0)","v":0},{"$f":"IF(dotaznik_data2!$M39=\"5000-10000\",1,0)","v":1},{"$f":"IF(dotaznik_data2!$M39=\"10001-15000\",1,0)","v":0},{"$f":"IF(dotaznik_data2!$M39=\"15001-25000\",1,0)","v":0},{"$f":"IF(dotaznik_data2!$M39=\"25001-35000\",1,0)","v":0},{"$f":"IF(dotaznik_data2!$M39=\"35001-45000\",1,0)","v":0},{"$f":"IF(dotaznik_data2!$M39=\"45001 a více\",1,0)","v":0},null,null,{"$f":"dotaznik_data2!M39","v":"5000-10000"},7500,20000,6,11,30000.5,32000,null,50000,80000]
[null,null,null,null,null,null,null,39,{"$f":"IF(dotaznik_data2!$M40=\"méně než 5000\",1,0)","v":0},{"$f":"IF(dotaznik_data2!$M40=\"5000-10000\",1,0)","v":0},{"$f":"IF(dotaznik_data2!$M40=\"10001-15000\",1,0)","v":1},{"$f":"IF(dotaznik_data2!$M40=\"15001-25000\",1,0)","v":0},{"$f":"IF(dotaznik_data2!$M40=\"25001-35000\",1,0)","v":0},{"$f":"IF(dotaznik_data2!$M40=\"35001-45000\",1,0)","v":0},{"$f":"IF(dotaznik_data2!$M40=\"45001 a více\",1,0)","v":0},null,null,{"$f":"dotaznik_data2!M40","v":"10001-15000"},12500.5,17000,17.5,6,40000.5,45000,null,50000,150000]
[null,null,null,null,null,null,null,40,{"$f":"IF(dotaznik_data2!$M41=\"méně než 5000\",1,0)","v":0},{"$f":"IF(dotaznik_data2!$M41=\"5000-10000\",1,0)","v":0},{"$f":"IF(dotaznik_data2!$M41=\"10001-15000\",1,0)","v":0},{"$f":"IF(dotaznik_data2!$M41=\"15001-25000\",1,0)","v":0},{"$f":"IF(dotaznik_data2!$M41=\"25001-35000\",1,0)","v":0},{"$f":"IF(dotaznik_data2!$M41=\"35001-45000\",1,0)","v":0},{"$f":"IF(dotaznik_data2!$M41=\"45001 a více\",1,0)","v":1},null,null,{"$f":"dotaznik_data2!M41","v":"45001 a více"},50000,115000,43.5,44,40000.5,60000,null,50000,115000]
[null,null,null,null,null,null,null,41,{"$f":"IF(dotaznik_data2!$M42=\"méně než 5000\",1,0)","v":0},{"$f":"IF(dotaznik_data2!$M42=\"5000-10000\",1,0)","v":0},{"$f":"IF(dotaznik_data2!$M42=\"10001-15000\",1,0)","v":1},{"$f":"IF(dotaznik_data2!$M42=\"15001-25000\",1,0)","v":0},{"$f":"IF(dotaznik_data2!$M42=\"25001-35000\",1,0)","v":0},{"$f":"IF(dotaznik_data2!$M42=\"35001-45000\",1,0)","v":0},{"$f":"IF(dotaznik_data2!$M42=\"45001 a více\",1,0)","v":0},null,null,{"$f":"dotaznik_data2!M42","v":"10001-15000"},12500.5,20000,17.5,11,40000.5,60000,null,50000,80000]
[null,null,null,null,null,null,null,42,{"$f":"IF(dotaznik_data2!$M43=\"méně než 5000\",1,0)","v":0},{"$f":"IF(dotaznik_data2!$M43=\"5000-10000\",1,0)","v":0},{"$f":"IF(dotaznik_data2!$M43=\"10001-15000\",1,0)","v":0},{"$f":"IF(dotaznik_data2!$M43=\"15001-25000\",1,0)","v":0},{"$f":"IF(dotaznik_data2!$M43=\"25001-35000\",1,0)","v":1},{"$f":"IF(dotaznik_data2!$M43=\"35001-45000\",1,0)","v":0},{"$f":"IF(dotaznik_data2!$M43=\"45001 a více\",1,0)","v":0},null,null,{"$f":"dotaznik_data2!M43","v":"25001-35000"},30000.5,25000,34,16.5,50000,80000]
[null,null,null,null,null,null,null,43,{"$f":"IF(dotaznik_data2!$M44=\"méně než 5000\",1,0)","v":0},{"$f":"IF(dotaznik_data2!$M44=\"5000-10000\",1,0)","v":0},{"$f":"IF(dotaznik_data2!$M44=\"10001-15000\",1,0)","v":0},{"$f":"IF(dotaznik_data2!$M44=\"15001-25000\",1,0)","v":0},{"$f":"IF(dotaznik_data2!$M44=\"25001-35000\",1,0)","v":0},{"$f":"IF(dotaznik_data2!$M44=\"35001-45000\",1,0)","v":1},{"$f":"IF(dotaznik_data2!$M44=\"45001 a více\",1,0)","v":0},null,null,{"$f":"dotaznik_data2!M44","v":"35001-45000"},40000.5,60000,{"$f":"_xlfn.RANK.AVG(S665,$S$623:$S$672,1)","v":40},{"$f":"_xlfn.RANK.AVG(T665,$T$623:$T$672,1)","v":38},50000,150000]
[null,null,null,null,null,null,null,44,{"$f":"IF(dotaznik_data2!$M45=\"méně než 5000\",1,0)","v":0},{"$f":"IF(dotaznik_data2!$M45=\"5000-10000\",1,0)","v":1},{"$f":"IF(dotaznik_data2!$M45=\"10001-15000\",1,0)","v":0},{"$f":"IF(dotaznik_data2!$M45=\"15001-25000\",1,0)","v":0},{"$f":"IF(dotaznik_data2!$M45=\"25001-35000\",1,0)","v":0},{"$f":"IF(dotaznik_data2!$M45=\"35001-45000\",1,0)","v":0},{"$f":"IF(dotaznik_data2!$M45=\"45001 a více\",1,0)","v":0},null,null,{"$f":"dotaznik_data2!M45","v":"5000-10000"},7500,23000,{"$f":"_xlfn.RANK.AVG(S666,$S$623:$S$672,1)","v":6},{"$f":"_xlfn.RANK.AVG(T666,$T$623:$T$672,1)","v":14.5},50000,115000]
[null,null,null,null,null,null,null,45,{"$f":"IF(dotaznik_data2!$M46=\"méně než 5000\",1,0)","v":0},{"$f":"IF(dotaznik_data2!$M46=\"5000-10000\",1,0)","v":0},{"$f":"IF(dotaznik_data2!$M46=\"10001-15000\",1,0)","v":1},{"$f":"IF(dotaznik_data2!$M46=\"15001-25000\",1,0)","v":0},{"$f":"IF(dotaznik_data2!$M46=\"25001-35000\",1,0)","v":0},{"$f":"IF(dotaznik_data2!$M46=\"35001-45000\",1,0)","v":0},{"$f":"IF(dotaznik_data2!$M46=\"45001 a více\",1,0)","v":0},null,null,{"$f":"dotaznik_data2!M46","v":"10001-15000"},12500.5,15000,{"$f":"_xlfn.RANK.AVG(S667,$S$623:$S$672,1)","v":17.5},{"$f":"_xlfn.RANK.AVG(T667,$T$623:$T$672,1)","v":2.5},50000,80000]
[null,null,null,null,null,null,null,46,{"$f":"IF(dotaznik_data2!$M47=\"méně než 5000\",1,0)","v":0},{"$f":"IF(dotaznik_data2!$M47=\"5000-10000\",1,0)","v":0},{"$f":"IF(dotaznik_data2!$M47=\"10001-15000\",1,0)","v":1},{"$f":"IF(dotaznik_data2!$M47=\"15001-25000\",1,0)","v":0},{"$f":"IF(dotaznik_data2!$M47=\"25001-35000\",1,0)","v":0},{"$f":"IF(dotaznik_data2!$M47=\"35001-45000\",1,0)","v":0},{"$f":"IF(dotaznik_data2!$M47=\"45001 a více\",1,0)","v":0},null,null,{"$f":"dotaznik_data2!M47","v":"10001-15000"},12500.5,15000,17.5,2.5,0,0]
[null,null,null,null,null,null,null,47,{"$f":"IF(dotaznik_data2!$M48=\"méně než 5000\",1,0)","v":0},{"$f":"IF(dotaznik_data2!$M48=\"5000-10000\",1,0)","v":0},{"$f":"IF(dotaznik_data2!$M48=\"10001-15000\",1,0)","v":0},{"$f":"IF(dotaznik_data2!$M48=\"15001-25000\",1,0)","v":0},{"$f":"IF(dotaznik_data2!$M48=\"25001-35000\",1,0)","v":1},{"$f":"IF(dotaznik_data2!$M48=\"35001-45000\",1,0)","v":0},{"$f":"IF(dotaznik_data2!$M48=\"45001 a více\",1,0)","v":0},null,null,{"$f":"dotaznik_data2!M48","v":"25001-35000"},{"$f":"IF(R669=\"méně než 5000\",5000,IF(R669=\"5000-10000\",(5000+10000)/2,IF(R669=\"10001-15000\",(10001+15000)/2,IF(R669=\"15001-25000\",(15001+25000)/2,IF(R669=\"25001-35000\",(25001+35000)/2,IF(R669=\"35001-45000\",(35001+45000)/2,50000))))))","v":30000.5},{"$f":"Q1300","v":30000},{"$f":"_xlfn.RANK.AVG(S669,$S$623:$S$672,1)","v":34},{"$f":"_xlfn.RANK.AVG(T669,$T$623:$T$672,1)","v":19.5},0,0]
[null,null,null,null,null,null,null,48,{"$f":"IF(dotaznik_data2!$M49=\"méně než 5000\",1,0)","v":0},{"$f":"IF(dotaznik_data2!$M49=\"5000-10000\",1,0)","v":0},{"$f":"IF(dotaznik_data2!$M49=\"10001-15000\",1,0)","v":0},{"$f":"IF(dotaznik_data2!$M49=\"15001-25000\",1,0)","v":0},{"$f":"IF(dotaznik_data2!$M49=\"25001-35000\",1,0)","v":1},{"$f":"IF(dotaznik_data2!$M49=\"35001-45000\",1,0)","v":0},{"$f":"IF(dotaznik_data2!$M49=\"45001 a více\",1,0)","v":0},null,null,{"$f":"dotaznik_data2!M49","v":"25001-35000"},30000.5,{"$f":"Q1301","v":32000},{"$f":"_xlfn.RANK.AVG(S670,$S$623:$S$672,1)","v":34},{"$f":"_xlfn.RANK.AVG(T670,$T$623:$T$672,1)","v":23},0,0]
[null,null,null,null,null,null,null,49,{"$f":"IF(dotaznik_data2!$M50=\"méně než 5000\",1,0)","v":0},{"$f":"IF(dotaznik_data2!$M50=\"5000-10000\",1,0)","v":0},{"$f":"IF(dotaznik_data2!$M50=\"10001-15000\",1,0)","v":0},{"$f":"IF(dotaznik_data2!$M50=\"15001-25000\",1,0)","v":1},{"$f":"IF(dotaznik_data2!$M50=\"25001-35000\",1,0)","v":0},{"$f":"IF(dotaznik_data2!$M50=\"35001-45000\",1,0)","v":0},{"$f":"IF(dotaznik_data2!$M50=\"45001 a více\",1,0)","v":0},null,null,{"$f":"dotaznik_data2!M50","v":"15001-25000"},20000.5,45000,26.5,31.5,0,0]
[null,null,null,null,null,null,null,50,{"$f":"IF(dotaznik_data2!$M51=\"méně než 5000\",1,0)","v":0},{"$f":"IF(dotaznik_data2!$M51=\"5000-10000\",1,0)","v":0},{"$f":"IF(dotaznik_data2!$M51=\"10001-15000\",1,0)","v":0},{"$f":"IF(dotaznik_data2!$M51=\"15001-25000\",1,0)","v":0},{"$f":"IF(dotaznik_data2!$M51=\"25001-35000\",1,0)","v":0},{"$f":"IF(dotaznik_data2!$M51=\"35001-45000\",1,0)","v":0},{"$f":"IF(dotaznik_data2!$M51=\"45001 a více\",1,0)","v":1},null,null,{"$f":"dotaznik_data2!M51","v":"45001 a více"},50000,80000,43.5,40.5,0,0]
[]
[13,"Kolik byste nyní byli ochotni investovat do pořízení kola?",null,null,null,null,"méně než 5000",null,null,null,null,null,null,null,null,null,null,null,null,null,null,"Pearsonův",{"$f":"CORREL(S623:S672,T623:T672)","v":0.69558753187153932}]
[null,null,null,null,null,null,"5000-10000",null,null,null,null,null,null,null,null,null,null,null,null,null,null,"Spearmanův r",{"$f":"CORREL(U623:U672,V623:V672)","v":0.69322351838888063}]
[null,null,null,null,null,null,"10001-15000",null,null,null,null,null,null,null,null,null,null,null,null,null,null,"hladina alfa",0.05]
[null,null,null,null,null,null,"15001-25000",null,null,null,null,null,null,null,null,null,null,null,null,null,null,"studentův t",{"$f":"_xlfn.T.INV.2T(W676/2,COUNT(V623:V672)-2)","v":2.322618461342385}]
[null,null,null,null,null,null,"25001-35000",null,null,null,null,null,null,null,null,null,null,null,null,null,null,"T",{"$f":"ABS(W675*SQRT((COUNT(S623:S672)-2)/(1-W675*W675)))","v":6.3072397382807805}]
[null,null,null,null,null,null,"35001-45000","četnost",{"$f":"COUNTIF(I681:I730,1)","v":1},{"$f":"COUNTIF(J681:J730,1)","v":8},10,10,7,5,4]
[null,null,null,null,null,null,"45001 a více","odpověď","méně než 5000","5000-10000","10001-15000","15001-25000","25001-35000","35001-45000","45001 a více",null,null,"cena interval","průměr cena"]
[null,null,null,null,null,null,"respondent číslo",1,{"$f":"IF(dotaznik_data2!$N2=\"méně než 5000\",1,0)","v":0},{"$f":"IF(dotaznik_data2!$N2=\"5000-10000\",1,0)","v":0},{"$f":"IF(dotaznik_data2!$N2=\"10001-15000\",1,0)","v":0},{"$f":"IF(dotaznik_data2!$N2=\"15001-25000\",1,0)","v":1},{"$f":"IF(dotaznik_data2!$N2=\"25001-35000\",1,0)","v":0},{"$f":"IF(dotaznik_data2!$N2=\"35001-45000\",1,0)","v":0},{"$f":"IF(dotaznik_data2!$N2=\"45001 a více\",1,0)","v":0},null,null,{"$f":"dotaznik_data2!N2","v":"15001-25000"},{"$f":"IF(R681=\"méně než 5000\",5000,IF(R681=\"5000-10000\",(5000+10000)/2,IF(R681=\"10001-15000\",(10001+15000)/2,IF(R681=\"15001-25000\",(15001+25000)/2,IF(R681=\"25001-35000\",(25001+35000)/2,IF(R681=\"35001-45000\",(35001+45000)/2,50000))))))","v":20000.5}]
[null,null,null,null,null,null,null,2,{"$f":"IF(dotaznik_data2!$N3=\"méně než 5000\",1,0)","v":0},{"$f":"IF(dotaznik_data2!$N3=\"5000-10000\",1,0)","v":0},{"$f":"IF(dotaznik_data2!$N3=\"10001-15000\",1,0)","v":1},{"$f":"IF(dotaznik_data2!$N3=\"15001-25000\",1,0)","v":0},{"$f":"IF(dotaznik_data2!$N3=\"25001-35000\",1,0)","v":0},{"$f":"IF(dotaznik_data2!$N3=\"35001-45000\",1,0)","v":0},{"$f":"IF(dotaznik_data2!$N3=\"45001 a více\",1,0)","v":0},null,null,{"$f":"dotaznik_data2!N3","v":"10001-15000"},{"$f":"IF(R682=\"méně než 5000\",5000,IF(R682=\"5000-10000\",(5000+10000)/2,IF(R682=\"10001-15000\",(10001+15000)/2,IF(R682=\"15001-25000\",(15001+25000)/2,IF(R682=\"25001-35000\",(25001+35000)/2,IF(R682=\"35001-45000\",(35001+45000)/2,50000))))))","v":12500.5}]
[null,null,null,null,null,null,null,3,{"$f":"IF(dotaznik_data2!$N4=\"méně než 5000\",1,0)","v":0},{"$f":"IF(dotaznik_data2!$N4=\"5000-10000\",1,0)","v":0},{"$f":"IF(dotaznik_data2!$N4=\"10001-15000\",1,0)","v":0},{"$f":"IF(dotaznik_data2!$N4=\"15001-25000\",1,0)","v":0},{"$f":"IF(dotaznik_data2!$N4=\"25001-35000\",1,0)","v":0},{"$f":"IF(dotaznik_data2!$N4=\"35001-45000\",1,0)","v":1},{"$f":"IF(dotaznik_data2!$N4=\"45001 a více\",1,0)","v":0},null,null,{"$f":"dotaznik_data2!N4","v":"35001-45000"},40000.5]
[null,null,null,null,null,null,null,4,{"$f":"IF(dotaznik_data2!$N5=\"méně než 5000\",1,0)","v":0},{"$f":"IF(dotaznik_data2!$N5=\"5000-10000\",1,0)","v":0},{"$f":"IF(dotaznik_data2!$N5=\"10001-15000\",1,0)","v":0},{"$f":"IF(dotaznik_data2!$N5=\"15001-25000\",1,0)","v":1},{"$f":"IF(dotaznik_data2!$N5=\"25001-35000\",1,0)","v":0},{"$f":"IF(dotaznik_data2!$N5=\"35001-45000\",1,0)","v":0},{"$f":"IF(dotaznik_data2!$N5=\"45001 a více\",1,0)","v":0},null,null,{"$f":"dotaznik_data2!N5","v":"15001-25000"},20000.5]
[null,null,null,null,null,null,null,5,{"$f":"IF(dotaznik_data2!$N6=\"méně než 5000\",1,0)","v":0},{"$f":"IF(dotaznik_data2!$N6=\"5000-10000\",1,0)","v":0},{"$f":"IF(dotaznik_data2!$N6=\"10001-15000\",1,0)","v":0},{"$f":"IF(dotaznik_data2!$N6=\"15001-25000\",1,0)","v":1},{"$f":"IF(dotaznik_data2!$N6=\"25001-35000\",1,0)","v":0},{"$f":"IF(dotaznik_data2!$N6=\"35001-45000\",1,0)","v":0},{"$f":"IF(dotaznik_data2!$N6=\"45001 a více\",1,0)","v":0},null,null,{"$f":"dotaznik_data2!N6","v":"15001-25000"},20000.5]
[null,null,null,null,null,null,null,6,{"$f":"IF(dotaznik_data2!$N7=\"méně než 5000\",1,0)","v":0},{"$f":"IF(dotaznik_data2!$N7=\"5000-10000\",1,0)","v":0},{"$f":"IF(dotaznik_data2!$N7=\"10001-15000\",1,0)","v":0},{"$f":"IF(dotaznik_data2!$N7=\"15001-25000\",1,0)","v":0},{"$f":"IF(dotaznik_data2!$N7=\"25001-35000\",1,0)","v":0},{"$f":"IF(dotaznik_data2!$N7=\"35001-45000\",1,0)","v":1},{"$f":"IF(dotaznik_data2!$N7=\"45001 a více\",1,0)","v":0},null,null,{"$f":"dotaznik_data2!N7","v":"35001-45000"},40000.5]
[null,null,null,null,null,null,null,7,{"$f":"IF(dotaznik_data2!$N8=\"méně než 5000\",1,0)","v":0},{"$f":"IF(dotaznik_data2!$N8=\"5000-10000\",1,0)","v":0},{"$f":"IF(dotaznik_data2!$N8=\"10001-15000\",1,0)","v":1},{"$f":"IF(dotaznik_data2!$N8=\"15001-25000\",1,0)","v":0},{"$f":"IF(dotaznik_data2!$N8=\"25001-35000\",1,0)","v":0},{"$f":"IF(dotaznik_data2!$N8=\"35001-45000\",1,0)","v":0},{"$f":"IF(dotaznik_data2!$N8=\"45001 a více\",1,0)","v":0},null,null,{"$f":"dotaznik_data2!N8","v":"10001-15000"},12500.5]
[null,null,null,null,null,null,null,8,{"$f":"IF(dotaznik_data2!$N9=\"méně než 5000\",1,0)","v":0},{"$f":"IF(dotaznik_data2!$N9=\"5000-10000\",1,0)","v":1},{"$f":"IF(dotaznik_data2!$N9=\"10001-15000\",1,0)","v":0},{"$f":"IF(dotaznik_data2!$N9=\"15001-25000\",1,0)","v":0},{"$f":"IF(dotaznik_data2!$N9=\"25001-35000\",1,0)","v":0},{"$f":"IF(dotaznik_data2!$N9=\"35001-45000\",1,0)","v":0},{"$f":"IF(dotaznik_data2!$N9=\"45001 a více\",1,0)","v":0},null,null,{"$f":"dotaznik_data2!N9","v":"5000-10000"},7500]
[null,null,null,null,null,null,null,9,{"$f":"IF(dotaznik_data2!$N10=\"méně než 5000\",1,0)","v":0},{"$f":"IF(dotaznik_data2!$N10=\"5000-10000\",1,0)","v":0},{"$f":"IF(dotaznik_data2!$N10=\"10001-15000\",1,0)","v":0},{"$f":"IF(dotaznik_data2!$N10=\"15001-25000\",1,0)","v":0},{"$f":"IF(dotaznik_data2!$N10=\"25001-35000\",1,0)","v":0},{"$f":"IF(dotaznik_data2!$N10=\"35001-45000\",1,0)","v":0},{"$f":"IF(dotaznik_data2!$N10=\"45001 a více\",1,0)","v":0}]
[null,null,null,null,null,null,null,10,{"$f":"IF(dotaznik_data2!$N11=\"méně než 5000\",1,0)","v":0},{"$f":"IF(dotaznik_data2!$N11=\"5000-10000\",1,0)","v":1},{"$f":"IF(dotaznik_data2!$N11=\"10001-15000\",1,0)","v":0},{"$f":"IF(dotaznik_data2!$N11=\"15001-25000\",1,0)","v":0},{"$f":"IF(dotaznik_data2!$N11=\"25001-35000\",1,0)","v":0},{"$f":"IF(dotaznik_data2!$N11=\"35001-45000\",1,0)","v":0},{"$f":"IF(dotaznik_data2!$N11=\"45001 a více\",1,0)","v":0},null,null,{"$f":"dotaznik_data2!N11","v":"5000-10000"},7500]
[null,null,null,null,null,null,null,11,{"$f":"IF(dotaznik_data2!$N12=\"méně než 5000\",1,0)","v":0},{"$f":"IF(dotaznik_data2!$N12=\"5000-10000\",1,0)","v":0},{"$f":"IF(dotaznik_data2!$N12=\"10001-15000\",1,0)","v":0},{"$f":"IF(dotaznik_data2!$N12=\"15001-25000\",1,0)","v":0},{"$f":"IF(dotaznik_data2!$N12=\"25001-35000\",1,0)","v":1},{"$f":"IF(dotaznik_data2!$N12=\"35001-45000\",1,0)","v":0},{"$f":"IF(dotaznik_data2!$N12=\"45001 a více\",1,0)","v":0},null,null,{"$f":"dotaznik_data2!N12","v":"25001-35000"},30000.5]
[null,null,null,null,null,null,null,12,{"$f":"IF(dotaznik_data2!$N13=\"méně než 5000\",1,0)","v":0},{"$f":"IF(dotaznik_data2!$N13=\"5000-10000\",1,0)","v":1},{"$f":"IF(dotaznik_data2!$N13=\"10001-15000\",1,0)","v":0},{"$f":"IF(dotaznik_data2!$N13=\"15001-25000\",1,0)","v":0},{"$f":"IF(dotaznik_data2!$N13=\"25001-35000\",1,0)","v":0},{"$f":"IF(dotaznik_data2!$N13=\"35001-45000\",1,0)","v":0},{"$f":"IF(dotaznik_data2!$N13=\"45001 a více\",1,0)","v":0},null,null,{"$f":"dotaznik_data2!N13","v":"5000-10000"},7500]
[null,null,null,null,null,null,null,13,{"$f":"IF(dotaznik_data2!$N14=\"méně než 5000\",1,0)","v":0},{"$f":"IF(dotaznik_data2!$N14=\"5000-10000\",1,0)","v":1},{"$f":"IF(dotaznik_data2!$N14=\"10001-15000\",1,0)","v":0},{"$f":"IF(dotaznik_data2!$N14=\"15001-25000\",1,0)","v":0},{"$f":"IF(dotaznik_data2!$N14=\"25001-35000\",1,0)","v":0},{"$f":"IF(dotaznik_data2!$N14=\"35001-45000\",1,0)","v":0},{"$f":"IF(dotaznik_data2!$N14=\"45001 a více\",1,0)","v":0},null,null,{"$f":"dotaznik_data2!N14","v":"5000-10000"},7500]
[null,null,null,null,null,null,null,14,{"$f":"IF(dotaznik_data2!$N15=\"méně než 5000\",1,0)","v":0},{"$f":"IF(dotaznik_data2!$N15=\"5000-10000\",1,0)","v":0},{"$f":"IF(dotaznik_data2!$N15=\"10001-15000\",1,0)","v":0},{"$f":"IF(dotaznik_data2!$N15=\"15001-25000\",1,0)","v":0},{"$f":"IF(dotaznik_data2!$N15=\"25001-35000\",1,0)","v":1},{"$f":"IF(dotaznik_data2!$N15=\"35001-45000\",1,0)","v":0},{"$f":"IF(dotaznik_data2!$N15=\"45001 a více\",1,0)","v":0},null,null,{"$f":"dotaznik_data2!N15","v":"25001-35000"},30000.5]
[null,null,null,null,null,null,null,15,{"$f":"IF(dotaznik_data2!$N16=\"méně než 5000\",1,0)","v":0},{"$f":"IF(dotaznik_data2!$N16=\"5000-10000\",1,0)","v":0},{"$f":"IF(dotaznik_data2!$N16=\"10001-15000\",1,0)","v":0},{"$f":"IF(dotaznik_data2!$N16=\"15001-25000\",1,0)","v":0},{"$f":"IF(dotaznik_data2!$N16=\"25001-35000\",1,0)","v":0},{"$f":"IF(dotaznik_data2!$N16=\"35001-45000\",1,0)","v":0},{"$f":"IF(dotaznik_data2!$N16=\"45001 a více\",1,0)","v":0}]
[null,null,null,null,null,null,null,16,{"$f":"IF(dotaznik_data2!$N17=\"méně než 5000\",1,0)","v":0},{"$f":"IF(dotaznik_data2!$N17=\"5000-10000\",1,0)","v":0},{"$f":"IF(dotaznik_data2!$N17=\"10001-15000\",1,0)","v":0},{"$f":"IF(dotaznik_data2!$N17=\"15001-25000\",1,0)","v":0},{"$f":"IF(dotaznik_data2!$N17=\"25001-35000\",1,0)","v":0},{"$f":"IF(dotaznik_data2!$N17=\"35001-45000\",1,0)","v":1},{"$f":"IF(dotaznik_data2!$N17=\"45001 a více\",1,0)","v":0},null,null,{"$f":"dotaznik_data2!N17","v":"35001-45000"},40000.5]
[null,null,null,null,null,null,null,17,{"$f":"IF(dotaznik_data2!$N18=\"méně než 5000\",1,0)","v":0},{"$f":"IF(dotaznik_data2!$N18=\"5000-10000\",1,0)","v":0},{"$f":"IF(dotaznik_data2!$N18=\"10001-15000\",1,0)","v":1},{"$f":"IF(dotaznik_data2!$N18=\"15001-25000\",1,0)","v":0},{"$f":"IF(dotaznik_data2!$N18=\"25001-35000\",1,0)","v":0},{"$f":"IF(dotaznik_data2!$N18=\"35001-45000\",1,0)","v":0},{"$f":"IF(dotaznik_data2!$N18=\"45001 a více\",1,0)","v":0},null,null,{"$f":"dotaznik_data2!N18","v":"10001-15000"},12500.5]
[null,null,null,null,null,null,null,18,{"$f":"IF(dotaznik_data2!$N19=\"méně než 5000\",1,0)","v":0},{"$f":"IF(dotaznik_data2!$N19=\"5000-10000\",1,0)","v":0},{"$f":"IF(dotaznik_data2!$N19=\"10001-15000\",1,0)","v":1},{"$f":"IF(dotaznik_data2!$N19=\"15001-25000\",1,0)","v":0},{"$f":"IF(dotaznik_data2!$N19=\"25001-35000\",1,0)","v":0},{"$f":"IF(dotaznik_data2!$N19=\"35001-45000\",1,0)","v":0},{"$f":"IF(dotaznik_data2!$N19=\"45001 a více\",1,0)","v":0},null,null,{"$f":"dotaznik_data2!N19","v":"10001-15000"},12500.5]
[null,null,null,null,null,null,null,19,{"$f":"IF(dotaznik_data2!$N20=\"méně než 5000\",1,0)","v":0},{"$f":"IF(dotaznik_data2!$N20=\"5000-10000\",1,0)","v":0},{"$f":"IF(dotaznik_data2!$N20=\"10001-15000\",1,0)","v":1},{"$f":"IF(dotaznik_data2!$N20=\"15001-25000\",1,0)","v":0},{"$f":"IF(dotaznik_data2!$N20=\"25001-35000\",1,0)","v":0},{"$f":"IF(dotaznik_data2!$N20=\"35001-45000\",1,0)","v":0},{"$f":"IF(dotaznik_data2!$N20=\"45001 a více\",1,0)","v":0},null,null,{"$f":"dotaznik_data2!N20","v":"10001-15000"},12500.5]
[null,null,null,null,null,null,null,20,{"$f":"IF(dotaznik_data2!$N21=\"méně než 5000\",1,0)","v":0},{"$f":"IF(dotaznik_data2!$N21=\"5000-10000\",1,0)","v":0},{"$f":"IF(dotaznik_data2!$N21=\"10001-15000\",1,0)","v":1},{"$f":"IF(dotaznik_data2!$N21=\"15001-25000\",1,0)","v":0},{"$f":"IF(dotaznik_data2!$N21=\"25001-35000\",1,0)","v":0},{"$f":"IF(dotaznik_data2!$N21=\"35001-45000\",1,0)","v":0},{"$f":"IF(dotaznik_data2!$N21=\"45001 a více\",1,0)","v":0},null,null,{"$f":"dotaznik_data2!N21","v":"10001-15000"},12500.5]
[null,null,null,null,null,null,null,21,{"$f":"IF(dotaznik_data2!$N22=\"méně než 5000\",1,0)","v":0},{"$f":"IF(dotaznik_data2!$N22=\"5000-10000\",1,0)","v":0},{"$f":"IF(dotaznik_data2!$N22=\"10001-15000\",1,0)","v":0},{"$f":"IF(dotaznik_data2!$N22=\"15001-25000\",1,0)","v":0},{"$f":"IF(dotaznik_data2!$N22=\"25001-35000\",1,0)","v":1},{"$f":"IF(dotaznik_data2!$N22=\"35001-45000\",1,0)","v":0},{"$f":"IF(dotaznik_data2!$N22=\"45001 a více\",1,0)","v":0},null,null,{"$f":"dotaznik_data2!N22","v":"25001-35000"},30000.5]
[null,null,null,null,null,null,null,22,{"$f":"IF(dotaznik_data2!$N23=\"méně než 5000\",1,0)","v":0},{"$f":"IF(dotaznik_data2!$N23=\"5000-10000\",1,0)","v":0},{"$f":"IF(dotaznik_data2!$N23=\"10001-15000\",1,0)","v":0},{"$f":"IF(dotaznik_data2!$N23=\"15001-25000\",1,0)","v":0},{"$f":"IF(dotaznik_data2!$N23=\"25001-35000\",1,0)","v":0},{"$f":"IF(dotaznik_data2!$N23=\"35001-45000\",1,0)","v":0},{"$f":"IF(dotaznik_data2!$N23=\"45001 a více\",1,0)","v":0},null,null,{"$f":"dotaznik_data2!N23","v":0},50000]
[null,null,null,null,null,null,null,23,{"$f":"IF(dotaznik_data2!$N24=\"méně než 5000\",1,0)","v":0},{"$f":"IF(dotaznik_data2!$N24=\"5000-10000\",1,0)","v":1},{"$f":"IF(dotaznik_data2!$N24=\"10001-15000\",1,0)","v":0},{"$f":"IF(dotaznik_data2!$N24=\"15001-25000\",1,0)","v":0},{"$f":"IF(dotaznik_data2!$N24=\"25001-35000\",1,0)","v":0},{"$f":"IF(dotaznik_data2!$N24=\"35001-45000\",1,0)","v":0},{"$f":"IF(dotaznik_data2!$N24=\"45001 a více\",1,0)","v":0},null,null,{"$f":"dotaznik_data2!N24","v":"5000-10000"},7500]
[null,null,null,null,null,null,null,24,{"$f":"IF(dotaznik_data2!$N25=\"méně než 5000\",1,0)","v":0},{"$f":"IF(dotaznik_data2!$N25=\"5000-10000\",1,0)","v":0},{"$f":"IF(dotaznik_data2!$N25=\"10001-15000\",1,0)","v":0},{"$f":"IF(dotaznik_data2!$N25=\"15001-25000\",1,0)","v":0},{"$f":"IF(dotaznik_data2!$N25=\"25001-35000\",1,0)","v":0},{"$f":"IF(dotaznik_data2!$N25=\"35001-45000\",1,0)","v":0},{"$f":"IF(dotaznik_data2!$N25=\"45001 a více\",1,0)","v":1},null,null,{"$f":"dotaznik_data2!N25","v":"45001 a více"},50000]
[null,null,null,null,null,null,null,25,{"$f":"IF(dotaznik_data2!$N26=\"méně než 5000\",1,0)","v":0},{"$f":"IF(dotaznik_data2!$N26=\"5000-10000\",1,0)","v":0},{"$f":"IF(dotaznik_data2!$N26=\"10001-15000\",1,0)","v":0},{"$f":"IF(dotaznik_data2!$N26=\"15001-25000\",1,0)","v":0},{"$f":"IF(dotaznik_data2!$N26=\"25001-35000\",1,0)","v":0},{"$f":"IF(dotaznik_data2!$N26=\"35001-45000\",1,0)","v":0},{"$f":"IF(dotaznik_data2!$N26=\"45001 a více\",1,0)","v":0},null,null,{"$f":"dotaznik_data2!N26","v":0},50000]
[null,null,null,null,null,null,null,26,{"$f":"IF(dotaznik_data2!$N27=\"méně než 5000\",1,0)","v":0},{"$f":"IF(dotaznik_data2!$N27=\"5000-10000\",1,0)","v":0},{"$f":"IF(dotaznik_data2!$N27=\"10001-15000\",1,0)","v":0},{"$f":"IF(dotaznik_data2!$N27=\"15001-25000\",1,0)","v":0},{"$f":"IF(dotaznik_data2!$N27=\"25001-35000\",1,0)","v":1},{"$f":"IF(dotaznik_data2!$N27=\"35001-45000\",1,0)","v":0},{"$f":"IF(dotaznik_data2!$N27=\"45001 a více\",1,0)","v":0},null,null,{"$f":"dotaznik_data2!N27","v":"25001-35000"},30000.5]
[null,null,null,null,null,null,null,27,{"$f":"IF(dotaznik_data2!$N28=\"méně než 5000\",1,0)","v":0},{"$f":"IF(dotaznik_data2!$N28=\"5000-10000\",1,0)","v":0},{"$f":"IF(dotaznik_data2!$N28=\"10001-15000\",1,0)","v":0},{"$f":"IF(dotaznik_data2!$N28=\"15001-25000\",1,0)","v":1},{"$f":"IF(dotaznik_data2!$N28=\"25001-35000\",1,0)","v":0},{"$f":"IF(dotaznik_data2!$N28=\"35001-45000\",1,0)","v":0},{"$f":"IF(dotaznik_data2!$N28=\"45001 a více\",1,0)","v":0},null,null,{"$f":"dotaznik_data2!N28","v":"15001-25000"},20000.5]
[null,null,null,null,null,null,null,28,{"$f":"IF(dotaznik_data2!$N29=\"méně než 5000\",1,0)","v":0},{"$f":"IF(dotaznik_data2!$N29=\"5000-10000\",1,0)","v":0},{"$f":"IF(dotaznik_data2!$N29=\"10001-15000\",1,0)","v":0},{"$f":"IF(dotaznik_data2!$N29=\"15001-25000\",1,0)","v":0},{"$f":"IF(dotaznik_data2!$N29=\"25001-35000\",1,0)","v":1},{"$f":"IF(dotaznik_data2!$N29=\"35001-45000\",1,0)","v":0},{"$f":"IF(dotaznik_data2!$N29=\"45001 a více\",1,0)","v":0},null,null,{"$f":"dotaznik_data2!N29","v":"25001-35000"},30000.5]
[null,null,null,null,null,null,null,29,{"$f":"IF(dotaznik_data2!$N30=\"méně než 5000\",1,0)","v":0},{"$f":"IF(dotaznik_data2!$N30=\"5000-10000\",1,0)","v":1},{"$f":"IF(dotaznik_data2!$N30=\"10001-15000\",1,0)","v":0},{"$f":"IF(dotaznik_data2!$N30=\"15001-25000\",1,0)","v":0},{"$f":"IF(dotaznik_data2!$N30=\"25001-35000\",1,0)","v":0},{"$f":"IF(dotaznik_data2!$N30=\"35001-45000\",1,0)","v":0},{"$f":"IF(dotaznik_data2!$N30=\"45001 a více\",1,0)","v":0}]
[null,null,null,null,null,null,null,30,{"$f":"IF(dotaznik_data2!$N31=\"méně než 5000\",1,0)","v":0},{"$f":"IF(dotaznik_data2!$N31=\"5000-10000\",1,0)","v":0},{"$f":"IF(dotaznik_data2!$N31=\"10001-15000\",1,0)","v":0},{"$f":"IF(dotaznik_data2!$N31=\"15001-25000\",1,0)","v":0},{"$f":"IF(dotaznik_data2!$N31=\"25001-35000\",1,0)","v":1},{"$f":"IF(dotaznik_data2!$N31=\"35001-45000\",1,0)","v":0},{"$f":"IF(dotaznik_data2!$N31=\"45001 a více\",1,0)","v":0},null,null,{"$f":"dotaznik_data2!N31","v":"25001-35000"},30000.5]
[null,null,null,null,null,null,null,31,{"$f":"IF(dotaznik_data2!$N32=\"méně než 5000\",1,0)","v":0},{"$f":"IF(dotaznik_data2!$N32=\"5000-10000\",1,0)","v":0},{"$f":"IF(dotaznik_data2!$N32=\"10001-15000\",1,0)","v":0},{"$f":"IF(dotaznik_data2!$N32=\"15001-25000\",1,0)","v":0},{"$f":"IF(dotaznik_data2!$N32=\"25001-35000\",1,0)","v":0},{"$f":"IF(dotaznik_data2!$N32=\"35001-45000\",1,0)","v":0},{"$f":"IF(dotaznik_data2!$N32=\"45001 a více\",1,0)","v":0},null,null,{"$f":"dotaznik_data2!N32","v":0},50000]
[null,null,null,null,null,null,null,32,{"$f":"IF(dotaznik_data2!$N33=\"méně než 5000\",1,0)","v":0},{"$f":"IF(dotaznik_data2!$N33=\"5000-10000\",1,0)","v":1},{"$f":"IF(dotaznik_data2!$N33=\"10001-15000\",1,0)","v":0},{"$f":"IF(dotaznik_data2!$N33=\"15001-25000\",1,0)","v":0},{"$f":"IF(dotaznik_data2!$N33=\"25001-35000\",1,0)","v":0},{"$f":"IF(dotaznik_data2!$N33=\"35001-45000\",1,0)","v":0},{"$f":"IF(dotaznik_data2!$N33=\"45001 a více\",1,0)","v":0},null,null,{"$f":"dotaznik_data2!N33","v":"5000-10000"},7500]
[null,null,null,null,null,null,null,33,{"$f":"IF(dotaznik_data2!$N34=\"méně než 5000\",1,0)","v":0},{"$f":"IF(dotaznik_data2!$N34=\"5000-10000\",1,0)","v":0},{"$f":"IF(dotaznik_data2!$N34=\"10001-15000\",1,0)","v":0},{"$f":"IF(dotaznik_data2!$N34=\"15001-25000\",1,0)","v":0},{"$f":"IF(dotaznik_data2!$N34=\"25001-35000\",1,0)","v":0},{"$f":"IF(dotaznik_data2!$N34=\"35001-45000\",1,0)","v":0},{"$f":"IF(dotaznik_data2!$N34=\"45001 a více\",1,0)","v":1},null,null,{"$f":"dotaznik_data2!N34","v":"45001 a více"},50000]
[null,null,null,null,null,null,null,34,{"$f":"IF(dotaznik_data2!$N35=\"méně než 5000\",1,0)","v":0},{"$f":"IF(dotaznik_data2!$N35=\"5000-10000\",1,0)","v":0},{"$f":"IF(dotaznik_data2!$N35=\"10001-15000\",1,0)","v":0},{"$f":"IF(dotaznik_data2!$N35=\"15001-25000\",1,0)","v":0},{"$f":"IF(dotaznik_data2!$N35=\"25001-35000\",1,0)","v":0},{"$f":"IF(dotaznik_data2!$N35=\"35001-45000\",1,0)","v":1},{"$f":"IF(dotaznik_data2!$N35=\"45001 a více\",1,0)","v":0},null,null,{"$f":"dotaznik_data2!N35","v":"35001-45000"},40000.5]
[null,null,null,null,null,null,null,35,{"$f":"IF(dotaznik_data2!$N36=\"méně než 5000\",1,0)","v":0},{"$f":"IF(dotaznik_data2!$N36=\"5000-10000\",1,0)","v":0},{"$f":"IF(dotaznik_data2!$N36=\"10001-15000\",1,0)","v":0},{"$f":"IF(dotaznik_data2!$N36=\"15001-25000\",1,0)","v":1},{"$f":"IF(dotaznik_data2!$N36=\"25001-35000\",1,0)","v":0},{"$f":"IF(dotaznik_data2!$N36=\"35001-45000\",1,0)","v":0},{"$f":"IF(dotaznik_data2!$N36=\"45001 a více\",1,0)","v":0}]
[null,null,null,null,null,null,null,36,{"$f":"IF(dotaznik_data2!$N37=\"méně než 5000\",1,0)","v":0},{"$f":"IF(dotaznik_data2!$N37=\"5000-10000\",1,0)","v":0},{"$f":"IF(dotaznik_data2!$N37=\"10001-15000\",1,0)","v":0},{"$f":"IF(dotaznik_data2!$N37=\"15001-25000\",1,0)","v":1},{"$f":"IF(dotaznik_data2!$N37=\"25001-35000\",1,0)","v":0},{"$f":"IF(dotaznik_data2!$N37=\"35001-45000\",1,0)","v":0},{"$f":"IF(dotaznik_data2!$N37=\"45001 a více\",1,0)","v":0},null,null,{"$f":"dotaznik_data2!N37","v":"15001-25000"},20000.5]
[null,null,null,null,null,null,null,37,{"$f":"IF(dotaznik_data2!$N38=\"méně než 5000\",1,0)","v":0},{"$f":"IF(dotaznik_data2!$N38=\"5000-10000\",1,0)","v":0},{"$f":"IF(dotaznik_data2!$N38=\"10001-15000\",1,0)","v":0},{"$f":"IF(dotaznik_data2!$N38=\"15001-25000\",1,0)","v":1},{"$f":"IF(dotaznik_data2!$N38=\"25001-35000\",1,0)","v":0},{"$f":"IF(dotaznik_data2!$N38=\"35001-45000\",1,0)","v":0},{"$f":"IF(dotaznik_data2!$N38=\"45001 a více\",1,0)","v":0},null,null,{"$f":"dotaznik_data2!N38","v":"15001-25000"},20000.5]
[null,null,null,null,null,null,null,38,{"$f":"IF(dotaznik_data2!$N39=\"méně než 5000\",1,0)","v":0},{"$f":"IF(dotaznik_data2!$N39=\"5000-10000\",1,0)","v":0},{"$f":"IF(dotaznik_data2!$N39=\"10001-15000\",1,0)","v":1},{"$f":"IF(dotaznik_data2!$N39=\"15001-25000\",1,0)","v":0},{"$f":"IF(dotaznik_data2!$N39=\"25001-35000\",1,0)","v":0},{"$f":"IF(dotaznik_data2!$N39=\"35001-45000\",1,0)","v":0},{"$f":"IF(dotaznik_data2!$N39=\"45001 a více\",1,0)","v":0},null,null,{"$f":"dotaznik_data2!N39","v":"10001-15000"},12500.5]
[null,null,null,null,null,null,null,39,{"$f":"IF(dotaznik_data2!$N40=\"méně než 5000\",1,0)","v":0},{"$f":"IF(dotaznik_data2!$N40=\"5000-10000\",1,0)","v":1},{"$f":"IF(dotaznik_data2!$N40=\"10001-15000\",1,0)","v":0},{"$f":"IF(dotaznik_data2!$N40=\"15001-25000\",1,0)","v":0},{"$f":"IF(dotaznik_data2!$N40=\"25001-35000\",1,0)","v":0},{"$f":"IF(dotaznik_data2!$N40=\"35001-45000\",1,0)","v":0},{"$f":"IF(dotaznik_data2!$N40=\"45001 a více\",1,0)","v":0},null,null,{"$f":"dotaznik_data2!N40","v":"5000-10000"},7500]
[null,null,null,null,null,null,null,40,{"$f":"IF(dotaznik_data2!$N41=\"méně než 5000\",1,0)","v":0},{"$f":"IF(dotaznik_data2!$N41=\"5000-10000\",1,0)","v":0},{"$f":"IF(dotaznik_data2!$N41=\"10001-15000\",1,0)","v":0},{"$f":"IF(dotaznik_data2!$N41=\"15001-25000\",1,0)","v":0},{"$f":"IF(dotaznik_data2!$N41=\"25001-35000\",1,0)","v":0},{"$f":"IF(dotaznik_data2!$N41=\"35001-45000\",1,0)","v":0},{"$f":"IF(dotaznik_data2!$N41=\"45001 a více\",1,0)","v":1},null,null,{"$f":"dotaznik_data2!N41","v":"45001 a více"},50000]
[null,null,null,null,null,null,null,41,{"$f":"IF(dotaznik_data2!$N42=\"méně než 5000\",1,0)","v":0},{"$f":"IF(dotaznik_data2!$N42=\"5000-10000\",1,0)","v":0},{"$f":"IF(dotaznik_data2!$N42=\"10001-15000\",1,0)","v":1},{"$f":"IF(dotaznik_data2!$N42=\"15001-25000\",1,0)","v":0},{"$f":"IF(dotaznik_data2!$N42=\"25001-35000\",1,0)","v":0},{"$f":"IF(dotaznik_data2!$N42=\"35001-45000\",1,0)","v":0},{"$f":"IF(dotaznik_data2!$N42=\"45001 a více\",1,0)","v":0},null,null,{"$f":"dotaznik_data2!N42","v":"10001-15000"},12500.5]
[null,null,null,null,null,null,null,42,{"$f":"IF(dotaznik_data2!$N43=\"méně než 5000\",1,0)","v":0},{"$f":"IF(dotaznik_data2!$N43=\"5000-10000\",1,0)","v":0},{"$f":"IF(dotaznik_data2!$N43=\"10001-15000\",1,0)","v":0},{"$f":"IF(dotaznik_data2!$N43=\"15001-25000\",1,0)","v":1},{"$f":"IF(dotaznik_data2!$N43=\"25001-35000\",1,0)","v":0},{"$f":"IF(dotaznik_data2!$N43=\"35001-45000\",1,0)","v":0},{"$f":"IF(dotaznik_data2!$N43=\"45001 a více\",1,0)","v":0}]
[null,null,null,null,null,null,null,43,{"$f":"IF(dotaznik_data2!$N44=\"méně než 5000\",1,0)","v":0},{"$f":"IF(dotaznik_data2!$N44=\"5000-10000\",1,0)","v":0},{"$f":"IF(dotaznik_data2!$N44=\"10001-15000\",1,0)","v":0},{"$f":"IF(dotaznik_data2!$N44=\"15001-25000\",1,0)","v":0},{"$f":"IF(dotaznik_data2!$N44=\"25001-35000\",1,0)","v":0},{"$f":"IF(dotaznik_data2!$N44=\"35001-45000\",1,0)","v":1},{"$f":"IF(dotaznik_data2!$N44=\"45001 a více\",1,0)","v":0},null,null,{"$f":"dotaznik_data2!N44","v":"35001-45000"},40000.5]
[null,null,null,null,null,null,null,44,{"$f":"IF(dotaznik_data2!$N45=\"méně než 5000\",1,0)","v":0},{"$f":"IF(dotaznik_data2!$N45=\"5000-10000\",1,0)","v":0},{"$f":"IF(dotaznik_data2!$N45=\"10001-15000\",1,0)","v":1},{"$f":"IF(dotaznik_data2!$N45=\"15001-25000\",1,0)","v":0},{"$f":"IF(dotaznik_data2!$N45=\"25001-35000\",1,0)","v":0},{"$f":"IF(dotaznik_data2!$N45=\"35001-45000\",1,0)","v":0},{"$f":"IF(dotaznik_data2!$N45=\"45001 a více\",1,0)","v":0},null,null,{"$f":"dotaznik_data2!N45","v":"10001-15000"},12500.5]
[null,null,null,null,null,null,null,45,{"$f":"IF(dotaznik_data2!$N46=\"méně než 5000\",1,0)","v":0},{"$f":"IF(dotaznik_data2!$N46=\"5000-10000\",1,0)","v":0},{"$f":"IF(dotaznik_data2!$N46=\"10001-15000\",1,0)","v":1},{"$f":"IF(dotaznik_data2!$N46=\"15001-25000\",1,0)","v":0},{"$f":"IF(dotaznik_data2!$N46=\"25001-35000\",1,0)","v":0},{"$f":"IF(dotaznik_data2!$N46=\"35001-45000\",1,0)","v":0},{"$f":"IF(dotaznik_data2!$N46=\"45001 a více\",1,0)","v":0}]
[null,null,null,null,null,null,null,46,{"$f":"IF(dotaznik_data2!$N47=\"méně než 5000\",1,0)","v":1},{"$f":"IF(dotaznik_data2!$N47=\"5000-10000\",1,0)","v":0},{"$f":"IF(dotaznik_data2!$N47=\"10001-15000\",1,0)","v":0},{"$f":"IF(dotaznik_data2!$N47=\"15001-25000\",1,0)","v":0},{"$f":"IF(dotaznik_data2!$N47=\"25001-35000\",1,0)","v":0},{"$f":"IF(dotaznik_data2!$N47=\"35001-45000\",1,0)","v":0},{"$f":"IF(dotaznik_data2!$N47=\"45001 a více\",1,0)","v":0}]
[null,null,null,null,null,null,null,47,{"$f":"IF(dotaznik_data2!$N48=\"méně než 5000\",1,0)","v":0},{"$f":"IF(dotaznik_data2!$N48=\"5000-10000\",1,0)","v":0},{"$f":"IF(dotaznik_data2!$N48=\"10001-15000\",1,0)","v":0},{"$f":"IF(dotaznik_data2!$N48=\"15001-25000\",1,0)","v":1},{"$f":"IF(dotaznik_data2!$N48=\"25001-35000\",1,0)","v":0},{"$f":"IF(dotaznik_data2!$N48=\"35001-45000\",1,0)","v":0},{"$f":"IF(dotaznik_data2!$N48=\"45001 a více\",1,0)","v":0},null,null,{"$f":"dotaznik_data2!N48","v":"15001-25000"},20000.5]
[null,null,null,null,null,null,null,48,{"$f":"IF(dotaznik_data2!$N49=\"méně než 5000\",1,0)","v":0},{"$f":"IF(dotaznik_data2!$N49=\"5000-10000\",1,0)","v":0},{"$f":"IF(dotaznik_data2!$N49=\"10001-15000\",1,0)","v":0},{"$f":"IF(dotaznik_data2!$N49=\"15001-25000\",1,0)","v":1},{"$f":"IF(dotaznik_data2!$N49=\"25001-35000\",1,0)","v":0},{"$f":"IF(dotaznik_data2!$N49=\"35001-45000\",1,0)","v":0},{"$f":"IF(dotaznik_data2!$N49=\"45001 a více\",1,0)","v":0},null,null,{"$f":"dotaznik_data2!N49","v":"15001-25000"},20000.5]
[null,null,null,null,null,null,null,49,{"$f":"IF(dotaznik_data2!$N50=\"méně než 5000\",1,0)","v":0},{"$f":"IF(dotaznik_data2!$N50=\"5000-10000\",1,0)","v":0},{"$f":"IF(dotaznik_data2!$N50=\"10001-15000\",1,0)","v":0},{"$f":"IF(dotaznik_data2!$N50=\"15001-25000\",1,0)","v":0},{"$f":"IF(dotaznik_data2!$N50=\"25001-35000\",1,0)","v":1},{"$f":"IF(dotaznik_data2!$N50=\"35001-45000\",1,0)","v":0},{"$f":"IF(dotaznik_data2!$N50=\"45001 a více\",1,0)","v":0},null,null,{"$f":"dotaznik_data2!N50","v":"25001-35000"},30000.5]
[null,null,null,null,null,null,null,50,{"$f":"IF(dotaznik_data2!$N51=\"méně než 5000\",1,0)","v":0},{"$f":"IF(dotaznik_data2!$N51=\"5000-10000\",1,0)","v":0},{"$f":"IF(dotaznik_data2!$N51=\"10001-15000\",1,0)","v":0},{"$f":"IF(dotaznik_data2!$N51=\"15001-25000\",1,0)","v":0},{"$f":"IF(dotaznik_data2!$N51=\"25001-35000\",1,0)","v":0},{"$f":"IF(dotaznik_data2!$N51=\"35001-45000\",1,0)","v":0},{"$f":"IF(dotaznik_data2!$N51=\"45001 a více\",1,0)","v":1},null,null,{"$f":"dotaznik_data2!N51","v":"45001 a více"},50000]
[]
[14,"Jak často pořizujete kolo?",null,null,null,null,"nákup do 2 let"]
[null,null,null,null,null,null,"nákup do 4 let"]
[null,null,null,null,null,null,"nákup do 6 let"]
[null,null,null,null,null,null,"nákup do 8 let"]
[null,null,null,null,null,null,"nákup do 10 let"]
[null,null,null,null,null,null,"méně často","četnost",{"$f":"COUNTIF(I739:I788,1)","v":1},{"$f":"COUNTIF(J739:J788,1)","v":4},8,10,1,21]
[null,null,null,null,null,null,null,"odpověď","nákup do 2 let","nákup do 4 let","nákup do 6 let","nákup do 8 let","nákup do 10 let","méně často"]
[null,null,null,null,null,null,"respondent číslo",1,{"$f":"IF(dotaznik_data2!$O2=\"nákup do 2 let\",1,0)","v":0},{"$f":"IF(dotaznik_data2!$O2=\"nákup do 4 let\",1,0)","v":0},{"$f":"IF(dotaznik_data2!$O2=\"nákup do 6 let\",1,0)","v":0},{"$f":"IF(dotaznik_data2!$O2=\"nákup do 8 let\",1,0)","v":0},{"$f":"IF(dotaznik_data2!$O2=\"nákup do 10 let\",1,0)","v":0},{"$f":"IF(dotaznik_data2!$O2=\"méně často\",1,0)","v":1}]
[null,null,null,null,null,null,null,2,{"$f":"IF(dotaznik_data2!$O3=\"nákup do 2 let\",1,0)","v":0},{"$f":"IF(dotaznik_data2!$O3=\"nákup do 4 let\",1,0)","v":0},{"$f":"IF(dotaznik_data2!$O3=\"nákup do 6 let\",1,0)","v":0},{"$f":"IF(dotaznik_data2!$O3=\"nákup do 8 let\",1,0)","v":0},{"$f":"IF(dotaznik_data2!$O3=\"nákup do 10 let\",1,0)","v":0},{"$f":"IF(dotaznik_data2!$O3=\"méně často\",1,0)","v":1}]
[null,null,null,null,null,null,null,3,{"$f":"IF(dotaznik_data2!$O4=\"nákup do 2 let\",1,0)","v":0},{"$f":"IF(dotaznik_data2!$O4=\"nákup do 4 let\",1,0)","v":0},{"$f":"IF(dotaznik_data2!$O4=\"nákup do 6 let\",1,0)","v":0},{"$f":"IF(dotaznik_data2!$O4=\"nákup do 8 let\",1,0)","v":0},{"$f":"IF(dotaznik_data2!$O4=\"nákup do 10 let\",1,0)","v":0},{"$f":"IF(dotaznik_data2!$O4=\"méně často\",1,0)","v":1}]
[null,null,null,null,null,null,null,4,{"$f":"IF(dotaznik_data2!$O5=\"nákup do 2 let\",1,0)","v":0},{"$f":"IF(dotaznik_data2!$O5=\"nákup do 4 let\",1,0)","v":0},{"$f":"IF(dotaznik_data2!$O5=\"nákup do 6 let\",1,0)","v":1},{"$f":"IF(dotaznik_data2!$O5=\"nákup do 8 let\",1,0)","v":0},{"$f":"IF(dotaznik_data2!$O5=\"nákup do 10 let\",1,0)","v":0},{"$f":"IF(dotaznik_data2!$O5=\"méně často\",1,0)","v":0}]
[null,null,null,null,null,null,null,5,{"$f":"IF(dotaznik_data2!$O6=\"nákup do 2 let\",1,0)","v":0},{"$f":"IF(dotaznik_data2!$O6=\"nákup do 4 let\",1,0)","v":0},{"$f":"IF(dotaznik_data2!$O6=\"nákup do 6 let\",1,0)","v":0},{"$f":"IF(dotaznik_data2!$O6=\"nákup do 8 let\",1,0)","v":1},{"$f":"IF(dotaznik_data2!$O6=\"nákup do 10 let\",1,0)","v":0},{"$f":"IF(dotaznik_data2!$O6=\"méně často\",1,0)","v":0}]
[null,null,null,null,null,null,null,6,{"$f":"IF(dotaznik_data2!$O7=\"nákup do 2 let\",1,0)","v":0},{"$f":"IF(dotaznik_data2!$O7=\"nákup do 4 let\",1,0)","v":0},{"$f":"IF(dotaznik_data2!$O7=\"nákup do 6 let\",1,0)","v":0},{"$f":"IF(dotaznik_data2!$O7=\"nákup do 8 let\",1,0)","v":1},{"$f":"IF(dotaznik_data2!$O7=\"nákup do 10 let\",1,0)","v":0},{"$f":"IF(dotaznik_data2!$O7=\"méně často\",1,0)","v":0}]
[null,null,null,null,null,null,null,7,{"$f":"IF(dotaznik_data2!$O8=\"nákup do 2 let\",1,0)","v":0},{"$f":"IF(dotaznik_data2!$O8=\"nákup do 4 let\",1,0)","v":1},{"$f":"IF(dotaznik_data2!$O8=\"nákup do 6 let\",1,0)","v":0},{"$f":"IF(dotaznik_data2!$O8=\"nákup do 8 let\",1,0)","v":0},{"$f":"IF(dotaznik_data2!$O8=\"nákup do 10 let\",1,0)","v":0},{"$f":"IF(dotaznik_data2!$O8=\"méně často\",1,0)","v":0}]
[null,null,null,null,null,null,null,8,{"$f":"IF(dotaznik_data2!$O9=\"nákup do 2 let\",1,0)","v":0},{"$f":"IF(dotaznik_data2!$O9=\"nákup do 4 let\",1,0)","v":0},{"$f":"IF(dotaznik_data2!$O9=\"nákup do 6 let\",1,0)","v":1},{"$f":"IF(dotaznik_data2!$O9=\"nákup do 8 let\",1,0)","v":0},{"$f":"IF(dotaznik_data2!$O9=\"nákup do 10 let\",1,0)","v":0},{"$f":"IF(dotaznik_data2!$O9=\"méně často\",1,0)","v":0}]
[null,null,null,null,null,null,null,9,{"$f":"IF(dotaznik_data2!$O10=\"nákup do 2 let\",1,0)","v":0},{"$f":"IF(dotaznik_data2!$O10=\"nákup do 4 let\",1,0)","v":0},{"$f":"IF(dotaznik_data2!$O10=\"nákup do 6 let\",1,0)","v":0},{"$f":"IF(dotaznik_data2!$O10=\"nákup do 8 let\",1,0)","v":0},{"$f":"IF(dotaznik_data2!$O10=\"nákup do 10 let\",1,0)","v":0},{"$f":"IF(dotaznik_data2!$O10=\"méně často\",1,0)","v":0}]
[null,null,null,null,null,null,null,10,{"$f":"IF(dotaznik_data2!$O11=\"nákup do 2 let\",1,0)","v":0},{"$f":"IF(dotaznik_data2!$O11=\"nákup do 4 let\",1,0)","v":0},{"$f":"IF(dotaznik_data2!$O11=\"nákup do 6 let\",1,0)","v":1},{"$f":"IF(dotaznik_data2!$O11=\"nákup do 8 let\",1,0)","v":0},{"$f":"IF(dotaznik_data2!$O11=\"nákup do 10 let\",1,0)","v":0},{"$f":"IF(dotaznik_data2!$O11=\"méně často\",1,0)","v":0}]
[null,null,null,null,null,null,null,11,{"$f":"IF(dotaznik_data2!$O12=\"nákup do 2 let\",1,0)","v":0},{"$f":"IF(dotaznik_data2!$O12=\"nákup do 4 let\",1,0)","v":0},{"$f":"IF(dotaznik_data2!$O12=\"nákup do 6 let\",1,0)","v":0},{"$f":"IF(dotaznik_data2!$O12=\"nákup do 8 let\",1,0)","v":0},{"$f":"IF(dotaznik_data2!$O12=\"nákup do 10 let\",1,0)","v":0},{"$f":"IF(dotaznik_data2!$O12=\"méně často\",1,0)","v":1}]
[null,null,null,null,null,null,null,12,{"$f":"IF(dotaznik_data2!$O13=\"nákup do 2 let\",1,0)","v":0},{"$f":"IF(dotaznik_data2!$O13=\"nákup do 4 let\",1,0)","v":0},{"$f":"IF(dotaznik_data2!$O13=\"nákup do 6 let\",1,0)","v":0},{"$f":"IF(dotaznik_data2!$O13=\"nákup do 8 let\",1,0)","v":0},{"$f":"IF(dotaznik_data2!$O13=\"nákup do 10 let\",1,0)","v":0},{"$f":"IF(dotaznik_data2!$O13=\"méně často\",1,0)","v":1}]
[null,null,null,null,null,null,null,13,{"$f":"IF(dotaznik_data2!$O14=\"nákup do 2 let\",1,0)","v":0},{"$f":"IF(dotaznik_data2!$O14=\"nákup do 4 let\",1,0)","v":0},{"$f":"IF(dotaznik_data2!$O14=\"nákup do 6 let\",1,0)","v":0},{"$f":"IF(dotaznik_data2!$O14=\"nákup do 8 let\",1,0)","v":0},{"$f":"IF(dotaznik_data2!$O14=\"nákup do 10 let\",1,0)","v":0},{"$f":"IF(dotaznik_data2!$O14=\"méně často\",1,0)","v":1}]
[null,null,null,null,null,null,null,14,{"$f":"IF(dotaznik_data2!$O15=\"nákup do 2 let\",1,0)","v":0},{"$f":"IF(dotaznik_data2!$O15=\"nákup do 4 let\",1,0)","v":0},{"$f":"IF(dotaznik_data2!$O15=\"nákup do 6 let\",1,0)","v":0},{"$f":"IF(dotaznik_data2!$O15=\"nákup do 8 let\",1,0)","v":1},{"$f":"IF(dotaznik_data2!$O15=\"nákup do 10 let\",1,0)","v":0},{"$f":"IF(dotaznik_data2!$O15=\"méně často\",1,0)","v":0}]
[null,null,null,null,null,null,null,15,{"$f":"IF(dotaznik_data2!$O16=\"nákup do 2 let\",1,0)","v":0},{"$f":"IF(dotaznik_data2!$O16=\"nákup do 4 let\",1,0)","v":0},{"$f":"IF(dotaznik_data2!$O16=\"nákup do 6 let\",1,0)","v":0},{"$f":"IF(dotaznik_data2!$O16=\"nákup do 8 let\",1,0)","v":0},{"$f":"IF(dotaznik_data2!$O16=\"nákup do 10 let\",1,0)","v":0},{"$f":"IF(dotaznik_data2!$O16=\"méně často\",1,0)","v":0}]
[null,null,null,null,null,null,null,16,{"$f":"IF(dotaznik_data2!$O17=\"nákup do 2 let\",1,0)","v":1},{"$f":"IF(dotaznik_data2!$O17=\"nákup do 4 let\",1,0)","v":0},{"$f":"IF(dotaznik_data2!$O17=\"nákup do 6 let\",1,0)","v":0},{"$f":"IF(dotaznik_data2!$O17=\"nákup do 8 let\",1,0)","v":0},{"$f":"IF(dotaznik_data2!$O17=\"nákup do 10 let\",1,0)","v":0},{"$f":"IF(dotaznik_data2!$O17=\"méně často\",1,0)","v":0}]
[null,null,null,null,null,null,null,17,{"$f":"IF(dotaznik_data2!$O18=\"nákup do 2 let\",1,0)","v":0},{"$f":"IF(dotaznik_data2!$O18=\"nákup do 4 let\",1,0)","v":0},{"$f":"IF(dotaznik_data2!$O18=\"nákup do 6 let\",1,0)","v":0},{"$f":"IF(dotaznik_data2!$O18=\"nákup do 8 let\",1,0)","v":0},{"$f":"IF(dotaznik_data2!$O18=\"nákup do 10 let\",1,0)","v":0},{"$f":"IF(dotaznik_data2!$O18=\"méně často\",1,0)","v":1}]
[null,null,null,null,null,null,null,18,{"$f":"IF(dotaznik_data2!$O19=\"nákup do 2 let\",1,0)","v":0},{"$f":"IF(dotaznik_data2!$O19=\"nákup do 4 let\",1,0)","v":1},{"$f":"IF(dotaznik_data2!$O19=\"nákup do 6 let\",1,0)","v":0},{"$f":"IF(dotaznik_data2!$O19=\"nákup do 8 let\",1,0)","v":0},{"$f":"IF(dotaznik_data2!$O19=\"nákup do 10 let\",1,0)","v":0},{"$f":"IF(dotaznik_data2!$O19=\"méně často\",1,0)","v":0}]
[null,null,null,null,null,null,null,19,{"$f":"IF(dotaznik_data2!$O20=\"nákup do 2 let\",1,0)","v":0},{"$f":"IF(dotaznik_data2!$O20=\"nákup do 4 let\",1,0)","v":0},{"$f":"IF(dotaznik_data2!$O20=\"nákup do 6 let\",1,0)","v":1},{"$f":"IF(dotaznik_data2!$O20=\"nákup do 8 let\",1,0)","v":0},{"$f":"IF(dotaznik_data2!$O20=\"nákup do 10 let\",1,0)","v":0},{"$f":"IF(dotaznik_data2!$O20=\"méně často\",1,0)","v":0}]
[null,null,null,null,null,null,null,20,{"$f":"IF(dotaznik_data2!$O21=\"nákup do 2 let\",1,0)","v":0},{"$f":"IF(dotaznik_data2!$O21=\"nákup do 4 let\",1,0)","v":0},{"$f":"IF(dotaznik_data2!$O21=\"nákup do 6 let\",1,0)","v":0},{"$f":"IF(dotaznik_data2!$O21=\"nákup do 8 let\",1,0)","v":0},{"$f":"IF(dotaznik_data2!$O21=\"nákup do 10 let\",1,0)","v":0},{"$f":"IF(dotaznik_data2!$O21=\"méně často\",1,0)","v":1}]
[null,null,null,null,null,null,null,21,{"$f":"IF(dotaznik_data2!$O22=\"nákup do 2 let\",1,0)","v":0},{"$f":"IF(dotaznik_data2!$O22=\"nákup do 4 let\",1,0)","v":0},{"$f":"IF(dotaznik_data2!$O22=\"nákup do 6 let\",1,0)","v":0},{"$f":"IF(dotaznik_data2!$O22=\"nákup do 8 let\",1,0)","v":1},{"$f":"IF(dotaznik_data2!$O22=\"nákup do 10 let\",1,0)","v":0},{"$f":"IF(dotaznik_data2!$O22=\"méně často\",1,0)","v":0}]
[null,null,null,null,null,null,null,22,{"$f":"IF(dotaznik_data2!$O23=\"nákup do 2 let\",1,0)","v":0},{"$f":"IF(dotaznik_data2!$O23=\"nákup do 4 let\",1,0)","v":0},{"$f":"IF(dotaznik_data2!$O23=\"nákup do 6 let\",1,0)","v":0},{"$f":"IF(dotaznik_data2!$O23=\"nákup do 8 let\",1,0)","v":0},{"$f":"IF(dotaznik_data2!$O23=\"nákup do 10 let\",1,0)","v":0},{"$f":"IF(dotaznik_data2!$O23=\"méně často\",1,0)","v":0}]
[null,null,null,null,null,null,null,23,{"$f":"IF(dotaznik_data2!$O24=\"nákup do 2 let\",1,0)","v":0},{"$f":"IF(dotaznik_data2!$O24=\"nákup do 4 let\",1,0)","v":0},{"$f":"IF(dotaznik_data2!$O24=\"nákup do 6 let\",1,0)","v":0},{"$f":"IF(dotaznik_data2!$O24=\"nákup do 8 let\",1,0)","v":0},{"$f":"IF(dotaznik_data2!$O24=\"nákup do 10 let\",1,0)","v":0},{"$f":"IF(dotaznik_data2!$O24=\"méně často\",1,0)","v":1}]
[null,null,null,null,null,null,null,24,{"$f":"IF(dotaznik_data2!$O25=\"nákup do 2 let\",1,0)","v":0},{"$f":"IF(dotaznik_data2!$O25=\"nákup do 4 let\",1,0)","v":0},{"$f":"IF(dotaznik_data2!$O25=\"nákup do 6 let\",1,0)","v":1},{"$f":"IF(dotaznik_data2!$O25=\"nákup do 8 let\",1,0)","v":0},{"$f":"IF(dotaznik_data2!$O25=\"nákup do 10 let\",1,0)","v":0},{"$f":"IF(dotaznik_data2!$O25=\"méně často\",1,0)","v":0}]
[null,null,null,null,null,null,null,25,{"$f":"IF(dotaznik_data2!$O26=\"nákup do 2 let\",1,0)","v":0},{"$f":"IF(dotaznik_data2!$O26=\"nákup do 4 let\",1,0)","v":0},{"$f":"IF(dotaznik_data2!$O26=\"nákup do 6 let\",1,0)","v":0},{"$f":"IF(dotaznik_data2!$O26=\"nákup do 8 let\",1,0)","v":0},{"$f":"IF(dotaznik_data2!$O26=\"nákup do 10 let\",1,0)","v":0},{"$f":"IF(dotaznik_data2!$O26=\"méně často\",1,0)","v":0}]
[null,null,null,null,null,null,null,26,{"$f":"IF(dotaznik_data2!$O27=\"nákup do 2 let\",1,0)","v":0},{"$f":"IF(dotaznik_data2!$O27=\"nákup do 4 let\",1,0)","v":0},{"$f":"IF(dotaznik_data2!$O27=\"nákup do 6 let\",1,0)","v":0},{"$f":"IF(dotaznik_data2!$O27=\"nákup do 8 let\",1,0)","v":1},{"$f":"IF(dotaznik_data2!$O27=\"nákup do 10 let\",1,0)","v":0},{"$f":"IF(dotaznik_data2!$O27=\"méně často\",1,0)","v":0}]
[null,null,null,null,null,null,null,27,{"$f":"IF(dotaznik_data2!$O28=\"nákup do 2 let\",1,0)","v":0},{"$f":"IF(dotaznik_data2!$O28=\"nákup do 4 let\",1,0)","v":0},{"$f":"IF(dotaznik_data2!$O28=\"nákup do 6 let\",1,0)","v":0},{"$f":"IF(dotaznik_data2!$O28=\"nákup do 8 let\",1,0)","v":0},{"$f":"IF(dotaznik_data2!$O28=\"nákup do 10 let\",1,0)","v":0},{"$f":"IF(dotaznik_data2!$O28=\"méně často\",1,0)","v":1}]
[null,null,null,null,null,null,null,28,{"$f":"IF(dotaznik_data2!$O29=\"nákup do 2 let\",1,0)","v":0},{"$f":"IF(dotaznik_data2!$O29=\"nákup do 4 let\",1,0)","v":0},{"$f":"IF(dotaznik_data2!$O29=\"nákup do 6 let\",1,0)","v":0},{"$f":"IF(dotaznik_data2!$O29=\"nákup do 8 let\",1,0)","v":1},{"$f":"IF(dotaznik_data2!$O29=\"nákup do 10 let\",1,0)","v":0},{"$f":"IF(dotaznik_data2!$O29=\"méně často\",1,0)","v":0}]
[null,null,null,null,null,null,null,29,{"$f":"IF(dotaznik_data2!$O30=\"nákup do 2 let\",1,0)","v":0},{"$f":"IF(dotaznik_data2!$O30=\"nákup do 4 let\",1,0)","v":0},{"$f":"IF(dotaznik_data2!$O30=\"nákup do 6 let\",1,0)","v":1},{"$f":"IF(dotaznik_data2!$O30=\"nákup do 8 let\",1,0)","v":0},{"$f":"IF(dotaznik_data2!$O30=\"nákup do 10 let\",1,0)","v":0},{"$f":"IF(dotaznik_data2!$O30=\"méně často\",1,0)","v":0}]
[null,null,null,null,null,null,null,30,{"$f":"IF(dotaznik_data2!$O31=\"nákup do 2 let\",1,0)","v":0},{"$f":"IF(dotaznik_data2!$O31=\"nákup do 4 let\",1,0)","v":0},{"$f":"IF(dotaznik_data2!$O31=\"nákup do 6 let\",1,0)","v":0},{"$f":"IF(dotaznik_data2!$O31=\"nákup do 8 let\",1,0)","v":0},{"$f":"IF(dotaznik_data2!$O31=\"nákup do 10 let\",1,0)","v":0},{"$f":"IF(dotaznik_data2!$O31=\"méně často\",1,0)","v":1}]
[null,null,null,null,null,null,null,31,{"$f":"IF(dotaznik_data2!$O32=\"nákup do 2 let\",1,0)","v":0},{"$f":"IF(dotaznik_data2!$O32=\"nákup do 4 let\",1,0)","v":0},{"$f":"IF(dotaznik_data2!$O32=\"nákup do 6 let\",1,0)","v":0},{"$f":"IF(dotaznik_data2!$O32=\"nákup do 8 let\",1,0)","v":0},{"$f":"IF(dotaznik_data2!$O32=\"nákup do 10 let\",1,0)","v":0},{"$f":"IF(dotaznik_data2!$O32=\"méně často\",1,0)","v":0}]
[null,null,null,null,null,null,null,32,{"$f":"IF(dotaznik_data2!$O33=\"nákup do 2 let\",1,0)","v":0},{"$f":"IF(dotaznik_data2!$O33=\"nákup do 4 let\",1,0)","v":0},{"$f":"IF(dotaznik_data2!$O33=\"nákup do 6 let\",1,0)","v":0},{"$f":"IF(dotaznik_data2!$O33=\"nákup do 8 let\",1,0)","v":0},{"$f":"IF(dotaznik_data2!$O33=\"nákup do 10 let\",1,0)","v":0},{"$f":"IF(dotaznik_data2!$O33=\"méně často\",1,0)","v":1}]
[null,null,null,null,null,null,null,33,{"$f":"IF(dotaznik_data2!$O34=\"nákup do 2 let\",1,0)","v":0},{"$f":"IF(dotaznik_data2!$O34=\"nákup do 4 let\",1,0)","v":0},{"$f":"IF(dotaznik_data2!$O34=\"nákup do 6 let\",1,0)","v":0},{"$f":"IF(dotaznik_data2!$O34=\"nákup do 8 let\",1,0)","v":0},{"$f":"IF(dotaznik_data2!$O34=\"nákup do 10 let\",1,0)","v":0},{"$f":"IF(dotaznik_data2!$O34=\"méně často\",1,0)","v":1}]
[null,null,null,null,null,null,null,34,{"$f":"IF(dotaznik_data2!$O35=\"nákup do 2 let\",1,0)","v":0},{"$f":"IF(dotaznik_data2!$O35=\"nákup do 4 let\",1,0)","v":0},{"$f":"IF(dotaznik_data2!$O35=\"nákup do 6 let\",1,0)","v":0},{"$f":"IF(dotaznik_data2!$O35=\"nákup do 8 let\",1,0)","v":0},{"$f":"IF(dotaznik_data2!$O35=\"nákup do 10 let\",1,0)","v":0},{"$f":"IF(dotaznik_data2!$O35=\"méně často\",1,0)","v":1}]
[null,null,null,null,null,null,null,35,{"$f":"IF(dotaznik_data2!$O36=\"nákup do 2 let\",1,0)","v":0},{"$f":"IF(dotaznik_data2!$O36=\"nákup do 4 let\",1,0)","v":0},{"$f":"IF(dotaznik_data2!$O36=\"nákup do 6 let\",1,0)","v":0},{"$f":"IF(dotaznik_data2!$O36=\"nákup do 8 let\",1,0)","v":0},{"$f":"IF(dotaznik_data2!$O36=\"nákup do 10 let\",1,0)","v":0},{"$f":"IF(dotaznik_data2!$O36=\"méně často\",1,0)","v":1}]
[null,null,null,null,null,null,null,36,{"$f":"IF(dotaznik_data2!$O37=\"nákup do 2 let\",1,0)","v":0},{"$f":"IF(dotaznik_data2!$O37=\"nákup do 4 let\",1,0)","v":0},{"$f":"IF(dotaznik_data2!$O37=\"nákup do 6 let\",1,0)","v":1},{"$f":"IF(dotaznik_data2!$O37=\"nákup do 8 let\",1,0)","v":0},{"$f":"IF(dotaznik_data2!$O37=\"nákup do 10 let\",1,0)","v":0},{"$f":"IF(dotaznik_data2!$O37=\"méně často\",1,0)","v":0}]
[null,null,null,null,null,null,null,37,{"$f":"IF(dotaznik_data2!$O38=\"nákup do 2 let\",1,0)","v":0},{"$f":"IF(dotaznik_data2!$O38=\"nákup do 4 let\",1,0)","v":0},{"$f":"IF(dotaznik_data2!$O38=\"nákup do 6 let\",1,0)","v":0},{"$f":"IF(dotaznik_data2!$O38=\"nákup do 8 let\",1,0)","v":0},{"$f":"IF(dotaznik_data2!$O38=\"nákup do 10 let\",1,0)","v":0},{"$f":"IF(dotaznik_data2!$O38=\"méně často\",1,0)","v":1}]
[null,null,null,null,null,null,null,38,{"$f":"IF(dotaznik_data2!$O39=\"nákup do 2 let\",1,0)","v":0},{"$f":"IF(dotaznik_data2!$O39=\"nákup do 4 let\",1,0)","v":0},{"$f":"IF(dotaznik_data2!$O39=\"nákup do 6 let\",1,0)","v":0},{"$f":"IF(dotaznik_data2!$O39=\"nákup do 8 let\",1,0)","v":0},{"$f":"IF(dotaznik_data2!$O39=\"nákup do 10 let\",1,0)","v":1},{"$f":"IF(dotaznik_data2!$O39=\"méně často\",1,0)","v":0}]
[null,null,null,null,null,null,null,39,{"$f":"IF(dotaznik_data2!$O40=\"nákup do 2 let\",1,0)","v":0},{"$f":"IF(dotaznik_data2!$O40=\"nákup do 4 let\",1,0)","v":0},{"$f":"IF(dotaznik_data2!$O40=\"nákup do 6 let\",1,0)","v":0},{"$f":"IF(dotaznik_data2!$O40=\"nákup do 8 let\",1,0)","v":0},{"$f":"IF(dotaznik_data2!$O40=\"nákup do 10 let\",1,0)","v":0},{"$f":"IF(dotaznik_data2!$O40=\"méně často\",1,0)","v":1}]
[null,null,null,null,null,null,null,40,{"$f":"IF(dotaznik_data2!$O41=\"nákup do 2 let\",1,0)","v":0},{"$f":"IF(dotaznik_data2!$O41=\"nákup do 4 let\",1,0)","v":0},{"$f":"IF(dotaznik_data2!$O41=\"nákup do 6 let\",1,0)","v":0},{"$f":"IF(dotaznik_data2!$O41=\"nákup do 8 let\",1,0)","v":1},{"$f":"IF(dotaznik_data2!$O41=\"nákup do 10 let\",1,0)","v":0},{"$f":"IF(dotaznik_data2!$O41=\"méně často\",1,0)","v":0}]
[null,null,null,null,null,null,null,41,{"$f":"IF(dotaznik_data2!$O42=\"nákup do 2 let\",1,0)","v":0},{"$f":"IF(dotaznik_data2!$O42=\"nákup do 4 let\",1,0)","v":0},{"$f":"IF(dotaznik_data2!$O42=\"nákup do 6 let\",1,0)","v":0},{"$f":"IF(dotaznik_data2!$O42=\"nákup do 8 let\",1,0)","v":0},{"$f":"IF(dotaznik_data2!$O42=\"nákup do 10 let\",1,0)","v":0},{"$f":"IF(dotaznik_data2!$O42=\"méně často\",1,0)","v":1}]
[null,null,null,null,null,null,null,42,{"$f":"IF(dotaznik_data2!$O43=\"nákup do 2 let\",1,0)","v":0},{"$f":"IF(dotaznik_data2!$O43=\"nákup do 4 let\",1,0)","v":0},{"$f":"IF(dotaznik_data2!$O43=\"nákup do 6 let\",1,0)","v":0},{"$f":"IF(dotaznik_data2!$O43=\"nákup do 8 let\",1,0)","v":1},{"$f":"IF(dotaznik_data2!$O43=\"nákup do 10 let\",1,0)","v":0},{"$f":"IF(dotaznik_data2!$O43=\"méně často\",1,0)","v":0}]
[null,null,null,null,null,null,null,43,{"$f":"IF(dotaznik_data2!$O44=\"nákup do 2 let\",1,0)","v":0},{"$f":"IF(dotaznik_data2!$O44=\"nákup do 4 let\",1,0)","v":0},{"$f":"IF(dotaznik_data2!$O44=\"nákup do 6 let\",1,0)","v":0},{"$f":"IF(dotaznik_data2!$O44=\"nákup do 8 let\",1,0)","v":0},{"$f":"IF(dotaznik_data2!$O44=\"nákup do 10 let\",1,0)","v":0},{"$f":"IF(dotaznik_data2!$O44=\"méně často\",1,0)","v":1}]
[null,null,null,null,null,null,null,44,{"$f":"IF(dotaznik_data2!$O45=\"nákup do 2 let\",1,0)","v":0},{"$f":"IF(dotaznik_data2!$O45=\"nákup do 4 let\",1,0)","v":0},{"$f":"IF(dotaznik_data2!$O45=\"nákup do 6 let\",1,0)","v":1},{"$f":"IF(dotaznik_data2!$O45=\"nákup do 8 let\",1,0)","v":0},{"$f":"IF(dotaznik_data2!$O45=\"nákup do 10 let\",1,0)","v":0},{"$f":"IF(dotaznik_data2!$O45=\"méně často\",1,0)","v":0}]
[null,null,null,null,null,null,null,45,{"$f":"IF(dotaznik_data2!$O46=\"nákup do 2 let\",1,0)","v":0},{"$f":"IF(dotaznik_data2!$O46=\"nákup do 4 let\",1,0)","v":1},{"$f":"IF(dotaznik_data2!$O46=\"nákup do 6 let\",1,0)","v":0},{"$f":"IF(dotaznik_data2!$O46=\"nákup do 8 let\",1,0)","v":0},{"$f":"IF(dotaznik_data2!$O46=\"nákup do 10 let\",1,0)","v":0},{"$f":"IF(dotaznik_data2!$O46=\"méně často\",1,0)","v":0}]
[null,null,null,null,null,null,null,46,{"$f":"IF(dotaznik_data2!$O47=\"nákup do 2 let\",1,0)","v":0},{"$f":"IF(dotaznik_data2!$O47=\"nákup do 4 let\",1,0)","v":0},{"$f":"IF(dotaznik_data2!$O47=\"nákup do 6 let\",1,0)","v":0},{"$f":"IF(dotaznik_data2!$O47=\"nákup do 8 let\",1,0)","v":1},{"$f":"IF(dotaznik_data2!$O47=\"nákup do 10 let\",1,0)","v":0},{"$f":"IF(dotaznik_data2!$O47=\"méně často\",1,0)","v":0}]
[null,null,null,null,null,null,null,47,{"$f":"IF(dotaznik_data2!$O48=\"nákup do 2 let\",1,0)","v":0},{"$f":"IF(dotaznik_data2!$O48=\"nákup do 4 let\",1,0)","v":0},{"$f":"IF(dotaznik_data2!$O48=\"nákup do 6 let\",1,0)","v":0},{"$f":"IF(dotaznik_data2!$O48=\"nákup do 8 let\",1,0)","v":0},{"$f":"IF(dotaznik_data2!$O48=\"nákup do 10 let\",1,0)","v":0},{"$f":"IF(dotaznik_data2!$O48=\"méně často\",1,0)","v":1}]
[null,null,null,null,null,null,null,48,{"$f":"IF(dotaznik_data2!$O49=\"nákup do 2 let\",1,0)","v":0},{"$f":"IF(dotaznik_data2!$O49=\"nákup do 4 let\",1,0)","v":0},{"$f":"IF(dotaznik_data2!$O49=\"nákup do 6 let\",1,0)","v":0},{"$f":"IF(dotaznik_data2!$O49=\"nákup do 8 let\",1,0)","v":1},{"$f":"IF(dotaznik_data2!$O49=\"nákup do 10 let\",1,0)","v":0},{"$f":"IF(dotaznik_data2!$O49=\"méně často\",1,0)","v":0}]
[null,null,null,null,null,null,null,49,{"$f":"IF(dotaznik_data2!$O50=\"nákup do 2 let\",1,0)","v":0},{"$f":"IF(dotaznik_data2!$O50=\"nákup do 4 let\",1,0)","v":0},{"$f":"IF(dotaznik_data2!$O50=\"nákup do 6 let\",1,0)","v":0},{"$f":"IF(dotaznik_data2!$O50=\"nákup do 8 let\",1,0)","v":0},{"$f":"IF(dotaznik_data2!$O50=\"nákup do 10 let\",1,0)","v":0},{"$f":"IF(dotaznik_data2!$O50=\"méně často\",1,0)","v":1}]
[null,null,null,null,null,null,null,50,{"$f":"IF(dotaznik_data2!$O51=\"nákup do 2 let\",1,0)","v":0},{"$f":"IF(dotaznik_data2!$O51=\"nákup do 4 let\",1,0)","v":1},{"$f":"IF(dotaznik_data2!$O51=\"nákup do 6 let\",1,0)","v":0},{"$f":"IF(dotaznik_data2!$O51=\"nákup do 8 let\",1,0)","v":0},{"$f":"IF(dotaznik_data2!$O51=\"nákup do 10 let\",1,0)","v":0},{"$f":"IF(dotaznik_data2!$O51=\"méně často\",1,0)","v":0}]
[]
[15,"Jak často opravujete kolo sami?",null,null,null,null,"několikrát do roka"]
[null,null,null,null,null,null,"1x z rok"]
[null,null,null,null,null,null,"1x za dva roky"]
[null,null,null,null,null,null,"1x za tři roky"]
[null,null,null,null,null,null,"1x za 4 roky"]
[null,null,null,null,null,null,"1x za 5 let","četnost",{"$f":"COUNTIF(I797:I846,1)","v":12},{"$f":"COUNTIF(J797:J846,1)","v":15},3,1,0,0,14]
[null,null,null,null,null,null,"méně často","odpověď","několikrát do roka","1x z rok","1x za dva roky","1x za tři roky","1x za 4 roky","1x za 5 let","méně často"]
[null,null,null,null,null,null,"respondent číslo",1,{"$f":"IF(dotaznik_data2!$P2=\"několikrát do roka\",1,0)","v":0},{"$f":"IF(dotaznik_data2!$P2=\"1x z rok\",1,0)","v":0},{"$f":"IF(dotaznik_data2!$P2=\"1x za dva roky\",1,0)","v":0},{"$f":"IF(dotaznik_data2!$P2=\"1x za tři roky\",1,0)","v":0},{"$f":"IF(dotaznik_data2!$P2=\"1x za 4 roky\",1,0)","v":0},{"$f":"IF(dotaznik_data2!$P2=\"1x za 5 let\",1,0)","v":0},{"$f":"IF(dotaznik_data2!$P2=\"méně často\",1,0)","v":1}]
[null,null,null,null,null,null,null,2,{"$f":"IF(dotaznik_data2!$P3=\"několikrát do roka\",1,0)","v":0},{"$f":"IF(dotaznik_data2!$P3=\"1x z rok\",1,0)","v":0},{"$f":"IF(dotaznik_data2!$P3=\"1x za dva roky\",1,0)","v":0},{"$f":"IF(dotaznik_data2!$P3=\"1x za tři roky\",1,0)","v":1},{"$f":"IF(dotaznik_data2!$P3=\"1x za 4 roky\",1,0)","v":0},{"$f":"IF(dotaznik_data2!$P3=\"1x za 5 let\",1,0)","v":0},{"$f":"IF(dotaznik_data2!$P3=\"méně často\",1,0)","v":0}]
[null,null,null,null,null,null,null,3,{"$f":"IF(dotaznik_data2!$P4=\"několikrát do roka\",1,0)","v":0},{"$f":"IF(dotaznik_data2!$P4=\"1x z rok\",1,0)","v":1},{"$f":"IF(dotaznik_data2!$P4=\"1x za dva roky\",1,0)","v":0},{"$f":"IF(dotaznik_data2!$P4=\"1x za tři roky\",1,0)","v":0},{"$f":"IF(dotaznik_data2!$P4=\"1x za 4 roky\",1,0)","v":0},{"$f":"IF(dotaznik_data2!$P4=\"1x za 5 let\",1,0)","v":0},{"$f":"IF(dotaznik_data2!$P4=\"méně často\",1,0)","v":0}]
[null,null,null,null,null,null,null,4,{"$f":"IF(dotaznik_data2!$P5=\"několikrát do roka\",1,0)","v":1},{"$f":"IF(dotaznik_data2!$P5=\"1x z rok\",1,0)","v":0},{"$f":"IF(dotaznik_data2!$P5=\"1x za dva roky\",1,0)","v":0},{"$f":"IF(dotaznik_data2!$P5=\"1x za tři roky\",1,0)","v":0},{"$f":"IF(dotaznik_data2!$P5=\"1x za 4 roky\",1,0)","v":0},{"$f":"IF(dotaznik_data2!$P5=\"1x za 5 let\",1,0)","v":0},{"$f":"IF(dotaznik_data2!$P5=\"méně často\",1,0)","v":0}]
[null,null,null,null,null,null,null,5,{"$f":"IF(dotaznik_data2!$P6=\"několikrát do roka\",1,0)","v":0},{"$f":"IF(dotaznik_data2!$P6=\"1x z rok\",1,0)","v":0},{"$f":"IF(dotaznik_data2!$P6=\"1x za dva roky\",1,0)","v":1},{"$f":"IF(dotaznik_data2!$P6=\"1x za tři roky\",1,0)","v":0},{"$f":"IF(dotaznik_data2!$P6=\"1x za 4 roky\",1,0)","v":0},{"$f":"IF(dotaznik_data2!$P6=\"1x za 5 let\",1,0)","v":0},{"$f":"IF(dotaznik_data2!$P6=\"méně často\",1,0)","v":0}]
[null,null,null,null,null,null,null,6,{"$f":"IF(dotaznik_data2!$P7=\"několikrát do roka\",1,0)","v":0},{"$f":"IF(dotaznik_data2!$P7=\"1x z rok\",1,0)","v":1},{"$f":"IF(dotaznik_data2!$P7=\"1x za dva roky\",1,0)","v":0},{"$f":"IF(dotaznik_data2!$P7=\"1x za tři roky\",1,0)","v":0},{"$f":"IF(dotaznik_data2!$P7=\"1x za 4 roky\",1,0)","v":0},{"$f":"IF(dotaznik_data2!$P7=\"1x za 5 let\",1,0)","v":0},{"$f":"IF(dotaznik_data2!$P7=\"méně často\",1,0)","v":0}]
[null,null,null,null,null,null,null,7,{"$f":"IF(dotaznik_data2!$P8=\"několikrát do roka\",1,0)","v":0},{"$f":"IF(dotaznik_data2!$P8=\"1x z rok\",1,0)","v":1},{"$f":"IF(dotaznik_data2!$P8=\"1x za dva roky\",1,0)","v":0},{"$f":"IF(dotaznik_data2!$P8=\"1x za tři roky\",1,0)","v":0},{"$f":"IF(dotaznik_data2!$P8=\"1x za 4 roky\",1,0)","v":0},{"$f":"IF(dotaznik_data2!$P8=\"1x za 5 let\",1,0)","v":0},{"$f":"IF(dotaznik_data2!$P8=\"méně často\",1,0)","v":0}]
[null,null,null,null,null,null,null,8,{"$f":"IF(dotaznik_data2!$P9=\"několikrát do roka\",1,0)","v":0},{"$f":"IF(dotaznik_data2!$P9=\"1x z rok\",1,0)","v":0},{"$f":"IF(dotaznik_data2!$P9=\"1x za dva roky\",1,0)","v":0},{"$f":"IF(dotaznik_data2!$P9=\"1x za tři roky\",1,0)","v":0},{"$f":"IF(dotaznik_data2!$P9=\"1x za 4 roky\",1,0)","v":0},{"$f":"IF(dotaznik_data2!$P9=\"1x za 5 let\",1,0)","v":0},{"$f":"IF(dotaznik_data2!$P9=\"méně často\",1,0)","v":1}]
[null,null,null,null,null,null,null,9,{"$f":"IF(dotaznik_data2!$P10=\"několikrát do roka\",1,0)","v":0},{"$f":"IF(dotaznik_data2!$P10=\"1x z rok\",1,0)","v":0},{"$f":"IF(dotaznik_data2!$P10=\"1x za dva roky\",1,0)","v":0},{"$f":"IF(dotaznik_data2!$P10=\"1x za tři roky\",1,0)","v":0},{"$f":"IF(dotaznik_data2!$P10=\"1x za 4 roky\",1,0)","v":0},{"$f":"IF(dotaznik_data2!$P10=\"1x za 5 let\",1,0)","v":0},{"$f":"IF(dotaznik_data2!$P10=\"méně často\",1,0)","v":0}]
[null,null,null,null,null,null,null,10,{"$f":"IF(dotaznik_data2!$P11=\"několikrát do roka\",1,0)","v":0},{"$f":"IF(dotaznik_data2!$P11=\"1x z rok\",1,0)","v":1},{"$f":"IF(dotaznik_data2!$P11=\"1x za dva roky\",1,0)","v":0},{"$f":"IF(dotaznik_data2!$P11=\"1x za tři roky\",1,0)","v":0},{"$f":"IF(dotaznik_data2!$P11=\"1x za 4 roky\",1,0)","v":0},{"$f":"IF(dotaznik_data2!$P11=\"1x za 5 let\",1,0)","v":0},{"$f":"IF(dotaznik_data2!$P11=\"méně často\",1,0)","v":0}]
[null,null,null,null,null,null,null,11,{"$f":"IF(dotaznik_data2!$P12=\"několikrát do roka\",1,0)","v":0},{"$f":"IF(dotaznik_data2!$P12=\"1x z rok\",1,0)","v":1},{"$f":"IF(dotaznik_data2!$P12=\"1x za dva roky\",1,0)","v":0},{"$f":"IF(dotaznik_data2!$P12=\"1x za tři roky\",1,0)","v":0},{"$f":"IF(dotaznik_data2!$P12=\"1x za 4 roky\",1,0)","v":0},{"$f":"IF(dotaznik_data2!$P12=\"1x za 5 let\",1,0)","v":0},{"$f":"IF(dotaznik_data2!$P12=\"méně často\",1,0)","v":0}]
[null,null,null,null,null,null,null,12,{"$f":"IF(dotaznik_data2!$P13=\"několikrát do roka\",1,0)","v":0},{"$f":"IF(dotaznik_data2!$P13=\"1x z rok\",1,0)","v":0},{"$f":"IF(dotaznik_data2!$P13=\"1x za dva roky\",1,0)","v":0},{"$f":"IF(dotaznik_data2!$P13=\"1x za tři roky\",1,0)","v":0},{"$f":"IF(dotaznik_data2!$P13=\"1x za 4 roky\",1,0)","v":0},{"$f":"IF(dotaznik_data2!$P13=\"1x za 5 let\",1,0)","v":0},{"$f":"IF(dotaznik_data2!$P13=\"méně často\",1,0)","v":1}]
[null,null,null,null,null,null,null,13,{"$f":"IF(dotaznik_data2!$P14=\"několikrát do roka\",1,0)","v":0},{"$f":"IF(dotaznik_data2!$P14=\"1x z rok\",1,0)","v":1},{"$f":"IF(dotaznik_data2!$P14=\"1x za dva roky\",1,0)","v":0},{"$f":"IF(dotaznik_data2!$P14=\"1x za tři roky\",1,0)","v":0},{"$f":"IF(dotaznik_data2!$P14=\"1x za 4 roky\",1,0)","v":0},{"$f":"IF(dotaznik_data2!$P14=\"1x za 5 let\",1,0)","v":0},{"$f":"IF(dotaznik_data2!$P14=\"méně často\",1,0)","v":0}]
[null,null,null,null,null,null,null,14,{"$f":"IF(dotaznik_data2!$P15=\"několikrát do roka\",1,0)","v":0},{"$f":"IF(dotaznik_data2!$P15=\"1x z rok\",1,0)","v":0},{"$f":"IF(dotaznik_data2!$P15=\"1x za dva roky\",1,0)","v":0},{"$f":"IF(dotaznik_data2!$P15=\"1x za tři roky\",1,0)","v":0},{"$f":"IF(dotaznik_data2!$P15=\"1x za 4 roky\",1,0)","v":0},{"$f":"IF(dotaznik_data2!$P15=\"1x za 5 let\",1,0)","v":0},{"$f":"IF(dotaznik_data2!$P15=\"méně často\",1,0)","v":1}]
[null,null,null,null,null,null,null,15,{"$f":"IF(dotaznik_data2!$P16=\"několikrát do roka\",1,0)","v":0},{"$f":"IF(dotaznik_data2!$P16=\"1x z rok\",1,0)","v":0},{"$f":"IF(dotaznik_data2!$P16=\"1x za dva roky\",1,0)","v":0},{"$f":"IF(dotaznik_data2!$P16=\"1x za tři roky\",1,0)","v":0},{"$f":"IF(dotaznik_data2!$P16=\"1x za 4 roky\",1,0)","v":0},{"$f":"IF(dotaznik_data2!$P16=\"1x za 5 let\",1,0)","v":0},{"$f":"IF(dotaznik_data2!$P16=\"méně často\",1,0)","v":0}]
[null,null,null,null,null,null,null,16,{"$f":"IF(dotaznik_data2!$P17=\"několikrát do roka\",1,0)","v":0},{"$f":"IF(dotaznik_data2!$P17=\"1x z rok\",1,0)","v":1},{"$f":"IF(dotaznik_data2!$P17=\"1x za dva roky\",1,0)","v":0},{"$f":"IF(dotaznik_data2!$P17=\"1x za tři roky\",1,0)","v":0},{"$f":"IF(dotaznik_data2!$P17=\"1x za 4 roky\",1,0)","v":0},{"$f":"IF(dotaznik_data2!$P17=\"1x za 5 let\",1,0)","v":0},{"$f":"IF(dotaznik_data2!$P17=\"méně často\",1,0)","v":0}]
[null,null,null,null,null,null,null,17,{"$f":"IF(dotaznik_data2!$P18=\"několikrát do roka\",1,0)","v":0},{"$f":"IF(dotaznik_data2!$P18=\"1x z rok\",1,0)","v":0},{"$f":"IF(dotaznik_data2!$P18=\"1x za dva roky\",1,0)","v":0},{"$f":"IF(dotaznik_data2!$P18=\"1x za tři roky\",1,0)","v":0},{"$f":"IF(dotaznik_data2!$P18=\"1x za 4 roky\",1,0)","v":0},{"$f":"IF(dotaznik_data2!$P18=\"1x za 5 let\",1,0)","v":0},{"$f":"IF(dotaznik_data2!$P18=\"méně často\",1,0)","v":1}]
[null,null,null,null,null,null,null,18,{"$f":"IF(dotaznik_data2!$P19=\"několikrát do roka\",1,0)","v":0},{"$f":"IF(dotaznik_data2!$P19=\"1x z rok\",1,0)","v":1},{"$f":"IF(dotaznik_data2!$P19=\"1x za dva roky\",1,0)","v":0},{"$f":"IF(dotaznik_data2!$P19=\"1x za tři roky\",1,0)","v":0},{"$f":"IF(dotaznik_data2!$P19=\"1x za 4 roky\",1,0)","v":0},{"$f":"IF(dotaznik_data2!$P19=\"1x za 5 let\",1,0)","v":0},{"$f":"IF(dotaznik_data2!$P19=\"méně často\",1,0)","v":0}]
[null,null,null,null,null,null,null,19,{"$f":"IF(dotaznik_data2!$P20=\"několikrát do roka\",1,0)","v":0},{"$f":"IF(dotaznik_data2!$P20=\"1x z rok\",1,0)","v":0},{"$f":"IF(dotaznik_data2!$P20=\"1x za dva roky\",1,0)","v":0},{"$f":"IF(dotaznik_data2!$P20=\"1x za tři roky\",1,0)","v":0},{"$f":"IF(dotaznik_data2!$P20=\"1x za 4 roky\",1,0)","v":0},{"$f":"IF(dotaznik_data2!$P20=\"1x za 5 let\",1,0)","v":0},{"$f":"IF(dotaznik_data2!$P20=\"méně často\",1,0)","v":1}]
[null,null,null,null,null,null,null,20,{"$f":"IF(dotaznik_data2!$P21=\"několikrát do roka\",1,0)","v":0},{"$f":"IF(dotaznik_data2!$P21=\"1x z rok\",1,0)","v":1},{"$f":"IF(dotaznik_data2!$P21=\"1x za dva roky\",1,0)","v":0},{"$f":"IF(dotaznik_data2!$P21=\"1x za tři roky\",1,0)","v":0},{"$f":"IF(dotaznik_data2!$P21=\"1x za 4 roky\",1,0)","v":0},{"$f":"IF(dotaznik_data2!$P21=\"1x za 5 let\",1,0)","v":0},{"$f":"IF(dotaznik_data2!$P21=\"méně často\",1,0)","v":0}]
[null,null,null,null,null,null,null,21,{"$f":"IF(dotaznik_data2!$P22=\"několikrát do roka\",1,0)","v":0},{"$f":"IF(dotaznik_data2!$P22=\"1x z rok\",1,0)","v":1},{"$f":"IF(dotaznik_data2!$P22=\"1x za dva roky\",1,0)","v":0},{"$f":"IF(dotaznik_data2!$P22=\"1x za tři roky\",1,0)","v":0},{"$f":"IF(dotaznik_data2!$P22=\"1x za 4 roky\",1,0)","v":0},{"$f":"IF(dotaznik_data2!$P22=\"1x za 5 let\",1,0)","v":0},{"$f":"IF(dotaznik_data2!$P22=\"méně často\",1,0)","v":0}]
[null,null,null,null,null,null,null,22,{"$f":"IF(dotaznik_data2!$P23=\"několikrát do roka\",1,0)","v":0},{"$f":"IF(dotaznik_data2!$P23=\"1x z rok\",1,0)","v":0},{"$f":"IF(dotaznik_data2!$P23=\"1x za dva roky\",1,0)","v":0},{"$f":"IF(dotaznik_data2!$P23=\"1x za tři roky\",1,0)","v":0},{"$f":"IF(dotaznik_data2!$P23=\"1x za 4 roky\",1,0)","v":0},{"$f":"IF(dotaznik_data2!$P23=\"1x za 5 let\",1,0)","v":0},{"$f":"IF(dotaznik_data2!$P23=\"méně často\",1,0)","v":0}]
[null,null,null,null,null,null,null,23,{"$f":"IF(dotaznik_data2!$P24=\"několikrát do roka\",1,0)","v":0},{"$f":"IF(dotaznik_data2!$P24=\"1x z rok\",1,0)","v":0},{"$f":"IF(dotaznik_data2!$P24=\"1x za dva roky\",1,0)","v":0},{"$f":"IF(dotaznik_data2!$P24=\"1x za tři roky\",1,0)","v":0},{"$f":"IF(dotaznik_data2!$P24=\"1x za 4 roky\",1,0)","v":0},{"$f":"IF(dotaznik_data2!$P24=\"1x za 5 let\",1,0)","v":0},{"$f":"IF(dotaznik_data2!$P24=\"méně často\",1,0)","v":1}]
[null,null,null,null,null,null,null,24,{"$f":"IF(dotaznik_data2!$P25=\"několikrát do roka\",1,0)","v":1},{"$f":"IF(dotaznik_data2!$P25=\"1x z rok\",1,0)","v":0},{"$f":"IF(dotaznik_data2!$P25=\"1x za dva roky\",1,0)","v":0},{"$f":"IF(dotaznik_data2!$P25=\"1x za tři roky\",1,0)","v":0},{"$f":"IF(dotaznik_data2!$P25=\"1x za 4 roky\",1,0)","v":0},{"$f":"IF(dotaznik_data2!$P25=\"1x za 5 let\",1,0)","v":0},{"$f":"IF(dotaznik_data2!$P25=\"méně často\",1,0)","v":0}]
[null,null,null,null,null,null,null,25,{"$f":"IF(dotaznik_data2!$P26=\"několikrát do roka\",1,0)","v":0},{"$f":"IF(dotaznik_data2!$P26=\"1x z rok\",1,0)","v":0},{"$f":"IF(dotaznik_data2!$P26=\"1x za dva roky\",1,0)","v":0},{"$f":"IF(dotaznik_data2!$P26=\"1x za tři roky\",1,0)","v":0},{"$f":"IF(dotaznik_data2!$P26=\"1x za 4 roky\",1,0)","v":0},{"$f":"IF(dotaznik_data2!$P26=\"1x za 5 let\",1,0)","v":0},{"$f":"IF(dotaznik_data2!$P26=\"méně často\",1,0)","v":0}]
[null,null,null,null,null,null,null,26,{"$f":"IF(dotaznik_data2!$P27=\"několikrát do roka\",1,0)","v":0},{"$f":"IF(dotaznik_data2!$P27=\"1x z rok\",1,0)","v":1},{"$f":"IF(dotaznik_data2!$P27=\"1x za dva roky\",1,0)","v":0},{"$f":"IF(dotaznik_data2!$P27=\"1x za tři roky\",1,0)","v":0},{"$f":"IF(dotaznik_data2!$P27=\"1x za 4 roky\",1,0)","v":0},{"$f":"IF(dotaznik_data2!$P27=\"1x za 5 let\",1,0)","v":0},{"$f":"IF(dotaznik_data2!$P27=\"méně často\",1,0)","v":0}]
[null,null,null,null,null,null,null,27,{"$f":"IF(dotaznik_data2!$P28=\"několikrát do roka\",1,0)","v":0},{"$f":"IF(dotaznik_data2!$P28=\"1x z rok\",1,0)","v":0},{"$f":"IF(dotaznik_data2!$P28=\"1x za dva roky\",1,0)","v":0},{"$f":"IF(dotaznik_data2!$P28=\"1x za tři roky\",1,0)","v":0},{"$f":"IF(dotaznik_data2!$P28=\"1x za 4 roky\",1,0)","v":0},{"$f":"IF(dotaznik_data2!$P28=\"1x za 5 let\",1,0)","v":0},{"$f":"IF(dotaznik_data2!$P28=\"méně často\",1,0)","v":1}]
[null,null,null,null,null,null,null,28,{"$f":"IF(dotaznik_data2!$P29=\"několikrát do roka\",1,0)","v":1},{"$f":"IF(dotaznik_data2!$P29=\"1x z rok\",1,0)","v":0},{"$f":"IF(dotaznik_data2!$P29=\"1x za dva roky\",1,0)","v":0},{"$f":"IF(dotaznik_data2!$P29=\"1x za tři roky\",1,0)","v":0},{"$f":"IF(dotaznik_data2!$P29=\"1x za 4 roky\",1,0)","v":0},{"$f":"IF(dotaznik_data2!$P29=\"1x za 5 let\",1,0)","v":0},{"$f":"IF(dotaznik_data2!$P29=\"méně často\",1,0)","v":0}]
[null,null,null,null,null,null,null,29,{"$f":"IF(dotaznik_data2!$P30=\"několikrát do roka\",1,0)","v":0},{"$f":"IF(dotaznik_data2!$P30=\"1x z rok\",1,0)","v":0},{"$f":"IF(dotaznik_data2!$P30=\"1x za dva roky\",1,0)","v":0},{"$f":"IF(dotaznik_data2!$P30=\"1x za tři roky\",1,0)","v":0},{"$f":"IF(dotaznik_data2!$P30=\"1x za 4 roky\",1,0)","v":0},{"$f":"IF(dotaznik_data2!$P30=\"1x za 5 let\",1,0)","v":0},{"$f":"IF(dotaznik_data2!$P30=\"méně často\",1,0)","v":1}]
[null,null,null,null,null,null,null,30,{"$f":"IF(dotaznik_data2!$P31=\"několikrát do roka\",1,0)","v":0},{"$f":"IF(dotaznik_data2!$P31=\"1x z rok\",1,0)","v":0},{"$f":"IF(dotaznik_data2!$P31=\"1x za dva roky\",1,0)","v":0},{"$f":"IF(dotaznik_data2!$P31=\"1x za tři roky\",1,0)","v":0},{"$f":"IF(dotaznik_data2!$P31=\"1x za 4 roky\",1,0)","v":0},{"$f":"IF(dotaznik_data2!$P31=\"1x za 5 let\",1,0)","v":0},{"$f":"IF(dotaznik_data2!$P31=\"méně často\",1,0)","v":1}]
[null,null,null,null,null,null,null,31,{"$f":"IF(dotaznik_data2!$P32=\"několikrát do roka\",1,0)","v":0},{"$f":"IF(dotaznik_data2!$P32=\"1x z rok\",1,0)","v":0},{"$f":"IF(dotaznik_data2!$P32=\"1x za dva roky\",1,0)","v":0},{"$f":"IF(dotaznik_data2!$P32=\"1x za tři roky\",1,0)","v":0},{"$f":"IF(dotaznik_data2!$P32=\"1x za 4 roky\",1,0)","v":0},{"$f":"IF(dotaznik_data2!$P32=\"1x za 5 let\",1,0)","v":0},{"$f":"IF(dotaznik_data2!$P32=\"méně často\",1,0)","v":0}]
[null,null,null,null,null,null,null,32,{"$f":"IF(dotaznik_data2!$P33=\"několikrát do roka\",1,0)","v":0},{"$f":"IF(dotaznik_data2!$P33=\"1x z rok\",1,0)","v":0},{"$f":"IF(dotaznik_data2!$P33=\"1x za dva roky\",1,0)","v":0},{"$f":"IF(dotaznik_data2!$P33=\"1x za tři roky\",1,0)","v":0},{"$f":"IF(dotaznik_data2!$P33=\"1x za 4 roky\",1,0)","v":0},{"$f":"IF(dotaznik_data2!$P33=\"1x za 5 let\",1,0)","v":0},{"$f":"IF(dotaznik_data2!$P33=\"méně často\",1,0)","v":1}]
[null,null,null,null,null,null,null,33,{"$f":"IF(dotaznik_data2!$P34=\"několikrát do roka\",1,0)","v":1},{"$f":"IF(dotaznik_data2!$P34=\"1x z rok\",1,0)","v":0},{"$f":"IF(dotaznik_data2!$P34=\"1x za dva roky\",1,0)","v":0},{"$f":"IF(dotaznik_data2!$P34=\"1x za tři roky\",1,0)","v":0},{"$f":"IF(dotaznik_data2!$P34=\"1x za 4 roky\",1,0)","v":0},{"$f":"IF(dotaznik_data2!$P34=\"1x za 5 let\",1,0)","v":0},{"$f":"IF(dotaznik_data2!$P34=\"méně často\",1,0)","v":0}]
[null,null,null,null,null,null,null,34,{"$f":"IF(dotaznik_data2!$P35=\"několikrát do roka\",1,0)","v":1},{"$f":"IF(dotaznik_data2!$P35=\"1x z rok\",1,0)","v":0},{"$f":"IF(dotaznik_data2!$P35=\"1x za dva roky\",1,0)","v":0},{"$f":"IF(dotaznik_data2!$P35=\"1x za tři roky\",1,0)","v":0},{"$f":"IF(dotaznik_data2!$P35=\"1x za 4 roky\",1,0)","v":0},{"$f":"IF(dotaznik_data2!$P35=\"1x za 5 let\",1,0)","v":0},{"$f":"IF(dotaznik_data2!$P35=\"méně často\",1,0)","v":0}]
[null,null,null,null,null,null,null,35,{"$f":"IF(dotaznik_data2!$P36=\"několikrát do roka\",1,0)","v":1},{"$f":"IF(dotaznik_data2!$P36=\"1x z rok\",1,0)","v":0},{"$f":"IF(dotaznik_data2!$P36=\"1x za dva roky\",1,0)","v":0},{"$f":"IF(dotaznik_data2!$P36=\"1x za tři roky\",1,0)","v":0},{"$f":"IF(dotaznik_data2!$P36=\"1x za 4 roky\",1,0)","v":0},{"$f":"IF(dotaznik_data2!$P36=\"1x za 5 let\",1,0)","v":0},{"$f":"IF(dotaznik_data2!$P36=\"méně často\",1,0)","v":0}]
[null,null,null,null,null,null,null,36,{"$f":"IF(dotaznik_data2!$P37=\"několikrát do roka\",1,0)","v":0},{"$f":"IF(dotaznik_data2!$P37=\"1x z rok\",1,0)","v":0},{"$f":"IF(dotaznik_data2!$P37=\"1x za dva roky\",1,0)","v":0},{"$f":"IF(dotaznik_data2!$P37=\"1x za tři roky\",1,0)","v":0},{"$f":"IF(dotaznik_data2!$P37=\"1x za 4 roky\",1,0)","v":0},{"$f":"IF(dotaznik_data2!$P37=\"1x za 5 let\",1,0)","v":0},{"$f":"IF(dotaznik_data2!$P37=\"méně často\",1,0)","v":1}]
[null,null,null,null,null,null,null,37,{"$f":"IF(dotaznik_data2!$P38=\"několikrát do roka\",1,0)","v":0},{"$f":"IF(dotaznik_data2!$P38=\"1x z rok\",1,0)","v":0},{"$f":"IF(dotaznik_data2!$P38=\"1x za dva roky\",1,0)","v":0},{"$f":"IF(dotaznik_data2!$P38=\"1x za tři roky\",1,0)","v":0},{"$f":"IF(dotaznik_data2!$P38=\"1x za 4 roky\",1,0)","v":0},{"$f":"IF(dotaznik_data2!$P38=\"1x za 5 let\",1,0)","v":0},{"$f":"IF(dotaznik_data2!$P38=\"méně často\",1,0)","v":1}]
[null,null,null,null,null,null,null,38,{"$f":"IF(dotaznik_data2!$P39=\"několikrát do roka\",1,0)","v":0},{"$f":"IF(dotaznik_data2!$P39=\"1x z rok\",1,0)","v":1},{"$f":"IF(dotaznik_data2!$P39=\"1x za dva roky\",1,0)","v":0},{"$f":"IF(dotaznik_data2!$P39=\"1x za tři roky\",1,0)","v":0},{"$f":"IF(dotaznik_data2!$P39=\"1x za 4 roky\",1,0)","v":0},{"$f":"IF(dotaznik_data2!$P39=\"1x za 5 let\",1,0)","v":0},{"$f":"IF(dotaznik_data2!$P39=\"méně často\",1,0)","v":0}]
[null,null,null,null,null,null,null,39,{"$f":"IF(dotaznik_data2!$P40=\"několikrát do roka\",1,0)","v":0},{"$f":"IF(dotaznik_data2!$P40=\"1x z rok\",1,0)","v":0},{"$f":"IF(dotaznik_data2!$P40=\"1x za dva roky\",1,0)","v":0},{"$f":"IF(dotaznik_data2!$P40=\"1x za tři roky\",1,0)","v":0},{"$f":"IF(dotaznik_data2!$P40=\"1x za 4 roky\",1,0)","v":0},{"$f":"IF(dotaznik_data2!$P40=\"1x za 5 let\",1,0)","v":0},{"$f":"IF(dotaznik_data2!$P40=\"méně často\",1,0)","v":1}]
[null,null,null,null,null,null,null,40,{"$f":"IF(dotaznik_data2!$P41=\"několikrát do roka\",1,0)","v":1},{"$f":"IF(dotaznik_data2!$P41=\"1x z rok\",1,0)","v":0},{"$f":"IF(dotaznik_data2!$P41=\"1x za dva roky\",1,0)","v":0},{"$f":"IF(dotaznik_data2!$P41=\"1x za tři roky\",1,0)","v":0},{"$f":"IF(dotaznik_data2!$P41=\"1x za 4 roky\",1,0)","v":0},{"$f":"IF(dotaznik_data2!$P41=\"1x za 5 let\",1,0)","v":0},{"$f":"IF(dotaznik_data2!$P41=\"méně často\",1,0)","v":0}]
[null,null,null,null,null,null,null,41,{"$f":"IF(dotaznik_data2!$P42=\"několikrát do roka\",1,0)","v":0},{"$f":"IF(dotaznik_data2!$P42=\"1x z rok\",1,0)","v":1},{"$f":"IF(dotaznik_data2!$P42=\"1x za dva roky\",1,0)","v":0},{"$f":"IF(dotaznik_data2!$P42=\"1x za tři roky\",1,0)","v":0},{"$f":"IF(dotaznik_data2!$P42=\"1x za 4 roky\",1,0)","v":0},{"$f":"IF(dotaznik_data2!$P42=\"1x za 5 let\",1,0)","v":0},{"$f":"IF(dotaznik_data2!$P42=\"méně často\",1,0)","v":0}]
[null,null,null,null,null,null,null,42,{"$f":"IF(dotaznik_data2!$P43=\"několikrát do roka\",1,0)","v":0},{"$f":"IF(dotaznik_data2!$P43=\"1x z rok\",1,0)","v":1},{"$f":"IF(dotaznik_data2!$P43=\"1x za dva roky\",1,0)","v":0},{"$f":"IF(dotaznik_data2!$P43=\"1x za tři roky\",1,0)","v":0},{"$f":"IF(dotaznik_data2!$P43=\"1x za 4 roky\",1,0)","v":0},{"$f":"IF(dotaznik_data2!$P43=\"1x za 5 let\",1,0)","v":0},{"$f":"IF(dotaznik_data2!$P43=\"méně často\",1,0)","v":0}]
[null,null,null,null,null,null,null,43,{"$f":"IF(dotaznik_data2!$P44=\"několikrát do roka\",1,0)","v":1},{"$f":"IF(dotaznik_data2!$P44=\"1x z rok\",1,0)","v":0},{"$f":"IF(dotaznik_data2!$P44=\"1x za dva roky\",1,0)","v":0},{"$f":"IF(dotaznik_data2!$P44=\"1x za tři roky\",1,0)","v":0},{"$f":"IF(dotaznik_data2!$P44=\"1x za 4 roky\",1,0)","v":0},{"$f":"IF(dotaznik_data2!$P44=\"1x za 5 let\",1,0)","v":0},{"$f":"IF(dotaznik_data2!$P44=\"méně často\",1,0)","v":0}]
[null,null,null,null,null,null,null,44,{"$f":"IF(dotaznik_data2!$P45=\"několikrát do roka\",1,0)","v":0},{"$f":"IF(dotaznik_data2!$P45=\"1x z rok\",1,0)","v":0},{"$f":"IF(dotaznik_data2!$P45=\"1x za dva roky\",1,0)","v":1},{"$f":"IF(dotaznik_data2!$P45=\"1x za tři roky\",1,0)","v":0},{"$f":"IF(dotaznik_data2!$P45=\"1x za 4 roky\",1,0)","v":0},{"$f":"IF(dotaznik_data2!$P45=\"1x za 5 let\",1,0)","v":0},{"$f":"IF(dotaznik_data2!$P45=\"méně často\",1,0)","v":0}]
[null,null,null,null,null,null,null,45,{"$f":"IF(dotaznik_data2!$P46=\"několikrát do roka\",1,0)","v":1},{"$f":"IF(dotaznik_data2!$P46=\"1x z rok\",1,0)","v":0},{"$f":"IF(dotaznik_data2!$P46=\"1x za dva roky\",1,0)","v":0},{"$f":"IF(dotaznik_data2!$P46=\"1x za tři roky\",1,0)","v":0},{"$f":"IF(dotaznik_data2!$P46=\"1x za 4 roky\",1,0)","v":0},{"$f":"IF(dotaznik_data2!$P46=\"1x za 5 let\",1,0)","v":0},{"$f":"IF(dotaznik_data2!$P46=\"méně často\",1,0)","v":0}]
[null,null,null,null,null,null,null,46,{"$f":"IF(dotaznik_data2!$P47=\"několikrát do roka\",1,0)","v":0},{"$f":"IF(dotaznik_data2!$P47=\"1x z rok\",1,0)","v":1},{"$f":"IF(dotaznik_data2!$P47=\"1x za dva roky\",1,0)","v":0},{"$f":"IF(dotaznik_data2!$P47=\"1x za tři roky\",1,0)","v":0},{"$f":"IF(dotaznik_data2!$P47=\"1x za 4 roky\",1,0)","v":0},{"$f":"IF(dotaznik_data2!$P47=\"1x za 5 let\",1,0)","v":0},{"$f":"IF(dotaznik_data2!$P47=\"méně často\",1,0)","v":0}]
[null,null,null,null,null,null,null,47,{"$f":"IF(dotaznik_data2!$P48=\"několikrát do roka\",1,0)","v":1},{"$f":"IF(dotaznik_data2!$P48=\"1x z rok\",1,0)","v":0},{"$f":"IF(dotaznik_data2!$P48=\"1x za dva roky\",1,0)","v":0},{"$f":"IF(dotaznik_data2!$P48=\"1x za tři roky\",1,0)","v":0},{"$f":"IF(dotaznik_data2!$P48=\"1x za 4 roky\",1,0)","v":0},{"$f":"IF(dotaznik_data2!$P48=\"1x za 5 let\",1,0)","v":0},{"$f":"IF(dotaznik_data2!$P48=\"méně často\",1,0)","v":0}]
[null,null,null,null,null,null,null,48,{"$f":"IF(dotaznik_data2!$P49=\"několikrát do roka\",1,0)","v":1},{"$f":"IF(dotaznik_data2!$P49=\"1x z rok\",1,0)","v":0},{"$f":"IF(dotaznik_data2!$P49=\"1x za dva roky\",1,0)","v":0},{"$f":"IF(dotaznik_data2!$P49=\"1x za tři roky\",1,0)","v":0},{"$f":"IF(dotaznik_data2!$P49=\"1x za 4 roky\",1,0)","v":0},{"$f":"IF(dotaznik_data2!$P49=\"1x za 5 let\",1,0)","v":0},{"$f":"IF(dotaznik_data2!$P49=\"méně často\",1,0)","v":0}]
[null,null,null,null,null,null,null,49,{"$f":"IF(dotaznik_data2!$P50=\"několikrát do roka\",1,0)","v":0},{"$f":"IF(dotaznik_data2!$P50=\"1x z rok\",1,0)","v":0},{"$f":"IF(dotaznik_data2!$P50=\"1x za dva roky\",1,0)","v":1},{"$f":"IF(dotaznik_data2!$P50=\"1x za tři roky\",1,0)","v":0},{"$f":"IF(dotaznik_data2!$P50=\"1x za 4 roky\",1,0)","v":0},{"$f":"IF(dotaznik_data2!$P50=\"1x za 5 let\",1,0)","v":0},{"$f":"IF(dotaznik_data2!$P50=\"méně často\",1,0)","v":0}]
[null,null,null,null,null,null,null,50,{"$f":"IF(dotaznik_data2!$P51=\"několikrát do roka\",1,0)","v":1},{"$f":"IF(dotaznik_data2!$P51=\"1x z rok\",1,0)","v":0},{"$f":"IF(dotaznik_data2!$P51=\"1x za dva roky\",1,0)","v":0},{"$f":"IF(dotaznik_data2!$P51=\"1x za tři roky\",1,0)","v":0},{"$f":"IF(dotaznik_data2!$P51=\"1x za 4 roky\",1,0)","v":0},{"$f":"IF(dotaznik_data2!$P51=\"1x za 5 let\",1,0)","v":0},{"$f":"IF(dotaznik_data2!$P51=\"méně často\",1,0)","v":0}]
[]
[16,"Jak často opravujete kolo v servisu?",null,null,null,null,"několikrát do roka"]
[null,null,null,null,null,null,"1x z rok"]
[null,null,null,null,null,null,"1x za dva roky"]
[null,null,null,null,null,null,"1x za tři roky"]
[null,null,null,null,null,null,"1x za 4 roky"]
[null,null,null,null,null,null,"1x za 5 let"]
[null,null,null,null,null,null,"méně často","četnost",{"$f":"COUNTIF(I856:I905,1)","v":1},{"$f":"COUNTIF(J856:J905,1)","v":11},14,4,1,3,11]
[null,null,null,null,null,null,null,"odpověď","několikrát do roka","1x z rok","1x za dva roky","1x za tři roky","1x za 4 roky","1x za 5 let","méně často"]
[null,null,null,null,null,null,"respondent číslo",1,{"$f":"IF(dotaznik_data2!$Q2=\"několikrát do roka\",1,0)","v":0},{"$f":"IF(dotaznik_data2!$Q2=\"1x z rok\",1,0)","v":0},{"$f":"IF(dotaznik_data2!$Q2=\"1x za dva roky\",1,0)","v":1},{"$f":"IF(dotaznik_data2!$Q2=\"1x za tři roky\",1,0)","v":0},{"$f":"IF(dotaznik_data2!$Q2=\"1x za 4 roky\",1,0)","v":0},{"$f":"IF(dotaznik_data2!$Q2=\"1x za 5 let\",1,0)","v":0},{"$f":"IF(dotaznik_data2!$Q2=\"méně často\",1,0)","v":0}]
[null,null,null,null,null,null,null,2,{"$f":"IF(dotaznik_data2!$Q3=\"několikrát do roka\",1,0)","v":0},{"$f":"IF(dotaznik_data2!$Q3=\"1x z rok\",1,0)","v":0},{"$f":"IF(dotaznik_data2!$Q3=\"1x za dva roky\",1,0)","v":0},{"$f":"IF(dotaznik_data2!$Q3=\"1x za tři roky\",1,0)","v":0},{"$f":"IF(dotaznik_data2!$Q3=\"1x za 4 roky\",1,0)","v":0},{"$f":"IF(dotaznik_data2!$Q3=\"1x za 5 let\",1,0)","v":0},{"$f":"IF(dotaznik_data2!$Q3=\"méně často\",1,0)","v":1}]
[null,null,null,null,null,null,null,3,{"$f":"IF(dotaznik_data2!$Q4=\"několikrát do roka\",1,0)","v":0},{"$f":"IF(dotaznik_data2!$Q4=\"1x z rok\",1,0)","v":1},{"$f":"IF(dotaznik_data2!$Q4=\"1x za dva roky\",1,0)","v":0},{"$f":"IF(dotaznik_data2!$Q4=\"1x za tři roky\",1,0)","v":0},{"$f":"IF(dotaznik_data2!$Q4=\"1x za 4 roky\",1,0)","v":0},{"$f":"IF(dotaznik_data2!$Q4=\"1x za 5 let\",1,0)","v":0},{"$f":"IF(dotaznik_data2!$Q4=\"méně často\",1,0)","v":0}]
[null,null,null,null,null,null,null,4,{"$f":"IF(dotaznik_data2!$Q5=\"několikrát do roka\",1,0)","v":0},{"$f":"IF(dotaznik_data2!$Q5=\"1x z rok\",1,0)","v":0},{"$f":"IF(dotaznik_data2!$Q5=\"1x za dva roky\",1,0)","v":1},{"$f":"IF(dotaznik_data2!$Q5=\"1x za tři roky\",1,0)","v":0},{"$f":"IF(dotaznik_data2!$Q5=\"1x za 4 roky\",1,0)","v":0},{"$f":"IF(dotaznik_data2!$Q5=\"1x za 5 let\",1,0)","v":0},{"$f":"IF(dotaznik_data2!$Q5=\"méně často\",1,0)","v":0}]
[null,null,null,null,null,null,null,5,{"$f":"IF(dotaznik_data2!$Q6=\"několikrát do roka\",1,0)","v":0},{"$f":"IF(dotaznik_data2!$Q6=\"1x z rok\",1,0)","v":0},{"$f":"IF(dotaznik_data2!$Q6=\"1x za dva roky\",1,0)","v":0},{"$f":"IF(dotaznik_data2!$Q6=\"1x za tři roky\",1,0)","v":1},{"$f":"IF(dotaznik_data2!$Q6=\"1x za 4 roky\",1,0)","v":0},{"$f":"IF(dotaznik_data2!$Q6=\"1x za 5 let\",1,0)","v":0},{"$f":"IF(dotaznik_data2!$Q6=\"méně často\",1,0)","v":0}]
[null,null,null,null,null,null,null,6,{"$f":"IF(dotaznik_data2!$Q7=\"několikrát do roka\",1,0)","v":0},{"$f":"IF(dotaznik_data2!$Q7=\"1x z rok\",1,0)","v":0},{"$f":"IF(dotaznik_data2!$Q7=\"1x za dva roky\",1,0)","v":0},{"$f":"IF(dotaznik_data2!$Q7=\"1x za tři roky\",1,0)","v":0},{"$f":"IF(dotaznik_data2!$Q7=\"1x za 4 roky\",1,0)","v":0},{"$f":"IF(dotaznik_data2!$Q7=\"1x za 5 let\",1,0)","v":1},{"$f":"IF(dotaznik_data2!$Q7=\"méně často\",1,0)","v":0}]
[null,null,null,null,null,null,null,7,{"$f":"IF(dotaznik_data2!$Q8=\"několikrát do roka\",1,0)","v":0},{"$f":"IF(dotaznik_data2!$Q8=\"1x z rok\",1,0)","v":0},{"$f":"IF(dotaznik_data2!$Q8=\"1x za dva roky\",1,0)","v":0},{"$f":"IF(dotaznik_data2!$Q8=\"1x za tři roky\",1,0)","v":1},{"$f":"IF(dotaznik_data2!$Q8=\"1x za 4 roky\",1,0)","v":0},{"$f":"IF(dotaznik_data2!$Q8=\"1x za 5 let\",1,0)","v":0},{"$f":"IF(dotaznik_data2!$Q8=\"méně často\",1,0)","v":0}]
[null,null,null,null,null,null,null,8,{"$f":"IF(dotaznik_data2!$Q9=\"několikrát do roka\",1,0)","v":0},{"$f":"IF(dotaznik_data2!$Q9=\"1x z rok\",1,0)","v":0},{"$f":"IF(dotaznik_data2!$Q9=\"1x za dva roky\",1,0)","v":1},{"$f":"IF(dotaznik_data2!$Q9=\"1x za tři roky\",1,0)","v":0},{"$f":"IF(dotaznik_data2!$Q9=\"1x za 4 roky\",1,0)","v":0},{"$f":"IF(dotaznik_data2!$Q9=\"1x za 5 let\",1,0)","v":0},{"$f":"IF(dotaznik_data2!$Q9=\"méně často\",1,0)","v":0}]
[null,null,null,null,null,null,null,9,{"$f":"IF(dotaznik_data2!$Q10=\"několikrát do roka\",1,0)","v":0},{"$f":"IF(dotaznik_data2!$Q10=\"1x z rok\",1,0)","v":0},{"$f":"IF(dotaznik_data2!$Q10=\"1x za dva roky\",1,0)","v":0},{"$f":"IF(dotaznik_data2!$Q10=\"1x za tři roky\",1,0)","v":0},{"$f":"IF(dotaznik_data2!$Q10=\"1x za 4 roky\",1,0)","v":0},{"$f":"IF(dotaznik_data2!$Q10=\"1x za 5 let\",1,0)","v":0},{"$f":"IF(dotaznik_data2!$Q10=\"méně často\",1,0)","v":0}]
[null,null,null,null,null,null,null,10,{"$f":"IF(dotaznik_data2!$Q11=\"několikrát do roka\",1,0)","v":0},{"$f":"IF(dotaznik_data2!$Q11=\"1x z rok\",1,0)","v":0},{"$f":"IF(dotaznik_data2!$Q11=\"1x za dva roky\",1,0)","v":1},{"$f":"IF(dotaznik_data2!$Q11=\"1x za tři roky\",1,0)","v":0},{"$f":"IF(dotaznik_data2!$Q11=\"1x za 4 roky\",1,0)","v":0},{"$f":"IF(dotaznik_data2!$Q11=\"1x za 5 let\",1,0)","v":0},{"$f":"IF(dotaznik_data2!$Q11=\"méně často\",1,0)","v":0}]
[null,null,null,null,null,null,null,11,{"$f":"IF(dotaznik_data2!$Q12=\"několikrát do roka\",1,0)","v":0},{"$f":"IF(dotaznik_data2!$Q12=\"1x z rok\",1,0)","v":0},{"$f":"IF(dotaznik_data2!$Q12=\"1x za dva roky\",1,0)","v":0},{"$f":"IF(dotaznik_data2!$Q12=\"1x za tři roky\",1,0)","v":0},{"$f":"IF(dotaznik_data2!$Q12=\"1x za 4 roky\",1,0)","v":0},{"$f":"IF(dotaznik_data2!$Q12=\"1x za 5 let\",1,0)","v":0},{"$f":"IF(dotaznik_data2!$Q12=\"méně často\",1,0)","v":1}]
[null,null,null,null,null,null,null,12,{"$f":"IF(dotaznik_data2!$Q13=\"několikrát do roka\",1,0)","v":0},{"$f":"IF(dotaznik_data2!$Q13=\"1x z rok\",1,0)","v":0},{"$f":"IF(dotaznik_data2!$Q13=\"1x za dva roky\",1,0)","v":1},{"$f":"IF(dotaznik_data2!$Q13=\"1x za tři roky\",1,0)","v":0},{"$f":"IF(dotaznik_data2!$Q13=\"1x za 4 roky\",1,0)","v":0},{"$f":"IF(dotaznik_data2!$Q13=\"1x za 5 let\",1,0)","v":0},{"$f":"IF(dotaznik_data2!$Q13=\"méně často\",1,0)","v":0}]
[null,null,null,null,null,null,null,13,{"$f":"IF(dotaznik_data2!$Q14=\"několikrát do roka\",1,0)","v":0},{"$f":"IF(dotaznik_data2!$Q14=\"1x z rok\",1,0)","v":0},{"$f":"IF(dotaznik_data2!$Q14=\"1x za dva roky\",1,0)","v":0},{"$f":"IF(dotaznik_data2!$Q14=\"1x za tři roky\",1,0)","v":0},{"$f":"IF(dotaznik_data2!$Q14=\"1x za 4 roky\",1,0)","v":0},{"$f":"IF(dotaznik_data2!$Q14=\"1x za 5 let\",1,0)","v":0},{"$f":"IF(dotaznik_data2!$Q14=\"méně často\",1,0)","v":1}]
[null,null,null,null,null,null,null,14,{"$f":"IF(dotaznik_data2!$Q15=\"několikrát do roka\",1,0)","v":0},{"$f":"IF(dotaznik_data2!$Q15=\"1x z rok\",1,0)","v":0},{"$f":"IF(dotaznik_data2!$Q15=\"1x za dva roky\",1,0)","v":0},{"$f":"IF(dotaznik_data2!$Q15=\"1x za tři roky\",1,0)","v":1},{"$f":"IF(dotaznik_data2!$Q15=\"1x za 4 roky\",1,0)","v":0},{"$f":"IF(dotaznik_data2!$Q15=\"1x za 5 let\",1,0)","v":0},{"$f":"IF(dotaznik_data2!$Q15=\"méně často\",1,0)","v":0}]
[null,null,null,null,null,null,null,15,{"$f":"IF(dotaznik_data2!$Q16=\"několikrát do roka\",1,0)","v":0},{"$f":"IF(dotaznik_data2!$Q16=\"1x z rok\",1,0)","v":0},{"$f":"IF(dotaznik_data2!$Q16=\"1x za dva roky\",1,0)","v":0},{"$f":"IF(dotaznik_data2!$Q16=\"1x za tři roky\",1,0)","v":0},{"$f":"IF(dotaznik_data2!$Q16=\"1x za 4 roky\",1,0)","v":0},{"$f":"IF(dotaznik_data2!$Q16=\"1x za 5 let\",1,0)","v":0},{"$f":"IF(dotaznik_data2!$Q16=\"méně často\",1,0)","v":0}]
[null,null,null,null,null,null,null,16,{"$f":"IF(dotaznik_data2!$Q17=\"několikrát do roka\",1,0)","v":0},{"$f":"IF(dotaznik_data2!$Q17=\"1x z rok\",1,0)","v":0},{"$f":"IF(dotaznik_data2!$Q17=\"1x za dva roky\",1,0)","v":1},{"$f":"IF(dotaznik_data2!$Q17=\"1x za tři roky\",1,0)","v":0},{"$f":"IF(dotaznik_data2!$Q17=\"1x za 4 roky\",1,0)","v":0},{"$f":"IF(dotaznik_data2!$Q17=\"1x za 5 let\",1,0)","v":0},{"$f":"IF(dotaznik_data2!$Q17=\"méně často\",1,0)","v":0}]
[null,null,null,null,null,null,null,17,{"$f":"IF(dotaznik_data2!$Q18=\"několikrát do roka\",1,0)","v":0},{"$f":"IF(dotaznik_data2!$Q18=\"1x z rok\",1,0)","v":0},{"$f":"IF(dotaznik_data2!$Q18=\"1x za dva roky\",1,0)","v":0},{"$f":"IF(dotaznik_data2!$Q18=\"1x za tři roky\",1,0)","v":0},{"$f":"IF(dotaznik_data2!$Q18=\"1x za 4 roky\",1,0)","v":0},{"$f":"IF(dotaznik_data2!$Q18=\"1x za 5 let\",1,0)","v":0},{"$f":"IF(dotaznik_data2!$Q18=\"méně často\",1,0)","v":1}]
[null,null,null,null,null,null,null,18,{"$f":"IF(dotaznik_data2!$Q19=\"několikrát do roka\",1,0)","v":0},{"$f":"IF(dotaznik_data2!$Q19=\"1x z rok\",1,0)","v":0},{"$f":"IF(dotaznik_data2!$Q19=\"1x za dva roky\",1,0)","v":0},{"$f":"IF(dotaznik_data2!$Q19=\"1x za tři roky\",1,0)","v":0},{"$f":"IF(dotaznik_data2!$Q19=\"1x za 4 roky\",1,0)","v":0},{"$f":"IF(dotaznik_data2!$Q19=\"1x za 5 let\",1,0)","v":1},{"$f":"IF(dotaznik_data2!$Q19=\"méně často\",1,0)","v":0}]
[null,null,null,null,null,null,null,19,{"$f":"IF(dotaznik_data2!$Q20=\"několikrát do roka\",1,0)","v":0},{"$f":"IF(dotaznik_data2!$Q20=\"1x z rok\",1,0)","v":0},{"$f":"IF(dotaznik_data2!$Q20=\"1x za dva roky\",1,0)","v":1},{"$f":"IF(dotaznik_data2!$Q20=\"1x za tři roky\",1,0)","v":0},{"$f":"IF(dotaznik_data2!$Q20=\"1x za 4 roky\",1,0)","v":0},{"$f":"IF(dotaznik_data2!$Q20=\"1x za 5 let\",1,0)","v":0},{"$f":"IF(dotaznik_data2!$Q20=\"méně často\",1,0)","v":0}]
[null,null,null,null,null,null,null,20,{"$f":"IF(dotaznik_data2!$Q21=\"několikrát do roka\",1,0)","v":0},{"$f":"IF(dotaznik_data2!$Q21=\"1x z rok\",1,0)","v":0},{"$f":"IF(dotaznik_data2!$Q21=\"1x za dva roky\",1,0)","v":0},{"$f":"IF(dotaznik_data2!$Q21=\"1x za tři roky\",1,0)","v":0},{"$f":"IF(dotaznik_data2!$Q21=\"1x za 4 roky\",1,0)","v":0},{"$f":"IF(dotaznik_data2!$Q21=\"1x za 5 let\",1,0)","v":1},{"$f":"IF(dotaznik_data2!$Q21=\"méně často\",1,0)","v":0}]
[null,null,null,null,null,null,null,21,{"$f":"IF(dotaznik_data2!$Q22=\"několikrát do roka\",1,0)","v":0},{"$f":"IF(dotaznik_data2!$Q22=\"1x z rok\",1,0)","v":0},{"$f":"IF(dotaznik_data2!$Q22=\"1x za dva roky\",1,0)","v":1},{"$f":"IF(dotaznik_data2!$Q22=\"1x za tři roky\",1,0)","v":0},{"$f":"IF(dotaznik_data2!$Q22=\"1x za 4 roky\",1,0)","v":0},{"$f":"IF(dotaznik_data2!$Q22=\"1x za 5 let\",1,0)","v":0},{"$f":"IF(dotaznik_data2!$Q22=\"méně často\",1,0)","v":0}]
[null,null,null,null,null,null,null,22,{"$f":"IF(dotaznik_data2!$Q23=\"několikrát do roka\",1,0)","v":0},{"$f":"IF(dotaznik_data2!$Q23=\"1x z rok\",1,0)","v":0},{"$f":"IF(dotaznik_data2!$Q23=\"1x za dva roky\",1,0)","v":0},{"$f":"IF(dotaznik_data2!$Q23=\"1x za tři roky\",1,0)","v":0},{"$f":"IF(dotaznik_data2!$Q23=\"1x za 4 roky\",1,0)","v":0},{"$f":"IF(dotaznik_data2!$Q23=\"1x za 5 let\",1,0)","v":0},{"$f":"IF(dotaznik_data2!$Q23=\"méně často\",1,0)","v":0}]
[null,null,null,null,null,null,null,23,{"$f":"IF(dotaznik_data2!$Q24=\"několikrát do roka\",1,0)","v":0},{"$f":"IF(dotaznik_data2!$Q24=\"1x z rok\",1,0)","v":0},{"$f":"IF(dotaznik_data2!$Q24=\"1x za dva roky\",1,0)","v":1},{"$f":"IF(dotaznik_data2!$Q24=\"1x za tři roky\",1,0)","v":0},{"$f":"IF(dotaznik_data2!$Q24=\"1x za 4 roky\",1,0)","v":0},{"$f":"IF(dotaznik_data2!$Q24=\"1x za 5 let\",1,0)","v":0},{"$f":"IF(dotaznik_data2!$Q24=\"méně často\",1,0)","v":0}]
[null,null,null,null,null,null,null,24,{"$f":"IF(dotaznik_data2!$Q25=\"několikrát do roka\",1,0)","v":0},{"$f":"IF(dotaznik_data2!$Q25=\"1x z rok\",1,0)","v":1},{"$f":"IF(dotaznik_data2!$Q25=\"1x za dva roky\",1,0)","v":0},{"$f":"IF(dotaznik_data2!$Q25=\"1x za tři roky\",1,0)","v":0},{"$f":"IF(dotaznik_data2!$Q25=\"1x za 4 roky\",1,0)","v":0},{"$f":"IF(dotaznik_data2!$Q25=\"1x za 5 let\",1,0)","v":0},{"$f":"IF(dotaznik_data2!$Q25=\"méně často\",1,0)","v":0}]
[null,null,null,null,null,null,null,25,{"$f":"IF(dotaznik_data2!$Q26=\"několikrát do roka\",1,0)","v":0},{"$f":"IF(dotaznik_data2!$Q26=\"1x z rok\",1,0)","v":0},{"$f":"IF(dotaznik_data2!$Q26=\"1x za dva roky\",1,0)","v":0},{"$f":"IF(dotaznik_data2!$Q26=\"1x za tři roky\",1,0)","v":0},{"$f":"IF(dotaznik_data2!$Q26=\"1x za 4 roky\",1,0)","v":0},{"$f":"IF(dotaznik_data2!$Q26=\"1x za 5 let\",1,0)","v":0},{"$f":"IF(dotaznik_data2!$Q26=\"méně často\",1,0)","v":0}]
[null,null,null,null,null,null,null,26,{"$f":"IF(dotaznik_data2!$Q27=\"několikrát do roka\",1,0)","v":0},{"$f":"IF(dotaznik_data2!$Q27=\"1x z rok\",1,0)","v":1},{"$f":"IF(dotaznik_data2!$Q27=\"1x za dva roky\",1,0)","v":0},{"$f":"IF(dotaznik_data2!$Q27=\"1x za tři roky\",1,0)","v":0},{"$f":"IF(dotaznik_data2!$Q27=\"1x za 4 roky\",1,0)","v":0},{"$f":"IF(dotaznik_data2!$Q27=\"1x za 5 let\",1,0)","v":0},{"$f":"IF(dotaznik_data2!$Q27=\"méně často\",1,0)","v":0}]
[null,null,null,null,null,null,null,27,{"$f":"IF(dotaznik_data2!$Q28=\"několikrát do roka\",1,0)","v":0},{"$f":"IF(dotaznik_data2!$Q28=\"1x z rok\",1,0)","v":0},{"$f":"IF(dotaznik_data2!$Q28=\"1x za dva roky\",1,0)","v":1},{"$f":"IF(dotaznik_data2!$Q28=\"1x za tři roky\",1,0)","v":0},{"$f":"IF(dotaznik_data2!$Q28=\"1x za 4 roky\",1,0)","v":0},{"$f":"IF(dotaznik_data2!$Q28=\"1x za 5 let\",1,0)","v":0},{"$f":"IF(dotaznik_data2!$Q28=\"méně často\",1,0)","v":0}]
[null,null,null,null,null,null,null,28,{"$f":"IF(dotaznik_data2!$Q29=\"několikrát do roka\",1,0)","v":0},{"$f":"IF(dotaznik_data2!$Q29=\"1x z rok\",1,0)","v":0},{"$f":"IF(dotaznik_data2!$Q29=\"1x za dva roky\",1,0)","v":0},{"$f":"IF(dotaznik_data2!$Q29=\"1x za tři roky\",1,0)","v":0},{"$f":"IF(dotaznik_data2!$Q29=\"1x za 4 roky\",1,0)","v":0},{"$f":"IF(dotaznik_data2!$Q29=\"1x za 5 let\",1,0)","v":0},{"$f":"IF(dotaznik_data2!$Q29=\"méně často\",1,0)","v":1}]
[null,null,null,null,null,null,null,29,{"$f":"IF(dotaznik_data2!$Q30=\"několikrát do roka\",1,0)","v":0},{"$f":"IF(dotaznik_data2!$Q30=\"1x z rok\",1,0)","v":1},{"$f":"IF(dotaznik_data2!$Q30=\"1x za dva roky\",1,0)","v":0},{"$f":"IF(dotaznik_data2!$Q30=\"1x za tři roky\",1,0)","v":0},{"$f":"IF(dotaznik_data2!$Q30=\"1x za 4 roky\",1,0)","v":0},{"$f":"IF(dotaznik_data2!$Q30=\"1x za 5 let\",1,0)","v":0},{"$f":"IF(dotaznik_data2!$Q30=\"méně často\",1,0)","v":0}]
[null,null,null,null,null,null,null,30,{"$f":"IF(dotaznik_data2!$Q31=\"několikrát do roka\",1,0)","v":0},{"$f":"IF(dotaznik_data2!$Q31=\"1x z rok\",1,0)","v":0},{"$f":"IF(dotaznik_data2!$Q31=\"1x za dva roky\",1,0)","v":1},{"$f":"IF(dotaznik_data2!$Q31=\"1x za tři roky\",1,0)","v":0},{"$f":"IF(dotaznik_data2!$Q31=\"1x za 4 roky\",1,0)","v":0},{"$f":"IF(dotaznik_data2!$Q31=\"1x za 5 let\",1,0)","v":0},{"$f":"IF(dotaznik_data2!$Q31=\"méně často\",1,0)","v":0}]
[null,null,null,null,null,null,null,31,{"$f":"IF(dotaznik_data2!$Q32=\"několikrát do roka\",1,0)","v":0},{"$f":"IF(dotaznik_data2!$Q32=\"1x z rok\",1,0)","v":0},{"$f":"IF(dotaznik_data2!$Q32=\"1x za dva roky\",1,0)","v":0},{"$f":"IF(dotaznik_data2!$Q32=\"1x za tři roky\",1,0)","v":0},{"$f":"IF(dotaznik_data2!$Q32=\"1x za 4 roky\",1,0)","v":0},{"$f":"IF(dotaznik_data2!$Q32=\"1x za 5 let\",1,0)","v":0},{"$f":"IF(dotaznik_data2!$Q32=\"méně často\",1,0)","v":0}]
[null,null,null,null,null,null,null,32,{"$f":"IF(dotaznik_data2!$Q33=\"několikrát do roka\",1,0)","v":0},{"$f":"IF(dotaznik_data2!$Q33=\"1x z rok\",1,0)","v":0},{"$f":"IF(dotaznik_data2!$Q33=\"1x za dva roky\",1,0)","v":0},{"$f":"IF(dotaznik_data2!$Q33=\"1x za tři roky\",1,0)","v":0},{"$f":"IF(dotaznik_data2!$Q33=\"1x za 4 roky\",1,0)","v":0},{"$f":"IF(dotaznik_data2!$Q33=\"1x za 5 let\",1,0)","v":0},{"$f":"IF(dotaznik_data2!$Q33=\"méně často\",1,0)","v":1}]
[null,null,null,null,null,null,null,33,{"$f":"IF(dotaznik_data2!$Q34=\"několikrát do roka\",1,0)","v":0},{"$f":"IF(dotaznik_data2!$Q34=\"1x z rok\",1,0)","v":1},{"$f":"IF(dotaznik_data2!$Q34=\"1x za dva roky\",1,0)","v":0},{"$f":"IF(dotaznik_data2!$Q34=\"1x za tři roky\",1,0)","v":0},{"$f":"IF(dotaznik_data2!$Q34=\"1x za 4 roky\",1,0)","v":0},{"$f":"IF(dotaznik_data2!$Q34=\"1x za 5 let\",1,0)","v":0},{"$f":"IF(dotaznik_data2!$Q34=\"méně často\",1,0)","v":0}]
[null,null,null,null,null,null,null,34,{"$f":"IF(dotaznik_data2!$Q35=\"několikrát do roka\",1,0)","v":1},{"$f":"IF(dotaznik_data2!$Q35=\"1x z rok\",1,0)","v":0},{"$f":"IF(dotaznik_data2!$Q35=\"1x za dva roky\",1,0)","v":0},{"$f":"IF(dotaznik_data2!$Q35=\"1x za tři roky\",1,0)","v":0},{"$f":"IF(dotaznik_data2!$Q35=\"1x za 4 roky\",1,0)","v":0},{"$f":"IF(dotaznik_data2!$Q35=\"1x za 5 let\",1,0)","v":0},{"$f":"IF(dotaznik_data2!$Q35=\"méně často\",1,0)","v":0}]
[null,null,null,null,null,null,null,35,{"$f":"IF(dotaznik_data2!$Q36=\"několikrát do roka\",1,0)","v":0},{"$f":"IF(dotaznik_data2!$Q36=\"1x z rok\",1,0)","v":1},{"$f":"IF(dotaznik_data2!$Q36=\"1x za dva roky\",1,0)","v":0},{"$f":"IF(dotaznik_data2!$Q36=\"1x za tři roky\",1,0)","v":0},{"$f":"IF(dotaznik_data2!$Q36=\"1x za 4 roky\",1,0)","v":0},{"$f":"IF(dotaznik_data2!$Q36=\"1x za 5 let\",1,0)","v":0},{"$f":"IF(dotaznik_data2!$Q36=\"méně často\",1,0)","v":0}]
[null,null,null,null,null,null,null,36,{"$f":"IF(dotaznik_data2!$Q37=\"několikrát do roka\",1,0)","v":0},{"$f":"IF(dotaznik_data2!$Q37=\"1x z rok\",1,0)","v":0},{"$f":"IF(dotaznik_data2!$Q37=\"1x za dva roky\",1,0)","v":0},{"$f":"IF(dotaznik_data2!$Q37=\"1x za tři roky\",1,0)","v":1},{"$f":"IF(dotaznik_data2!$Q37=\"1x za 4 roky\",1,0)","v":0},{"$f":"IF(dotaznik_data2!$Q37=\"1x za 5 let\",1,0)","v":0},{"$f":"IF(dotaznik_data2!$Q37=\"méně často\",1,0)","v":0}]
[null,null,null,null,null,null,null,37,{"$f":"IF(dotaznik_data2!$Q38=\"několikrát do roka\",1,0)","v":0},{"$f":"IF(dotaznik_data2!$Q38=\"1x z rok\",1,0)","v":1},{"$f":"IF(dotaznik_data2!$Q38=\"1x za dva roky\",1,0)","v":0},{"$f":"IF(dotaznik_data2!$Q38=\"1x za tři roky\",1,0)","v":0},{"$f":"IF(dotaznik_data2!$Q38=\"1x za 4 roky\",1,0)","v":0},{"$f":"IF(dotaznik_data2!$Q38=\"1x za 5 let\",1,0)","v":0},{"$f":"IF(dotaznik_data2!$Q38=\"méně často\",1,0)","v":0}]
[null,null,null,null,null,null,null,38,{"$f":"IF(dotaznik_data2!$Q39=\"několikrát do roka\",1,0)","v":0},{"$f":"IF(dotaznik_data2!$Q39=\"1x z rok\",1,0)","v":0},{"$f":"IF(dotaznik_data2!$Q39=\"1x za dva roky\",1,0)","v":0},{"$f":"IF(dotaznik_data2!$Q39=\"1x za tři roky\",1,0)","v":0},{"$f":"IF(dotaznik_data2!$Q39=\"1x za 4 roky\",1,0)","v":0},{"$f":"IF(dotaznik_data2!$Q39=\"1x za 5 let\",1,0)","v":0},{"$f":"IF(dotaznik_data2!$Q39=\"méně často\",1,0)","v":1}]
[null,null,null,null,null,null,null,39,{"$f":"IF(dotaznik_data2!$Q40=\"několikrát do roka\",1,0)","v":0},{"$f":"IF(dotaznik_data2!$Q40=\"1x z rok\",1,0)","v":0},{"$f":"IF(dotaznik_data2!$Q40=\"1x za dva roky\",1,0)","v":0},{"$f":"IF(dotaznik_data2!$Q40=\"1x za tři roky\",1,0)","v":0},{"$f":"IF(dotaznik_data2!$Q40=\"1x za 4 roky\",1,0)","v":0},{"$f":"IF(dotaznik_data2!$Q40=\"1x za 5 let\",1,0)","v":0},{"$f":"IF(dotaznik_data2!$Q40=\"méně často\",1,0)","v":1}]
[null,null,null,null,null,null,null,40,{"$f":"IF(dotaznik_data2!$Q41=\"několikrát do roka\",1,0)","v":0},{"$f":"IF(dotaznik_data2!$Q41=\"1x z rok\",1,0)","v":1},{"$f":"IF(dotaznik_data2!$Q41=\"1x za dva roky\",1,0)","v":0},{"$f":"IF(dotaznik_data2!$Q41=\"1x za tři roky\",1,0)","v":0},{"$f":"IF(dotaznik_data2!$Q41=\"1x za 4 roky\",1,0)","v":0},{"$f":"IF(dotaznik_data2!$Q41=\"1x za 5 let\",1,0)","v":0},{"$f":"IF(dotaznik_data2!$Q41=\"méně často\",1,0)","v":0}]
[null,null,null,null,null,null,null,41,{"$f":"IF(dotaznik_data2!$Q42=\"několikrát do roka\",1,0)","v":0},{"$f":"IF(dotaznik_data2!$Q42=\"1x z rok\",1,0)","v":0},{"$f":"IF(dotaznik_data2!$Q42=\"1x za dva roky\",1,0)","v":0},{"$f":"IF(dotaznik_data2!$Q42=\"1x za tři roky\",1,0)","v":0},{"$f":"IF(dotaznik_data2!$Q42=\"1x za 4 roky\",1,0)","v":1},{"$f":"IF(dotaznik_data2!$Q42=\"1x za 5 let\",1,0)","v":0},{"$f":"IF(dotaznik_data2!$Q42=\"méně často\",1,0)","v":0}]
[null,null,null,null,null,null,null,42,{"$f":"IF(dotaznik_data2!$Q43=\"několikrát do roka\",1,0)","v":0},{"$f":"IF(dotaznik_data2!$Q43=\"1x z rok\",1,0)","v":0},{"$f":"IF(dotaznik_data2!$Q43=\"1x za dva roky\",1,0)","v":1},{"$f":"IF(dotaznik_data2!$Q43=\"1x za tři roky\",1,0)","v":0},{"$f":"IF(dotaznik_data2!$Q43=\"1x za 4 roky\",1,0)","v":0},{"$f":"IF(dotaznik_data2!$Q43=\"1x za 5 let\",1,0)","v":0},{"$f":"IF(dotaznik_data2!$Q43=\"méně často\",1,0)","v":0}]
[null,null,null,null,null,null,null,43,{"$f":"IF(dotaznik_data2!$Q44=\"několikrát do roka\",1,0)","v":0},{"$f":"IF(dotaznik_data2!$Q44=\"1x z rok\",1,0)","v":0},{"$f":"IF(dotaznik_data2!$Q44=\"1x za dva roky\",1,0)","v":1},{"$f":"IF(dotaznik_data2!$Q44=\"1x za tři roky\",1,0)","v":0},{"$f":"IF(dotaznik_data2!$Q44=\"1x za 4 roky\",1,0)","v":0},{"$f":"IF(dotaznik_data2!$Q44=\"1x za 5 let\",1,0)","v":0},{"$f":"IF(dotaznik_data2!$Q44=\"méně často\",1,0)","v":0}]
[null,null,null,null,null,null,null,44,{"$f":"IF(dotaznik_data2!$Q45=\"několikrát do roka\",1,0)","v":0},{"$f":"IF(dotaznik_data2!$Q45=\"1x z rok\",1,0)","v":0},{"$f":"IF(dotaznik_data2!$Q45=\"1x za dva roky\",1,0)","v":0},{"$f":"IF(dotaznik_data2!$Q45=\"1x za tři roky\",1,0)","v":0},{"$f":"IF(dotaznik_data2!$Q45=\"1x za 4 roky\",1,0)","v":0},{"$f":"IF(dotaznik_data2!$Q45=\"1x za 5 let\",1,0)","v":0},{"$f":"IF(dotaznik_data2!$Q45=\"méně často\",1,0)","v":1}]
[null,null,null,null,null,null,null,45,{"$f":"IF(dotaznik_data2!$Q46=\"několikrát do roka\",1,0)","v":0},{"$f":"IF(dotaznik_data2!$Q46=\"1x z rok\",1,0)","v":0},{"$f":"IF(dotaznik_data2!$Q46=\"1x za dva roky\",1,0)","v":0},{"$f":"IF(dotaznik_data2!$Q46=\"1x za tři roky\",1,0)","v":0},{"$f":"IF(dotaznik_data2!$Q46=\"1x za 4 roky\",1,0)","v":0},{"$f":"IF(dotaznik_data2!$Q46=\"1x za 5 let\",1,0)","v":0},{"$f":"IF(dotaznik_data2!$Q46=\"méně často\",1,0)","v":1}]
[null,null,null,null,null,null,null,46,{"$f":"IF(dotaznik_data2!$Q47=\"několikrát do roka\",1,0)","v":0},{"$f":"IF(dotaznik_data2!$Q47=\"1x z rok\",1,0)","v":0},{"$f":"IF(dotaznik_data2!$Q47=\"1x za dva roky\",1,0)","v":0},{"$f":"IF(dotaznik_data2!$Q47=\"1x za tři roky\",1,0)","v":0},{"$f":"IF(dotaznik_data2!$Q47=\"1x za 4 roky\",1,0)","v":0},{"$f":"IF(dotaznik_data2!$Q47=\"1x za 5 let\",1,0)","v":0},{"$f":"IF(dotaznik_data2!$Q47=\"méně často\",1,0)","v":1}]
[null,null,null,null,null,null,null,47,{"$f":"IF(dotaznik_data2!$Q48=\"několikrát do roka\",1,0)","v":0},{"$f":"IF(dotaznik_data2!$Q48=\"1x z rok\",1,0)","v":1},{"$f":"IF(dotaznik_data2!$Q48=\"1x za dva roky\",1,0)","v":0},{"$f":"IF(dotaznik_data2!$Q48=\"1x za tři roky\",1,0)","v":0},{"$f":"IF(dotaznik_data2!$Q48=\"1x za 4 roky\",1,0)","v":0},{"$f":"IF(dotaznik_data2!$Q48=\"1x za 5 let\",1,0)","v":0},{"$f":"IF(dotaznik_data2!$Q48=\"méně často\",1,0)","v":0}]
[null,null,null,null,null,null,null,48,{"$f":"IF(dotaznik_data2!$Q49=\"několikrát do roka\",1,0)","v":0},{"$f":"IF(dotaznik_data2!$Q49=\"1x z rok\",1,0)","v":1},{"$f":"IF(dotaznik_data2!$Q49=\"1x za dva roky\",1,0)","v":0},{"$f":"IF(dotaznik_data2!$Q49=\"1x za tři roky\",1,0)","v":0},{"$f":"IF(dotaznik_data2!$Q49=\"1x za 4 roky\",1,0)","v":0},{"$f":"IF(dotaznik_data2!$Q49=\"1x za 5 let\",1,0)","v":0},{"$f":"IF(dotaznik_data2!$Q49=\"méně často\",1,0)","v":0}]
[null,null,null,null,null,null,null,49,{"$f":"IF(dotaznik_data2!$Q50=\"několikrát do roka\",1,0)","v":0},{"$f":"IF(dotaznik_data2!$Q50=\"1x z rok\",1,0)","v":0},{"$f":"IF(dotaznik_data2!$Q50=\"1x za dva roky\",1,0)","v":1},{"$f":"IF(dotaznik_data2!$Q50=\"1x za tři roky\",1,0)","v":0},{"$f":"IF(dotaznik_data2!$Q50=\"1x za 4 roky\",1,0)","v":0},{"$f":"IF(dotaznik_data2!$Q50=\"1x za 5 let\",1,0)","v":0},{"$f":"IF(dotaznik_data2!$Q50=\"méně často\",1,0)","v":0}]
[null,null,null,null,null,null,null,50,{"$f":"IF(dotaznik_data2!$Q51=\"několikrát do roka\",1,0)","v":0},{"$f":"IF(dotaznik_data2!$Q51=\"1x z rok\",1,0)","v":1},{"$f":"IF(dotaznik_data2!$Q51=\"1x za dva roky\",1,0)","v":0},{"$f":"IF(dotaznik_data2!$Q51=\"1x za tři roky\",1,0)","v":0},{"$f":"IF(dotaznik_data2!$Q51=\"1x za 4 roky\",1,0)","v":0},{"$f":"IF(dotaznik_data2!$Q51=\"1x za 5 let\",1,0)","v":0},{"$f":"IF(dotaznik_data2!$Q51=\"méně často\",1,0)","v":0}]
[]
[17,"Do jaké kategorie čisétho měsíčního příjmu spadáte?",null,null,null,null,"14600-20000 Kč"]
[null,null,null,null,null,null,"20001-25000 Kč"]
[null,null,null,null,null,null,"25001-30000 Kč"]
[null,null,null,null,null,null,"30001-35000 Kč"]
[null,null,null,null,null,null,"35001-40000 Kč"]
[null,null,null,null,null,null,"40001-45000 Kč","četnost",{"$f":"COUNTIF(I914:I963,1)","v":9},{"$f":"COUNTIF(J914:J963,1)","v":15},4,6,{"$f":"COUNTIF(M914:M963,1)","v":8},{"$f":"COUNTIF(N914:N963,1)","v":4},{"$f":"COUNTIF(O914:O963,1)","v":2}]
[null,null,null,null,null,null,"45001 a více","odpověď","14600-20000 Kč","20001-25000 Kč","25001-30000 Kč","30001-35000 Kč","35001-40000 Kč","40001-45000 Kč","45001 a více"]
[null,null,null,null,null,null,"respondent číslo",1,{"$f":"IF(dotaznik_data2!$R2=\"14600-20000 Kč\",1,0)","v":0},{"$f":"IF(dotaznik_data2!$R2=\"20001-25000 Kč\",1,0)","v":0},{"$f":"IF(dotaznik_data2!$R2=\"25001-30000 Kč\",1,0)","v":1},{"$f":"IF(dotaznik_data2!$R2=\"30001-35000 Kč\",1,0)","v":0},{"$f":"IF(dotaznik_data2!$R2=\"35001-40000 Kč\",1,0)","v":0},{"$f":"IF(dotaznik_data2!$R2=\"40001-45000 Kč\",1,0)","v":0},{"$f":"IF(dotaznik_data2!$R2=\"45001 a více\",1,0)","v":0}]
[null,null,null,null,null,null,null,2,{"$f":"IF(dotaznik_data2!$R3=\"14600-20000 Kč\",1,0)","v":1},{"$f":"IF(dotaznik_data2!$R3=\"20001-25000 Kč\",1,0)","v":0},{"$f":"IF(dotaznik_data2!$R3=\"25001-30000 Kč\",1,0)","v":0},{"$f":"IF(dotaznik_data2!$R3=\"30001-35000 Kč\",1,0)","v":0},{"$f":"IF(dotaznik_data2!$R3=\"35001-40000 Kč\",1,0)","v":0},{"$f":"IF(dotaznik_data2!$R3=\"40001-45000 Kč\",1,0)","v":0},{"$f":"IF(dotaznik_data2!$R3=\"45001 a více\",1,0)","v":0}]
[null,null,null,null,null,null,null,3,{"$f":"IF(dotaznik_data2!$R4=\"14600-20000 Kč\",1,0)","v":0},{"$f":"IF(dotaznik_data2!$R4=\"20001-25000 Kč\",1,0)","v":0},{"$f":"IF(dotaznik_data2!$R4=\"25001-30000 Kč\",1,0)","v":0},{"$f":"IF(dotaznik_data2!$R4=\"30001-35000 Kč\",1,0)","v":1},{"$f":"IF(dotaznik_data2!$R4=\"35001-40000 Kč\",1,0)","v":0},{"$f":"IF(dotaznik_data2!$R4=\"40001-45000 Kč\",1,0)","v":0},{"$f":"IF(dotaznik_data2!$R4=\"45001 a více\",1,0)","v":0}]
[null,null,null,null,null,null,null,4,{"$f":"IF(dotaznik_data2!$R5=\"14600-20000 Kč\",1,0)","v":0},{"$f":"IF(dotaznik_data2!$R5=\"20001-25000 Kč\",1,0)","v":0},{"$f":"IF(dotaznik_data2!$R5=\"25001-30000 Kč\",1,0)","v":0},{"$f":"IF(dotaznik_data2!$R5=\"30001-35000 Kč\",1,0)","v":0},{"$f":"IF(dotaznik_data2!$R5=\"35001-40000 Kč\",1,0)","v":1},{"$f":"IF(dotaznik_data2!$R5=\"40001-45000 Kč\",1,0)","v":0},{"$f":"IF(dotaznik_data2!$R5=\"45001 a více\",1,0)","v":0}]
[null,null,null,null,null,null,null,5,{"$f":"IF(dotaznik_data2!$R6=\"14600-20000 Kč\",1,0)","v":0},{"$f":"IF(dotaznik_data2!$R6=\"20001-25000 Kč\",1,0)","v":1},{"$f":"IF(dotaznik_data2!$R6=\"25001-30000 Kč\",1,0)","v":0},{"$f":"IF(dotaznik_data2!$R6=\"30001-35000 Kč\",1,0)","v":0},{"$f":"IF(dotaznik_data2!$R6=\"35001-40000 Kč\",1,0)","v":0},{"$f":"IF(dotaznik_data2!$R6=\"40001-45000 Kč\",1,0)","v":0},{"$f":"IF(dotaznik_data2!$R6=\"45001 a více\",1,0)","v":0}]
[null,null,null,null,null,null,null,6,{"$f":"IF(dotaznik_data2!$R7=\"14600-20000 Kč\",1,0)","v":0},{"$f":"IF(dotaznik_data2!$R7=\"20001-25000 Kč\",1,0)","v":0},{"$f":"IF(dotaznik_data2!$R7=\"25001-30000 Kč\",1,0)","v":0},{"$f":"IF(dotaznik_data2!$R7=\"30001-35000 Kč\",1,0)","v":0},{"$f":"IF(dotaznik_data2!$R7=\"35001-40000 Kč\",1,0)","v":1},{"$f":"IF(dotaznik_data2!$R7=\"40001-45000 Kč\",1,0)","v":0},{"$f":"IF(dotaznik_data2!$R7=\"45001 a více\",1,0)","v":0}]
[null,null,null,null,null,null,null,7,{"$f":"IF(dotaznik_data2!$R8=\"14600-20000 Kč\",1,0)","v":0},{"$f":"IF(dotaznik_data2!$R8=\"20001-25000 Kč\",1,0)","v":1},{"$f":"IF(dotaznik_data2!$R8=\"25001-30000 Kč\",1,0)","v":0},{"$f":"IF(dotaznik_data2!$R8=\"30001-35000 Kč\",1,0)","v":0},{"$f":"IF(dotaznik_data2!$R8=\"35001-40000 Kč\",1,0)","v":0},{"$f":"IF(dotaznik_data2!$R8=\"40001-45000 Kč\",1,0)","v":0},{"$f":"IF(dotaznik_data2!$R8=\"45001 a více\",1,0)","v":0}]
[null,null,null,null,null,null,null,8,{"$f":"IF(dotaznik_data2!$R9=\"14600-20000 Kč\",1,0)","v":1},{"$f":"IF(dotaznik_data2!$R9=\"20001-25000 Kč\",1,0)","v":0},{"$f":"IF(dotaznik_data2!$R9=\"25001-30000 Kč\",1,0)","v":0},{"$f":"IF(dotaznik_data2!$R9=\"30001-35000 Kč\",1,0)","v":0},{"$f":"IF(dotaznik_data2!$R9=\"35001-40000 Kč\",1,0)","v":0},{"$f":"IF(dotaznik_data2!$R9=\"40001-45000 Kč\",1,0)","v":0},{"$f":"IF(dotaznik_data2!$R9=\"45001 a více\",1,0)","v":0}]
[null,null,null,null,null,null,null,9,{"$f":"IF(dotaznik_data2!$R10=\"14600-20000 Kč\",1,0)","v":0},{"$f":"IF(dotaznik_data2!$R10=\"20001-25000 Kč\",1,0)","v":0},{"$f":"IF(dotaznik_data2!$R10=\"25001-30000 Kč\",1,0)","v":1},{"$f":"IF(dotaznik_data2!$R10=\"30001-35000 Kč\",1,0)","v":0},{"$f":"IF(dotaznik_data2!$R10=\"35001-40000 Kč\",1,0)","v":0},{"$f":"IF(dotaznik_data2!$R10=\"40001-45000 Kč\",1,0)","v":0},{"$f":"IF(dotaznik_data2!$R10=\"45001 a více\",1,0)","v":0}]
[null,null,null,null,null,null,null,10,{"$f":"IF(dotaznik_data2!$R11=\"14600-20000 Kč\",1,0)","v":0},{"$f":"IF(dotaznik_data2!$R11=\"20001-25000 Kč\",1,0)","v":1},{"$f":"IF(dotaznik_data2!$R11=\"25001-30000 Kč\",1,0)","v":0},{"$f":"IF(dotaznik_data2!$R11=\"30001-35000 Kč\",1,0)","v":0},{"$f":"IF(dotaznik_data2!$R11=\"35001-40000 Kč\",1,0)","v":0},{"$f":"IF(dotaznik_data2!$R11=\"40001-45000 Kč\",1,0)","v":0},{"$f":"IF(dotaznik_data2!$R11=\"45001 a více\",1,0)","v":0}]
[null,null,null,null,null,null,null,11,{"$f":"IF(dotaznik_data2!$R12=\"14600-20000 Kč\",1,0)","v":1},{"$f":"IF(dotaznik_data2!$R12=\"20001-25000 Kč\",1,0)","v":0},{"$f":"IF(dotaznik_data2!$R12=\"25001-30000 Kč\",1,0)","v":0},{"$f":"IF(dotaznik_data2!$R12=\"30001-35000 Kč\",1,0)","v":0},{"$f":"IF(dotaznik_data2!$R12=\"35001-40000 Kč\",1,0)","v":0},{"$f":"IF(dotaznik_data2!$R12=\"40001-45000 Kč\",1,0)","v":0},{"$f":"IF(dotaznik_data2!$R12=\"45001 a více\",1,0)","v":0}]
[null,null,null,null,null,null,null,12,{"$f":"IF(dotaznik_data2!$R13=\"14600-20000 Kč\",1,0)","v":1},{"$f":"IF(dotaznik_data2!$R13=\"20001-25000 Kč\",1,0)","v":0},{"$f":"IF(dotaznik_data2!$R13=\"25001-30000 Kč\",1,0)","v":0},{"$f":"IF(dotaznik_data2!$R13=\"30001-35000 Kč\",1,0)","v":0},{"$f":"IF(dotaznik_data2!$R13=\"35001-40000 Kč\",1,0)","v":0},{"$f":"IF(dotaznik_data2!$R13=\"40001-45000 Kč\",1,0)","v":0},{"$f":"IF(dotaznik_data2!$R13=\"45001 a více\",1,0)","v":0}]
[null,null,null,null,null,null,null,13,{"$f":"IF(dotaznik_data2!$R14=\"14600-20000 Kč\",1,0)","v":0},{"$f":"IF(dotaznik_data2!$R14=\"20001-25000 Kč\",1,0)","v":1},{"$f":"IF(dotaznik_data2!$R14=\"25001-30000 Kč\",1,0)","v":0},{"$f":"IF(dotaznik_data2!$R14=\"30001-35000 Kč\",1,0)","v":0},{"$f":"IF(dotaznik_data2!$R14=\"35001-40000 Kč\",1,0)","v":0},{"$f":"IF(dotaznik_data2!$R14=\"40001-45000 Kč\",1,0)","v":0},{"$f":"IF(dotaznik_data2!$R14=\"45001 a více\",1,0)","v":0}]
[null,null,null,null,null,null,null,14,{"$f":"IF(dotaznik_data2!$R15=\"14600-20000 Kč\",1,0)","v":0},{"$f":"IF(dotaznik_data2!$R15=\"20001-25000 Kč\",1,0)","v":1},{"$f":"IF(dotaznik_data2!$R15=\"25001-30000 Kč\",1,0)","v":0},{"$f":"IF(dotaznik_data2!$R15=\"30001-35000 Kč\",1,0)","v":0},{"$f":"IF(dotaznik_data2!$R15=\"35001-40000 Kč\",1,0)","v":0},{"$f":"IF(dotaznik_data2!$R15=\"40001-45000 Kč\",1,0)","v":0},{"$f":"IF(dotaznik_data2!$R15=\"45001 a více\",1,0)","v":0}]
[null,null,null,null,null,null,null,15,{"$f":"IF(dotaznik_data2!$R16=\"14600-20000 Kč\",1,0)","v":0},{"$f":"IF(dotaznik_data2!$R16=\"20001-25000 Kč\",1,0)","v":1},{"$f":"IF(dotaznik_data2!$R16=\"25001-30000 Kč\",1,0)","v":0},{"$f":"IF(dotaznik_data2!$R16=\"30001-35000 Kč\",1,0)","v":0},{"$f":"IF(dotaznik_data2!$R16=\"35001-40000 Kč\",1,0)","v":0},{"$f":"IF(dotaznik_data2!$R16=\"40001-45000 Kč\",1,0)","v":0},{"$f":"IF(dotaznik_data2!$R16=\"45001 a více\",1,0)","v":0}]
[null,null,null,null,null,null,null,16,{"$f":"IF(dotaznik_data2!$R17=\"14600-20000 Kč\",1,0)","v":0},{"$f":"IF(dotaznik_data2!$R17=\"20001-25000 Kč\",1,0)","v":0},{"$f":"IF(dotaznik_data2!$R17=\"25001-30000 Kč\",1,0)","v":0},{"$f":"IF(dotaznik_data2!$R17=\"30001-35000 Kč\",1,0)","v":0},{"$f":"IF(dotaznik_data2!$R17=\"35001-40000 Kč\",1,0)","v":1},{"$f":"IF(dotaznik_data2!$R17=\"40001-45000 Kč\",1,0)","v":0},{"$f":"IF(dotaznik_data2!$R17=\"45001 a více\",1,0)","v":0}]
[null,null,null,null,null,null,null,17,{"$f":"IF(dotaznik_data2!$R18=\"14600-20000 Kč\",1,0)","v":1},{"$f":"IF(dotaznik_data2!$R18=\"20001-25000 Kč\",1,0)","v":0},{"$f":"IF(dotaznik_data2!$R18=\"25001-30000 Kč\",1,0)","v":0},{"$f":"IF(dotaznik_data2!$R18=\"30001-35000 Kč\",1,0)","v":0},{"$f":"IF(dotaznik_data2!$R18=\"35001-40000 Kč\",1,0)","v":0},{"$f":"IF(dotaznik_data2!$R18=\"40001-45000 Kč\",1,0)","v":0},{"$f":"IF(dotaznik_data2!$R18=\"45001 a více\",1,0)","v":0}]
[null,null,null,null,null,null,null,18,{"$f":"IF(dotaznik_data2!$R19=\"14600-20000 Kč\",1,0)","v":0},{"$f":"IF(dotaznik_data2!$R19=\"20001-25000 Kč\",1,0)","v":0},{"$f":"IF(dotaznik_data2!$R19=\"25001-30000 Kč\",1,0)","v":0},{"$f":"IF(dotaznik_data2!$R19=\"30001-35000 Kč\",1,0)","v":0},{"$f":"IF(dotaznik_data2!$R19=\"35001-40000 Kč\",1,0)","v":1},{"$f":"IF(dotaznik_data2!$R19=\"40001-45000 Kč\",1,0)","v":0},{"$f":"IF(dotaznik_data2!$R19=\"45001 a více\",1,0)","v":0}]
[null,null,null,null,null,null,null,19,{"$f":"IF(dotaznik_data2!$R20=\"14600-20000 Kč\",1,0)","v":0},{"$f":"IF(dotaznik_data2!$R20=\"20001-25000 Kč\",1,0)","v":1},{"$f":"IF(dotaznik_data2!$R20=\"25001-30000 Kč\",1,0)","v":0},{"$f":"IF(dotaznik_data2!$R20=\"30001-35000 Kč\",1,0)","v":0},{"$f":"IF(dotaznik_data2!$R20=\"35001-40000 Kč\",1,0)","v":0},{"$f":"IF(dotaznik_data2!$R20=\"40001-45000 Kč\",1,0)","v":0},{"$f":"IF(dotaznik_data2!$R20=\"45001 a více\",1,0)","v":0}]
[null,null,null,null,null,null,null,20,{"$f":"IF(dotaznik_data2!$R21=\"14600-20000 Kč\",1,0)","v":1},{"$f":"IF(dotaznik_data2!$R21=\"20001-25000 Kč\",1,0)","v":0},{"$f":"IF(dotaznik_data2!$R21=\"25001-30000 Kč\",1,0)","v":0},{"$f":"IF(dotaznik_data2!$R21=\"30001-35000 Kč\",1,0)","v":0},{"$f":"IF(dotaznik_data2!$R21=\"35001-40000 Kč\",1,0)","v":0},{"$f":"IF(dotaznik_data2!$R21=\"40001-45000 Kč\",1,0)","v":0},{"$f":"IF(dotaznik_data2!$R21=\"45001 a více\",1,0)","v":0}]
[null,null,null,null,null,null,null,21,{"$f":"IF(dotaznik_data2!$R22=\"14600-20000 Kč\",1,0)","v":0},{"$f":"IF(dotaznik_data2!$R22=\"20001-25000 Kč\",1,0)","v":1},{"$f":"IF(dotaznik_data2!$R22=\"25001-30000 Kč\",1,0)","v":0},{"$f":"IF(dotaznik_data2!$R22=\"30001-35000 Kč\",1,0)","v":0},{"$f":"IF(dotaznik_data2!$R22=\"35001-40000 Kč\",1,0)","v":0},{"$f":"IF(dotaznik_data2!$R22=\"40001-45000 Kč\",1,0)","v":0},{"$f":"IF(dotaznik_data2!$R22=\"45001 a více\",1,0)","v":0}]
[null,null,null,null,null,null,null,22,{"$f":"IF(dotaznik_data2!$R23=\"14600-20000 Kč\",1,0)","v":0},{"$f":"IF(dotaznik_data2!$R23=\"20001-25000 Kč\",1,0)","v":1},{"$f":"IF(dotaznik_data2!$R23=\"25001-30000 Kč\",1,0)","v":0},{"$f":"IF(dotaznik_data2!$R23=\"30001-35000 Kč\",1,0)","v":0},{"$f":"IF(dotaznik_data2!$R23=\"35001-40000 Kč\",1,0)","v":0},{"$f":"IF(dotaznik_data2!$R23=\"40001-45000 Kč\",1,0)","v":0},{"$f":"IF(dotaznik_data2!$R23=\"45001 a více\",1,0)","v":0}]
[null,null,null,null,null,null,null,23,{"$f":"IF(dotaznik_data2!$R24=\"14600-20000 Kč\",1,0)","v":0},{"$f":"IF(dotaznik_data2!$R24=\"20001-25000 Kč\",1,0)","v":0},{"$f":"IF(dotaznik_data2!$R24=\"25001-30000 Kč\",1,0)","v":0},{"$f":"IF(dotaznik_data2!$R24=\"30001-35000 Kč\",1,0)","v":0},{"$f":"IF(dotaznik_data2!$R24=\"35001-40000 Kč\",1,0)","v":0},{"$f":"IF(dotaznik_data2!$R24=\"40001-45000 Kč\",1,0)","v":0},{"$f":"IF(dotaznik_data2!$R24=\"45001 a více\",1,0)","v":0}]
[null,null,null,null,null,null,null,24,{"$f":"IF(dotaznik_data2!$R25=\"14600-20000 Kč\",1,0)","v":0},{"$f":"IF(dotaznik_data2!$R25=\"20001-25000 Kč\",1,0)","v":0},{"$f":"IF(dotaznik_data2!$R25=\"25001-30000 Kč\",1,0)","v":0},{"$f":"IF(dotaznik_data2!$R25=\"30001-35000 Kč\",1,0)","v":0},{"$f":"IF(dotaznik_data2!$R25=\"35001-40000 Kč\",1,0)","v":1},{"$f":"IF(dotaznik_data2!$R25=\"40001-45000 Kč\",1,0)","v":0},{"$f":"IF(dotaznik_data2!$R25=\"45001 a více\",1,0)","v":0}]
[null,null,null,null,null,null,null,25,{"$f":"IF(dotaznik_data2!$R26=\"14600-20000 Kč\",1,0)","v":0},{"$f":"IF(dotaznik_data2!$R26=\"20001-25000 Kč\",1,0)","v":0},{"$f":"IF(dotaznik_data2!$R26=\"25001-30000 Kč\",1,0)","v":0},{"$f":"IF(dotaznik_data2!$R26=\"30001-35000 Kč\",1,0)","v":0},{"$f":"IF(dotaznik_data2!$R26=\"35001-40000 Kč\",1,0)","v":0},{"$f":"IF(dotaznik_data2!$R26=\"40001-45000 Kč\",1,0)","v":0},{"$f":"IF(dotaznik_data2!$R26=\"45001 a více\",1,0)","v":0}]
[null,null,null,null,null,null,null,26,{"$f":"IF(dotaznik_data2!$R27=\"14600-20000 Kč\",1,0)","v":0},{"$f":"IF(dotaznik_data2!$R27=\"20001-25000 Kč\",1,0)","v":0},{"$f":"IF(dotaznik_data2!$R27=\"25001-30000 Kč\",1,0)","v":0},{"$f":"IF(dotaznik_data2!$R27=\"30001-35000 Kč\",1,0)","v":0},{"$f":"IF(dotaznik_data2!$R27=\"35001-40000 Kč\",1,0)","v":0},{"$f":"IF(dotaznik_data2!$R27=\"40001-45000 Kč\",1,0)","v":0},{"$f":"IF(dotaznik_data2!$R27=\"45001 a více\",1,0)","v":1}]
[null,null,null,null,null,null,null,27,{"$f":"IF(dotaznik_data2!$R28=\"14600-20000 Kč\",1,0)","v":0},{"$f":"IF(dotaznik_data2!$R28=\"20001-25000 Kč\",1,0)","v":0},{"$f":"IF(dotaznik_data2!$R28=\"25001-30000 Kč\",1,0)","v":0},{"$f":"IF(dotaznik_data2!$R28=\"30001-35000 Kč\",1,0)","v":0},{"$f":"IF(dotaznik_data2!$R28=\"35001-40000 Kč\",1,0)","v":1},{"$f":"IF(dotaznik_data2!$R28=\"40001-45000 Kč\",1,0)","v":0},{"$f":"IF(dotaznik_data2!$R28=\"45001 a více\",1,0)","v":0}]
[null,null,null,null,null,null,null,28,{"$f":"IF(dotaznik_data2!$R29=\"14600-20000 Kč\",1,0)","v":1},{"$f":"IF(dotaznik_data2!$R29=\"20001-25000 Kč\",1,0)","v":0},{"$f":"IF(dotaznik_data2!$R29=\"25001-30000 Kč\",1,0)","v":0},{"$f":"IF(dotaznik_data2!$R29=\"30001-35000 Kč\",1,0)","v":0},{"$f":"IF(dotaznik_data2!$R29=\"35001-40000 Kč\",1,0)","v":0},{"$f":"IF(dotaznik_data2!$R29=\"40001-45000 Kč\",1,0)","v":0},{"$f":"IF(dotaznik_data2!$R29=\"45001 a více\",1,0)","v":0}]
[null,null,null,null,null,null,null,29,{"$f":"IF(dotaznik_data2!$R30=\"14600-20000 Kč\",1,0)","v":0},{"$f":"IF(dotaznik_data2!$R30=\"20001-25000 Kč\",1,0)","v":0},{"$f":"IF(dotaznik_data2!$R30=\"25001-30000 Kč\",1,0)","v":0},{"$f":"IF(dotaznik_data2!$R30=\"30001-35000 Kč\",1,0)","v":0},{"$f":"IF(dotaznik_data2!$R30=\"35001-40000 Kč\",1,0)","v":1},{"$f":"IF(dotaznik_data2!$R30=\"40001-45000 Kč\",1,0)","v":0},{"$f":"IF(dotaznik_data2!$R30=\"45001 a více\",1,0)","v":0}]
[null,null,null,null,null,null,null,30,{"$f":"IF(dotaznik_data2!$R31=\"14600-20000 Kč\",1,0)","v":0},{"$f":"IF(dotaznik_data2!$R31=\"20001-25000 Kč\",1,0)","v":1},{"$f":"IF(dotaznik_data2!$R31=\"25001-30000 Kč\",1,0)","v":0},{"$f":"IF(dotaznik_data2!$R31=\"30001-35000 Kč\",1,0)","v":0},{"$f":"IF(dotaznik_data2!$R31=\"35001-40000 Kč\",1,0)","v":0},{"$f":"IF(dotaznik_data2!$R31=\"40001-45000 Kč\",1,0)","v":0},{"$f":"IF(dotaznik_data2!$R31=\"45001 a více\",1,0)","v":0}]
[null,null,null,null,null,null,null,31,{"$f":"IF(dotaznik_data2!$R32=\"14600-20000 Kč\",1,0)","v":0},{"$f":"IF(dotaznik_data2!$R32=\"20001-25000 Kč\",1,0)","v":1},{"$f":"IF(dotaznik_data2!$R32=\"25001-30000 Kč\",1,0)","v":0},{"$f":"IF(dotaznik_data2!$R32=\"30001-35000 Kč\",1,0)","v":0},{"$f":"IF(dotaznik_data2!$R32=\"35001-40000 Kč\",1,0)","v":0},{"$f":"IF(dotaznik_data2!$R32=\"40001-45000 Kč\",1,0)","v":0},{"$f":"IF(dotaznik_data2!$R32=\"45001 a více\",1,0)","v":0}]
[null,null,null,null,null,null,null,32,{"$f":"IF(dotaznik_data2!$R33=\"14600-20000 Kč\",1,0)","v":0},{"$f":"IF(dotaznik_data2!$R33=\"20001-25000 Kč\",1,0)","v":1},{"$f":"IF(dotaznik_data2!$R33=\"25001-30000 Kč\",1,0)","v":0},{"$f":"IF(dotaznik_data2!$R33=\"30001-35000 Kč\",1,0)","v":0},{"$f":"IF(dotaznik_data2!$R33=\"35001-40000 Kč\",1,0)","v":0},{"$f":"IF(dotaznik_data2!$R33=\"40001-45000 Kč\",1,0)","v":0},{"$f":"IF(dotaznik_data2!$R33=\"45001 a více\",1,0)","v":0}]
[null,null,null,null,null,null,null,33,{"$f":"IF(dotaznik_data2!$R34=\"14600-20000 Kč\",1,0)","v":0},{"$f":"IF(dotaznik_data2!$R34=\"20001-25000 Kč\",1,0)","v":0},{"$f":"IF(dotaznik_data2!$R34=\"25001-30000 Kč\",1,0)","v":0},{"$f":"IF(dotaznik_data2!$R34=\"30001-35000 Kč\",1,0)","v":0},{"$f":"IF(dotaznik_data2!$R34=\"35001-40000 Kč\",1,0)","v":1},{"$f":"IF(dotaznik_data2!$R34=\"40001-45000 Kč\",1,0)","v":0},{"$f":"IF(dotaznik_data2!$R34=\"45001 a více\",1,0)","v":0}]
[null,null,null,null,null,null,null,34,{"$f":"IF(dotaznik_data2!$R35=\"14600-20000 Kč\",1,0)","v":0},{"$f":"IF(dotaznik_data2!$R35=\"20001-25000 Kč\",1,0)","v":0},{"$f":"IF(dotaznik_data2!$R35=\"25001-30000 Kč\",1,0)","v":1},{"$f":"IF(dotaznik_data2!$R35=\"30001-35000 Kč\",1,0)","v":0},{"$f":"IF(dotaznik_data2!$R35=\"35001-40000 Kč\",1,0)","v":0},{"$f":"IF(dotaznik_data2!$R35=\"40001-45000 Kč\",1,0)","v":0},{"$f":"IF(dotaznik_data2!$R35=\"45001 a více\",1,0)","v":0}]
[null,null,null,null,null,null,null,35,{"$f":"IF(dotaznik_data2!$R36=\"14600-20000 Kč\",1,0)","v":0},{"$f":"IF(dotaznik_data2!$R36=\"20001-25000 Kč\",1,0)","v":1},{"$f":"IF(dotaznik_data2!$R36=\"25001-30000 Kč\",1,0)","v":0},{"$f":"IF(dotaznik_data2!$R36=\"30001-35000 Kč\",1,0)","v":0},{"$f":"IF(dotaznik_data2!$R36=\"35001-40000 Kč\",1,0)","v":0},{"$f":"IF(dotaznik_data2!$R36=\"40001-45000 Kč\",1,0)","v":0},{"$f":"IF(dotaznik_data2!$R36=\"45001 a více\",1,0)","v":0}]
[null,null,null,null,null,null,null,36,{"$f":"IF(dotaznik_data2!$R37=\"14600-20000 Kč\",1,0)","v":0},{"$f":"IF(dotaznik_data2!$R37=\"20001-25000 Kč\",1,0)","v":0},{"$f":"IF(dotaznik_data2!$R37=\"25001-30000 Kč\",1,0)","v":0},{"$f":"IF(dotaznik_data2!$R37=\"30001-35000 Kč\",1,0)","v":0},{"$f":"IF(dotaznik_data2!$R37=\"35001-40000 Kč\",1,0)","v":0},{"$f":"IF(dotaznik_data2!$R37=\"40001-45000 Kč\",1,0)","v":0},{"$f":"IF(dotaznik_data2!$R37=\"45001 a více\",1,0)","v":1}]
[null,null,null,null,null,null,null,37,{"$f":"IF(dotaznik_data2!$R38=\"14600-20000 Kč\",1,0)","v":0},{"$f":"IF(dotaznik_data2!$R38=\"20001-25000 Kč\",1,0)","v":0},{"$f":"IF(dotaznik_data2!$R38=\"25001-30000 Kč\",1,0)","v":0},{"$f":"IF(dotaznik_data2!$R38=\"30001-35000 Kč\",1,0)","v":0},{"$f":"IF(dotaznik_data2!$R38=\"35001-40000 Kč\",1,0)","v":0},{"$f":"IF(dotaznik_data2!$R38=\"40001-45000 Kč\",1,0)","v":1},{"$f":"IF(dotaznik_data2!$R38=\"45001 a více\",1,0)","v":0}]
[null,null,null,null,null,null,null,38,{"$f":"IF(dotaznik_data2!$R39=\"14600-20000 Kč\",1,0)","v":1},{"$f":"IF(dotaznik_data2!$R39=\"20001-25000 Kč\",1,0)","v":0},{"$f":"IF(dotaznik_data2!$R39=\"25001-30000 Kč\",1,0)","v":0},{"$f":"IF(dotaznik_data2!$R39=\"30001-35000 Kč\",1,0)","v":0},{"$f":"IF(dotaznik_data2!$R39=\"35001-40000 Kč\",1,0)","v":0},{"$f":"IF(dotaznik_data2!$R39=\"40001-45000 Kč\",1,0)","v":0},{"$f":"IF(dotaznik_data2!$R39=\"45001 a více\",1,0)","v":0}]
[null,null,null,null,null,null,null,39,{"$f":"IF(dotaznik_data2!$R40=\"14600-20000 Kč\",1,0)","v":0},{"$f":"IF(dotaznik_data2!$R40=\"20001-25000 Kč\",1,0)","v":1},{"$f":"IF(dotaznik_data2!$R40=\"25001-30000 Kč\",1,0)","v":0},{"$f":"IF(dotaznik_data2!$R40=\"30001-35000 Kč\",1,0)","v":0},{"$f":"IF(dotaznik_data2!$R40=\"35001-40000 Kč\",1,0)","v":0},{"$f":"IF(dotaznik_data2!$R40=\"40001-45000 Kč\",1,0)","v":0},{"$f":"IF(dotaznik_data2!$R40=\"45001 a více\",1,0)","v":0}]
[null,null,null,null,null,null,null,40,{"$f":"IF(dotaznik_data2!$R41=\"14600-20000 Kč\",1,0)","v":0},{"$f":"IF(dotaznik_data2!$R41=\"20001-25000 Kč\",1,0)","v":0},{"$f":"IF(dotaznik_data2!$R41=\"25001-30000 Kč\",1,0)","v":0},{"$f":"IF(dotaznik_data2!$R41=\"30001-35000 Kč\",1,0)","v":0},{"$f":"IF(dotaznik_data2!$R41=\"35001-40000 Kč\",1,0)","v":0},{"$f":"IF(dotaznik_data2!$R41=\"40001-45000 Kč\",1,0)","v":1},{"$f":"IF(dotaznik_data2!$R41=\"45001 a více\",1,0)","v":0}]
[null,null,null,null,null,null,null,41,{"$f":"IF(dotaznik_data2!$R42=\"14600-20000 Kč\",1,0)","v":0},{"$f":"IF(dotaznik_data2!$R42=\"20001-25000 Kč\",1,0)","v":0},{"$f":"IF(dotaznik_data2!$R42=\"25001-30000 Kč\",1,0)","v":0},{"$f":"IF(dotaznik_data2!$R42=\"30001-35000 Kč\",1,0)","v":1},{"$f":"IF(dotaznik_data2!$R42=\"35001-40000 Kč\",1,0)","v":0},{"$f":"IF(dotaznik_data2!$R42=\"40001-45000 Kč\",1,0)","v":0},{"$f":"IF(dotaznik_data2!$R42=\"45001 a více\",1,0)","v":0}]
[null,null,null,null,null,null,null,42,{"$f":"IF(dotaznik_data2!$R43=\"14600-20000 Kč\",1,0)","v":0},{"$f":"IF(dotaznik_data2!$R43=\"20001-25000 Kč\",1,0)","v":0},{"$f":"IF(dotaznik_data2!$R43=\"25001-30000 Kč\",1,0)","v":0},{"$f":"IF(dotaznik_data2!$R43=\"30001-35000 Kč\",1,0)","v":1},{"$f":"IF(dotaznik_data2!$R43=\"35001-40000 Kč\",1,0)","v":0},{"$f":"IF(dotaznik_data2!$R43=\"40001-45000 Kč\",1,0)","v":0},{"$f":"IF(dotaznik_data2!$R43=\"45001 a více\",1,0)","v":0}]
[null,null,null,null,null,null,null,43,{"$f":"IF(dotaznik_data2!$R44=\"14600-20000 Kč\",1,0)","v":0},{"$f":"IF(dotaznik_data2!$R44=\"20001-25000 Kč\",1,0)","v":0},{"$f":"IF(dotaznik_data2!$R44=\"25001-30000 Kč\",1,0)","v":0},{"$f":"IF(dotaznik_data2!$R44=\"30001-35000 Kč\",1,0)","v":1},{"$f":"IF(dotaznik_data2!$R44=\"35001-40000 Kč\",1,0)","v":0},{"$f":"IF(dotaznik_data2!$R44=\"40001-45000 Kč\",1,0)","v":0},{"$f":"IF(dotaznik_data2!$R44=\"45001 a více\",1,0)","v":0}]
[null,null,null,null,null,null,null,44,{"$f":"IF(dotaznik_data2!$R45=\"14600-20000 Kč\",1,0)","v":0},{"$f":"IF(dotaznik_data2!$R45=\"20001-25000 Kč\",1,0)","v":0},{"$f":"IF(dotaznik_data2!$R45=\"25001-30000 Kč\",1,0)","v":0},{"$f":"IF(dotaznik_data2!$R45=\"30001-35000 Kč\",1,0)","v":1},{"$f":"IF(dotaznik_data2!$R45=\"35001-40000 Kč\",1,0)","v":0},{"$f":"IF(dotaznik_data2!$R45=\"40001-45000 Kč\",1,0)","v":0},{"$f":"IF(dotaznik_data2!$R45=\"45001 a více\",1,0)","v":0}]
[null,null,null,null,null,null,null,45,{"$f":"IF(dotaznik_data2!$R46=\"14600-20000 Kč\",1,0)","v":0},{"$f":"IF(dotaznik_data2!$R46=\"20001-25000 Kč\",1,0)","v":1},{"$f":"IF(dotaznik_data2!$R46=\"25001-30000 Kč\",1,0)","v":0},{"$f":"IF(dotaznik_data2!$R46=\"30001-35000 Kč\",1,0)","v":0},{"$f":"IF(dotaznik_data2!$R46=\"35001-40000 Kč\",1,0)","v":0},{"$f":"IF(dotaznik_data2!$R46=\"40001-45000 Kč\",1,0)","v":0},{"$f":"IF(dotaznik_data2!$R46=\"45001 a více\",1,0)","v":0}]
[null,null,null,null,null,null,null,46,{"$f":"IF(dotaznik_data2!$R47=\"14600-20000 Kč\",1,0)","v":1},{"$f":"IF(dotaznik_data2!$R47=\"20001-25000 Kč\",1,0)","v":0},{"$f":"IF(dotaznik_data2!$R47=\"25001-30000 Kč\",1,0)","v":0},{"$f":"IF(dotaznik_data2!$R47=\"30001-35000 Kč\",1,0)","v":0},{"$f":"IF(dotaznik_data2!$R47=\"35001-40000 Kč\",1,0)","v":0},{"$f":"IF(dotaznik_data2!$R47=\"40001-45000 Kč\",1,0)","v":0},{"$f":"IF(dotaznik_data2!$R47=\"45001 a více\",1,0)","v":0}]
[null,null,null,null,null,null,null,47,{"$f":"IF(dotaznik_data2!$R48=\"14600-20000 Kč\",1,0)","v":0},{"$f":"IF(dotaznik_data2!$R48=\"20001-25000 Kč\",1,0)","v":0},{"$f":"IF(dotaznik_data2!$R48=\"25001-30000 Kč\",1,0)","v":0},{"$f":"IF(dotaznik_data2!$R48=\"30001-35000 Kč\",1,0)","v":0},{"$f":"IF(dotaznik_data2!$R48=\"35001-40000 Kč\",1,0)","v":0},{"$f":"IF(dotaznik_data2!$R48=\"40001-45000 Kč\",1,0)","v":1},{"$f":"IF(dotaznik_data2!$R48=\"45001 a více\",1,0)","v":0}]
[null,null,null,null,null,null,null,48,{"$f":"IF(dotaznik_data2!$R49=\"14600-20000 Kč\",1,0)","v":0},{"$f":"IF(dotaznik_data2!$R49=\"20001-25000 Kč\",1,0)","v":0},{"$f":"IF(dotaznik_data2!$R49=\"25001-30000 Kč\",1,0)","v":0},{"$f":"IF(dotaznik_data2!$R49=\"30001-35000 Kč\",1,0)","v":0},{"$f":"IF(dotaznik_data2!$R49=\"35001-40000 Kč\",1,0)","v":0},{"$f":"IF(dotaznik_data2!$R49=\"40001-45000 Kč\",1,0)","v":1},{"$f":"IF(dotaznik_data2!$R49=\"45001 a více\",1,0)","v":0}]
[null,null,null,null,null,null,null,49,{"$f":"IF(dotaznik_data2!$R50=\"14600-20000 Kč\",1,0)","v":0},{"$f":"IF(dotaznik_data2!$R50=\"20001-25000 Kč\",1,0)","v":0},{"$f":"IF(dotaznik_data2!$R50=\"25001-30000 Kč\",1,0)","v":0},{"$f":"IF(dotaznik_data2!$R50=\"30001-35000 Kč\",1,0)","v":1},{"$f":"IF(dotaznik_data2!$R50=\"35001-40000 Kč\",1,0)","v":0},{"$f":"IF(dotaznik_data2!$R50=\"40001-45000 Kč\",1,0)","v":0},{"$f":"IF(dotaznik_data2!$R50=\"45001 a více\",1,0)","v":0}]
[null,null,null,null,null,null,null,50,{"$f":"IF(dotaznik_data2!$R51=\"14600-20000 Kč\",1,0)","v":0},{"$f":"IF(dotaznik_data2!$R51=\"20001-25000 Kč\",1,0)","v":0},{"$f":"IF(dotaznik_data2!$R51=\"25001-30000 Kč\",1,0)","v":1},{"$f":"IF(dotaznik_data2!$R51=\"30001-35000 Kč\",1,0)","v":0},{"$f":"IF(dotaznik_data2!$R51=\"35001-40000 Kč\",1,0)","v":0},{"$f":"IF(dotaznik_data2!$R51=\"40001-45000 Kč\",1,0)","v":0},{"$f":"IF(dotaznik_data2!$R51=\"45001 a více\",1,0)","v":0}]
[]
[18,"Brání nějaké překážky většímu využívání kola?",null,null,null,null,"ne"]
[null,null,null,null,null,null,"ano, silniční infrastruktura"]
[null,null,null,null,null,null,"ano, zdravotní stav"]
[null,null,null,null,null,null,"ano, nemožnost parkování"]
[null,null,null,null,null,null,"ano, pohodlnost","četnost",{"$f":"COUNTIF(I971:I1020,1)","v":35},{"$f":"COUNTIF(J971:J1020,1)","v":5},2,0,8,0]
[null,null,null,null,null,null,"ano, kondice","odpověď","ne","ano, silniční infrastruktura","ano, zdravotní stav","ano, nemožnost parkování","ano, pohodlnost","ano, kondice"]
[null,null,null,null,null,null,"respondent číslo",1,{"$f":"IF(dotaznik_data2!$S2=\"ne\",1,0)","v":1},{"$f":"IF(dotaznik_data2!$S2=\"ano, silniční infrastruktura\",1,0)","v":0},{"$f":"IF(dotaznik_data2!$S2=\"ano, zdravotní stav\",1,0)","v":0},{"$f":"IF(dotaznik_data2!$S2=\"ano, nemožnost parkování\",1,0)","v":0},{"$f":"IF(dotaznik_data2!$S2=\"ano, pohodlnost\",1,0)","v":0},{"$f":"IF(dotaznik_data2!$S2=\"ano, kondice\",1,0)","v":0}]
[null,null,null,null,null,null,null,2,{"$f":"IF(dotaznik_data2!$S3=\"ne\",1,0)","v":0},{"$f":"IF(dotaznik_data2!$S3=\"ano, silniční infrastruktura\",1,0)","v":0},{"$f":"IF(dotaznik_data2!$S3=\"ano, zdravotní stav\",1,0)","v":0},{"$f":"IF(dotaznik_data2!$S3=\"ano, nemožnost parkování\",1,0)","v":0},{"$f":"IF(dotaznik_data2!$S3=\"ano, pohodlnost\",1,0)","v":1},{"$f":"IF(dotaznik_data2!$S3=\"ano, kondice\",1,0)","v":0}]
[null,null,null,null,null,null,null,3,{"$f":"IF(dotaznik_data2!$S4=\"ne\",1,0)","v":1},{"$f":"IF(dotaznik_data2!$S4=\"ano, silniční infrastruktura\",1,0)","v":0},{"$f":"IF(dotaznik_data2!$S4=\"ano, zdravotní stav\",1,0)","v":0},{"$f":"IF(dotaznik_data2!$S4=\"ano, nemožnost parkování\",1,0)","v":0},{"$f":"IF(dotaznik_data2!$S4=\"ano, pohodlnost\",1,0)","v":0},{"$f":"IF(dotaznik_data2!$S4=\"ano, kondice\",1,0)","v":0}]
[null,null,null,null,null,null,null,4,{"$f":"IF(dotaznik_data2!$S5=\"ne\",1,0)","v":1},{"$f":"IF(dotaznik_data2!$S5=\"ano, silniční infrastruktura\",1,0)","v":0},{"$f":"IF(dotaznik_data2!$S5=\"ano, zdravotní stav\",1,0)","v":0},{"$f":"IF(dotaznik_data2!$S5=\"ano, nemožnost parkování\",1,0)","v":0},{"$f":"IF(dotaznik_data2!$S5=\"ano, pohodlnost\",1,0)","v":0},{"$f":"IF(dotaznik_data2!$S5=\"ano, kondice\",1,0)","v":0}]
[null,null,null,null,null,null,null,5,{"$f":"IF(dotaznik_data2!$S6=\"ne\",1,0)","v":0},{"$f":"IF(dotaznik_data2!$S6=\"ano, silniční infrastruktura\",1,0)","v":0},{"$f":"IF(dotaznik_data2!$S6=\"ano, zdravotní stav\",1,0)","v":0},{"$f":"IF(dotaznik_data2!$S6=\"ano, nemožnost parkování\",1,0)","v":0},{"$f":"IF(dotaznik_data2!$S6=\"ano, pohodlnost\",1,0)","v":1},{"$f":"IF(dotaznik_data2!$S6=\"ano, kondice\",1,0)","v":0}]
[null,null,null,null,null,null,null,6,{"$f":"IF(dotaznik_data2!$S7=\"ne\",1,0)","v":0},{"$f":"IF(dotaznik_data2!$S7=\"ano, silniční infrastruktura\",1,0)","v":0},{"$f":"IF(dotaznik_data2!$S7=\"ano, zdravotní stav\",1,0)","v":0},{"$f":"IF(dotaznik_data2!$S7=\"ano, nemožnost parkování\",1,0)","v":0},{"$f":"IF(dotaznik_data2!$S7=\"ano, pohodlnost\",1,0)","v":1},{"$f":"IF(dotaznik_data2!$S7=\"ano, kondice\",1,0)","v":0}]
[null,null,null,null,null,null,null,7,{"$f":"IF(dotaznik_data2!$S8=\"ne\",1,0)","v":1},{"$f":"IF(dotaznik_data2!$S8=\"ano, silniční infrastruktura\",1,0)","v":0},{"$f":"IF(dotaznik_data2!$S8=\"ano, zdravotní stav\",1,0)","v":0},{"$f":"IF(dotaznik_data2!$S8=\"ano, nemožnost parkování\",1,0)","v":0},{"$f":"IF(dotaznik_data2!$S8=\"ano, pohodlnost\",1,0)","v":0},{"$f":"IF(dotaznik_data2!$S8=\"ano, kondice\",1,0)","v":0}]
[null,null,null,null,null,null,null,8,{"$f":"IF(dotaznik_data2!$S9=\"ne\",1,0)","v":0},{"$f":"IF(dotaznik_data2!$S9=\"ano, silniční infrastruktura\",1,0)","v":0},{"$f":"IF(dotaznik_data2!$S9=\"ano, zdravotní stav\",1,0)","v":1},{"$f":"IF(dotaznik_data2!$S9=\"ano, nemožnost parkování\",1,0)","v":0},{"$f":"IF(dotaznik_data2!$S9=\"ano, pohodlnost\",1,0)","v":0},{"$f":"IF(dotaznik_data2!$S9=\"ano, kondice\",1,0)","v":0}]
[null,null,null,null,null,null,null,9,{"$f":"IF(dotaznik_data2!$S10=\"ne\",1,0)","v":1},{"$f":"IF(dotaznik_data2!$S10=\"ano, silniční infrastruktura\",1,0)","v":0},{"$f":"IF(dotaznik_data2!$S10=\"ano, zdravotní stav\",1,0)","v":0},{"$f":"IF(dotaznik_data2!$S10=\"ano, nemožnost parkování\",1,0)","v":0},{"$f":"IF(dotaznik_data2!$S10=\"ano, pohodlnost\",1,0)","v":0},{"$f":"IF(dotaznik_data2!$S10=\"ano, kondice\",1,0)","v":0}]
[null,null,null,null,null,null,null,10,{"$f":"IF(dotaznik_data2!$S11=\"ne\",1,0)","v":1},{"$f":"IF(dotaznik_data2!$S11=\"ano, silniční infrastruktura\",1,0)","v":0},{"$f":"IF(dotaznik_data2!$S11=\"ano, zdravotní stav\",1,0)","v":0},{"$f":"IF(dotaznik_data2!$S11=\"ano, nemožnost parkování\",1,0)","v":0},{"$f":"IF(dotaznik_data2!$S11=\"ano, pohodlnost\",1,0)","v":0},{"$f":"IF(dotaznik_data2!$S11=\"ano, kondice\",1,0)","v":0}]
[null,null,null,null,null,null,null,11,{"$f":"IF(dotaznik_data2!$S12=\"ne\",1,0)","v":0},{"$f":"IF(dotaznik_data2!$S12=\"ano, silniční infrastruktura\",1,0)","v":0},{"$f":"IF(dotaznik_data2!$S12=\"ano, zdravotní stav\",1,0)","v":0},{"$f":"IF(dotaznik_data2!$S12=\"ano, nemožnost parkování\",1,0)","v":0},{"$f":"IF(dotaznik_data2!$S12=\"ano, pohodlnost\",1,0)","v":1},{"$f":"IF(dotaznik_data2!$S12=\"ano, kondice\",1,0)","v":0}]
[null,null,null,null,null,null,null,12,{"$f":"IF(dotaznik_data2!$S13=\"ne\",1,0)","v":1},{"$f":"IF(dotaznik_data2!$S13=\"ano, silniční infrastruktura\",1,0)","v":0},{"$f":"IF(dotaznik_data2!$S13=\"ano, zdravotní stav\",1,0)","v":0},{"$f":"IF(dotaznik_data2!$S13=\"ano, nemožnost parkování\",1,0)","v":0},{"$f":"IF(dotaznik_data2!$S13=\"ano, pohodlnost\",1,0)","v":0},{"$f":"IF(dotaznik_data2!$S13=\"ano, kondice\",1,0)","v":0}]
[null,null,null,null,null,null,null,13,{"$f":"IF(dotaznik_data2!$S14=\"ne\",1,0)","v":0},{"$f":"IF(dotaznik_data2!$S14=\"ano, silniční infrastruktura\",1,0)","v":0},{"$f":"IF(dotaznik_data2!$S14=\"ano, zdravotní stav\",1,0)","v":1},{"$f":"IF(dotaznik_data2!$S14=\"ano, nemožnost parkování\",1,0)","v":0},{"$f":"IF(dotaznik_data2!$S14=\"ano, pohodlnost\",1,0)","v":0},{"$f":"IF(dotaznik_data2!$S14=\"ano, kondice\",1,0)","v":0}]
[null,null,null,null,null,null,null,14,{"$f":"IF(dotaznik_data2!$S15=\"ne\",1,0)","v":1},{"$f":"IF(dotaznik_data2!$S15=\"ano, silniční infrastruktura\",1,0)","v":0},{"$f":"IF(dotaznik_data2!$S15=\"ano, zdravotní stav\",1,0)","v":0},{"$f":"IF(dotaznik_data2!$S15=\"ano, nemožnost parkování\",1,0)","v":0},{"$f":"IF(dotaznik_data2!$S15=\"ano, pohodlnost\",1,0)","v":0},{"$f":"IF(dotaznik_data2!$S15=\"ano, kondice\",1,0)","v":0}]
[null,null,null,null,null,null,null,15,{"$f":"IF(dotaznik_data2!$S16=\"ne\",1,0)","v":1},{"$f":"IF(dotaznik_data2!$S16=\"ano, silniční infrastruktura\",1,0)","v":0},{"$f":"IF(dotaznik_data2!$S16=\"ano, zdravotní stav\",1,0)","v":0},{"$f":"IF(dotaznik_data2!$S16=\"ano, nemožnost parkování\",1,0)","v":0},{"$f":"IF(dotaznik_data2!$S16=\"ano, pohodlnost\",1,0)","v":0},{"$f":"IF(dotaznik_data2!$S16=\"ano, kondice\",1,0)","v":0}]
[null,null,null,null,null,null,null,16,{"$f":"IF(dotaznik_data2!$S17=\"ne\",1,0)","v":1},{"$f":"IF(dotaznik_data2!$S17=\"ano, silniční infrastruktura\",1,0)","v":0},{"$f":"IF(dotaznik_data2!$S17=\"ano, zdravotní stav\",1,0)","v":0},{"$f":"IF(dotaznik_data2!$S17=\"ano, nemožnost parkování\",1,0)","v":0},{"$f":"IF(dotaznik_data2!$S17=\"ano, pohodlnost\",1,0)","v":0},{"$f":"IF(dotaznik_data2!$S17=\"ano, kondice\",1,0)","v":0}]
[null,null,null,null,null,null,null,17,{"$f":"IF(dotaznik_data2!$S18=\"ne\",1,0)","v":1},{"$f":"IF(dotaznik_data2!$S18=\"ano, silniční infrastruktura\",1,0)","v":0},{"$f":"IF(dotaznik_data2!$S18=\"ano, zdravotní stav\",1,0)","v":0},{"$f":"IF(dotaznik_data2!$S18=\"ano, nemožnost parkování\",1,0)","v":0},{"$f":"IF(dotaznik_data2!$S18=\"ano, pohodlnost\",1,0)","v":0},{"$f":"IF(dotaznik_data2!$S18=\"ano, kondice\",1,0)","v":0}]
[null,null,null,null,null,null,null,18,{"$f":"IF(dotaznik_data2!$S19=\"ne\",1,0)","v":1},{"$f":"IF(dotaznik_data2!$S19=\"ano, silniční infrastruktura\",1,0)","v":0},{"$f":"IF(dotaznik_data2!$S19=\"ano, zdravotní stav\",1,0)","v":0},{"$f":"IF(dotaznik_data2!$S19=\"ano, nemožnost parkování\",1,0)","v":0},{"$f":"IF(dotaznik_data2!$S19=\"ano, pohodlnost\",1,0)","v":0},{"$f":"IF(dotaznik_data2!$S19=\"ano, kondice\",1,0)","v":0}]
[null,null,null,null,null,null,null,19,{"$f":"IF(dotaznik_data2!$S20=\"ne\",1,0)","v":0},{"$f":"IF(dotaznik_data2!$S20=\"ano, silniční infrastruktura\",1,0)","v":0},{"$f":"IF(dotaznik_data2!$S20=\"ano, zdravotní stav\",1,0)","v":0},{"$f":"IF(dotaznik_data2!$S20=\"ano, nemožnost parkování\",1,0)","v":0},{"$f":"IF(dotaznik_data2!$S20=\"ano, pohodlnost\",1,0)","v":1},{"$f":"IF(dotaznik_data2!$S20=\"ano, kondice\",1,0)","v":0}]
[null,null,null,null,null,null,null,20,{"$f":"IF(dotaznik_data2!$S21=\"ne\",1,0)","v":1},{"$f":"IF(dotaznik_data2!$S21=\"ano, silniční infrastruktura\",1,0)","v":0},{"$f":"IF(dotaznik_data2!$S21=\"ano, zdravotní stav\",1,0)","v":0},{"$f":"IF(dotaznik_data2!$S21=\"ano, nemožnost parkování\",1,0)","v":0},{"$f":"IF(dotaznik_data2!$S21=\"ano, pohodlnost\",1,0)","v":0},{"$f":"IF(dotaznik_data2!$S21=\"ano, kondice\",1,0)","v":0}]
[null,null,null,null,null,null,null,21,{"$f":"IF(dotaznik_data2!$S22=\"ne\",1,0)","v":1},{"$f":"IF(dotaznik_data2!$S22=\"ano, silniční infrastruktura\",1,0)","v":0},{"$f":"IF(dotaznik_data2!$S22=\"ano, zdravotní stav\",1,0)","v":0},{"$f":"IF(dotaznik_data2!$S22=\"ano, nemožnost parkování\",1,0)","v":0},{"$f":"IF(dotaznik_data2!$S22=\"ano, pohodlnost\",1,0)","v":0},{"$f":"IF(dotaznik_data2!$S22=\"ano, kondice\",1,0)","v":0}]
[null,null,null,null,null,null,null,22,{"$f":"IF(dotaznik_data2!$S23=\"ne\",1,0)","v":1},{"$f":"IF(dotaznik_data2!$S23=\"ano, silniční infrastruktura\",1,0)","v":0},{"$f":"IF(dotaznik_data2!$S23=\"ano, zdravotní stav\",1,0)","v":0},{"$f":"IF(dotaznik_data2!$S23=\"ano, nemožnost parkování\",1,0)","v":0},{"$f":"IF(dotaznik_data2!$S23=\"ano, pohodlnost\",1,0)","v":0},{"$f":"IF(dotaznik_data2!$S23=\"ano, kondice\",1,0)","v":0}]
[null,null,null,null,null,null,null,23,{"$f":"IF(dotaznik_data2!$S24=\"ne\",1,0)","v":1},{"$f":"IF(dotaznik_data2!$S24=\"ano, silniční infrastruktura\",1,0)","v":0},{"$f":"IF(dotaznik_data2!$S24=\"ano, zdravotní stav\",1,0)","v":0},{"$f":"IF(dotaznik_data2!$S24=\"ano, nemožnost parkování\",1,0)","v":0},{"$f":"IF(dotaznik_data2!$S24=\"ano, pohodlnost\",1,0)","v":0},{"$f":"IF(dotaznik_data2!$S24=\"ano, kondice\",1,0)","v":0}]
[null,null,null,null,null,null,null,24,{"$f":"IF(dotaznik_data2!$S25=\"ne\",1,0)","v":1},{"$f":"IF(dotaznik_data2!$S25=\"ano, silniční infrastruktura\",1,0)","v":0},{"$f":"IF(dotaznik_data2!$S25=\"ano, zdravotní stav\",1,0)","v":0},{"$f":"IF(dotaznik_data2!$S25=\"ano, nemožnost parkování\",1,0)","v":0},{"$f":"IF(dotaznik_data2!$S25=\"ano, pohodlnost\",1,0)","v":0},{"$f":"IF(dotaznik_data2!$S25=\"ano, kondice\",1,0)","v":0}]
[null,null,null,null,null,null,null,25,{"$f":"IF(dotaznik_data2!$S26=\"ne\",1,0)","v":0},{"$f":"IF(dotaznik_data2!$S26=\"ano, silniční infrastruktura\",1,0)","v":0},{"$f":"IF(dotaznik_data2!$S26=\"ano, zdravotní stav\",1,0)","v":0},{"$f":"IF(dotaznik_data2!$S26=\"ano, nemožnost parkování\",1,0)","v":0},{"$f":"IF(dotaznik_data2!$S26=\"ano, pohodlnost\",1,0)","v":1},{"$f":"IF(dotaznik_data2!$S26=\"ano, kondice\",1,0)","v":0}]
[null,null,null,null,null,null,null,26,{"$f":"IF(dotaznik_data2!$S27=\"ne\",1,0)","v":1},{"$f":"IF(dotaznik_data2!$S27=\"ano, silniční infrastruktura\",1,0)","v":0},{"$f":"IF(dotaznik_data2!$S27=\"ano, zdravotní stav\",1,0)","v":0},{"$f":"IF(dotaznik_data2!$S27=\"ano, nemožnost parkování\",1,0)","v":0},{"$f":"IF(dotaznik_data2!$S27=\"ano, pohodlnost\",1,0)","v":0},{"$f":"IF(dotaznik_data2!$S27=\"ano, kondice\",1,0)","v":0}]
[null,null,null,null,null,null,null,27,{"$f":"IF(dotaznik_data2!$S28=\"ne\",1,0)","v":1},{"$f":"IF(dotaznik_data2!$S28=\"ano, silniční infrastruktura\",1,0)","v":0},{"$f":"IF(dotaznik_data2!$S28=\"ano, zdravotní stav\",1,0)","v":0},{"$f":"IF(dotaznik_data2!$S28=\"ano, nemožnost parkování\",1,0)","v":0},{"$f":"IF(dotaznik_data2!$S28=\"ano, pohodlnost\",1,0)","v":0},{"$f":"IF(dotaznik_data2!$S28=\"ano, kondice\",1,0)","v":0}]
[null,null,null,null,null,null,null,28,{"$f":"IF(dotaznik_data2!$S29=\"ne\",1,0)","v":1},{"$f":"IF(dotaznik_data2!$S29=\"ano, silniční infrastruktura\",1,0)","v":0},{"$f":"IF(dotaznik_data2!$S29=\"ano, zdravotní stav\",1,0)","v":0},{"$f":"IF(dotaznik_data2!$S29=\"ano, nemožnost parkování\",1,0)","v":0},{"$f":"IF(dotaznik_data2!$S29=\"ano, pohodlnost\",1,0)","v":0},{"$f":"IF(dotaznik_data2!$S29=\"ano, kondice\",1,0)","v":0}]
[null,null,null,null,null,null,null,29,{"$f":"IF(dotaznik_data2!$S30=\"ne\",1,0)","v":1},{"$f":"IF(dotaznik_data2!$S30=\"ano, silniční infrastruktura\",1,0)","v":0},{"$f":"IF(dotaznik_data2!$S30=\"ano, zdravotní stav\",1,0)","v":0},{"$f":"IF(dotaznik_data2!$S30=\"ano, nemožnost parkování\",1,0)","v":0},{"$f":"IF(dotaznik_data2!$S30=\"ano, pohodlnost\",1,0)","v":0},{"$f":"IF(dotaznik_data2!$S30=\"ano, kondice\",1,0)","v":0}]
[null,null,null,null,null,null,null,30,{"$f":"IF(dotaznik_data2!$S31=\"ne\",1,0)","v":1},{"$f":"IF(dotaznik_data2!$S31=\"ano, silniční infrastruktura\",1,0)","v":0},{"$f":"IF(dotaznik_data2!$S31=\"ano, zdravotní stav\",1,0)","v":0},{"$f":"IF(dotaznik_data2!$S31=\"ano, nemožnost parkování\",1,0)","v":0},{"$f":"IF(dotaznik_data2!$S31=\"ano, pohodlnost\",1,0)","v":0},{"$f":"IF(dotaznik_data2!$S31=\"ano, kondice\",1,0)","v":0}]
[null,null,null,null,null,null,null,31,{"$f":"IF(dotaznik_data2!$S32=\"ne\",1,0)","v":1},{"$f":"IF(dotaznik_data2!$S32=\"ano, silniční infrastruktura\",1,0)","v":0},{"$f":"IF(dotaznik_data2!$S32=\"ano, zdravotní stav\",1,0)","v":0},{"$f":"IF(dotaznik_data2!$S32=\"ano, nemožnost parkování\",1,0)","v":0},{"$f":"IF(dotaznik_data2!$S32=\"ano, pohodlnost\",1,0)","v":0},{"$f":"IF(dotaznik_data2!$S32=\"ano, kondice\",1,0)","v":0}]
[null,null,null,null,null,null,null,32,{"$f":"IF(dotaznik_data2!$S33=\"ne\",1,0)","v":1},{"$f":"IF(dotaznik_data2!$S33=\"ano, silniční infrastruktura\",1,0)","v":0},{"$f":"IF(dotaznik_data2!$S33=\"ano, zdravotní stav\",1,0)","v":0},{"$f":"IF(dotaznik_data2!$S33=\"ano, nemožnost parkování\",1,0)","v":0},{"$f":"IF(dotaznik_data2!$S33=\"ano, pohodlnost\",1,0)","v":0},{"$f":"IF(dotaznik_data2!$S33=\"ano, kondice\",1,0)","v":0}]
[null,null,null,null,null,null,null,33,{"$f":"IF(dotaznik_data2!$S34=\"ne\",1,0)","v":1},{"$f":"IF(dotaznik_data2!$S34=\"ano, silniční infrastruktura\",1,0)","v":0},{"$f":"IF(dotaznik_data2!$S34=\"ano, zdravotní stav\",1,0)","v":0},{"$f":"IF(dotaznik_data2!$S34=\"ano, nemožnost parkování\",1,0)","v":0},{"$f":"IF(dotaznik_data2!$S34=\"ano, pohodlnost\",1,0)","v":0},{"$f":"IF(dotaznik_data2!$S34=\"ano, kondice\",1,0)","v":0}]
[null,null,null,null,null,null,null,34,{"$f":"IF(dotaznik_data2!$S35=\"ne\",1,0)","v":1},{"$f":"IF(dotaznik_data2!$S35=\"ano, silniční infrastruktura\",1,0)","v":0},{"$f":"IF(dotaznik_data2!$S35=\"ano, zdravotní stav\",1,0)","v":0},{"$f":"IF(dotaznik_data2!$S35=\"ano, nemožnost parkování\",1,0)","v":0},{"$f":"IF(dotaznik_data2!$S35=\"ano, pohodlnost\",1,0)","v":0},{"$f":"IF(dotaznik_data2!$S35=\"ano, kondice\",1,0)","v":0}]
[null,null,null,null,null,null,null,35,{"$f":"IF(dotaznik_data2!$S36=\"ne\",1,0)","v":1},{"$f":"IF(dotaznik_data2!$S36=\"ano, silniční infrastruktura\",1,0)","v":0},{"$f":"IF(dotaznik_data2!$S36=\"ano, zdravotní stav\",1,0)","v":0},{"$f":"IF(dotaznik_data2!$S36=\"ano, nemožnost parkování\",1,0)","v":0},{"$f":"IF(dotaznik_data2!$S36=\"ano, pohodlnost\",1,0)","v":0},{"$f":"IF(dotaznik_data2!$S36=\"ano, kondice\",1,0)","v":0}]
[null,null,null,null,null,null,null,36,{"$f":"IF(dotaznik_data2!$S37=\"ne\",1,0)","v":1},{"$f":"IF(dotaznik_data2!$S37=\"ano, silniční infrastruktura\",1,0)","v":0},{"$f":"IF(dotaznik_data2!$S37=\"ano, zdravotní stav\",1,0)","v":0},{"$f":"IF(dotaznik_data2!$S37=\"ano, nemožnost parkování\",1,0)","v":0},{"$f":"IF(dotaznik_data2!$S37=\"ano, pohodlnost\",1,0)","v":0},{"$f":"IF(dotaznik_data2!$S37=\"ano, kondice\",1,0)","v":0}]
[null,null,null,null,null,null,null,37,{"$f":"IF(dotaznik_data2!$S38=\"ne\",1,0)","v":0},{"$f":"IF(dotaznik_data2!$S38=\"ano, silniční infrastruktura\",1,0)","v":0},{"$f":"IF(dotaznik_data2!$S38=\"ano, zdravotní stav\",1,0)","v":0},{"$f":"IF(dotaznik_data2!$S38=\"ano, nemožnost parkování\",1,0)","v":0},{"$f":"IF(dotaznik_data2!$S38=\"ano, pohodlnost\",1,0)","v":1},{"$f":"IF(dotaznik_data2!$S38=\"ano, kondice\",1,0)","v":0}]
[null,null,null,null,null,null,null,38,{"$f":"IF(dotaznik_data2!$S39=\"ne\",1,0)","v":0},{"$f":"IF(dotaznik_data2!$S39=\"ano, silniční infrastruktura\",1,0)","v":1},{"$f":"IF(dotaznik_data2!$S39=\"ano, zdravotní stav\",1,0)","v":0},{"$f":"IF(dotaznik_data2!$S39=\"ano, nemožnost parkování\",1,0)","v":0},{"$f":"IF(dotaznik_data2!$S39=\"ano, pohodlnost\",1,0)","v":0},{"$f":"IF(dotaznik_data2!$S39=\"ano, kondice\",1,0)","v":0}]
[null,null,null,null,null,null,null,39,{"$f":"IF(dotaznik_data2!$S40=\"ne\",1,0)","v":0},{"$f":"IF(dotaznik_data2!$S40=\"ano, silniční infrastruktura\",1,0)","v":1},{"$f":"IF(dotaznik_data2!$S40=\"ano, zdravotní stav\",1,0)","v":0},{"$f":"IF(dotaznik_data2!$S40=\"ano, nemožnost parkování\",1,0)","v":0},{"$f":"IF(dotaznik_data2!$S40=\"ano, pohodlnost\",1,0)","v":0},{"$f":"IF(dotaznik_data2!$S40=\"ano, kondice\",1,0)","v":0}]
[null,null,null,null,null,null,null,40,{"$f":"IF(dotaznik_data2!$S41=\"ne\",1,0)","v":0},{"$f":"IF(dotaznik_data2!$S41=\"ano, silniční infrastruktura\",1,0)","v":1},{"$f":"IF(dotaznik_data2!$S41=\"ano, zdravotní stav\",1,0)","v":0},{"$f":"IF(dotaznik_data2!$S41=\"ano, nemožnost parkování\",1,0)","v":0},{"$f":"IF(dotaznik_data2!$S41=\"ano, pohodlnost\",1,0)","v":0},{"$f":"IF(dotaznik_data2!$S41=\"ano, kondice\",1,0)","v":0}]
[null,null,null,null,null,null,null,41,{"$f":"IF(dotaznik_data2!$S42=\"ne\",1,0)","v":1},{"$f":"IF(dotaznik_data2!$S42=\"ano, silniční infrastruktura\",1,0)","v":0},{"$f":"IF(dotaznik_data2!$S42=\"ano, zdravotní stav\",1,0)","v":0},{"$f":"IF(dotaznik_data2!$S42=\"ano, nemožnost parkování\",1,0)","v":0},{"$f":"IF(dotaznik_data2!$S42=\"ano, pohodlnost\",1,0)","v":0},{"$f":"IF(dotaznik_data2!$S42=\"ano, kondice\",1,0)","v":0}]
[null,null,null,null,null,null,null,42,{"$f":"IF(dotaznik_data2!$S43=\"ne\",1,0)","v":1},{"$f":"IF(dotaznik_data2!$S43=\"ano, silniční infrastruktura\",1,0)","v":0},{"$f":"IF(dotaznik_data2!$S43=\"ano, zdravotní stav\",1,0)","v":0},{"$f":"IF(dotaznik_data2!$S43=\"ano, nemožnost parkování\",1,0)","v":0},{"$f":"IF(dotaznik_data2!$S43=\"ano, pohodlnost\",1,0)","v":0},{"$f":"IF(dotaznik_data2!$S43=\"ano, kondice\",1,0)","v":0}]
[null,null,null,null,null,null,null,43,{"$f":"IF(dotaznik_data2!$S44=\"ne\",1,0)","v":1},{"$f":"IF(dotaznik_data2!$S44=\"ano, silniční infrastruktura\",1,0)","v":0},{"$f":"IF(dotaznik_data2!$S44=\"ano, zdravotní stav\",1,0)","v":0},{"$f":"IF(dotaznik_data2!$S44=\"ano, nemožnost parkování\",1,0)","v":0},{"$f":"IF(dotaznik_data2!$S44=\"ano, pohodlnost\",1,0)","v":0},{"$f":"IF(dotaznik_data2!$S44=\"ano, kondice\",1,0)","v":0}]
[null,null,null,null,null,null,null,44,{"$f":"IF(dotaznik_data2!$S45=\"ne\",1,0)","v":1},{"$f":"IF(dotaznik_data2!$S45=\"ano, silniční infrastruktura\",1,0)","v":0},{"$f":"IF(dotaznik_data2!$S45=\"ano, zdravotní stav\",1,0)","v":0},{"$f":"IF(dotaznik_data2!$S45=\"ano, nemožnost parkování\",1,0)","v":0},{"$f":"IF(dotaznik_data2!$S45=\"ano, pohodlnost\",1,0)","v":0},{"$f":"IF(dotaznik_data2!$S45=\"ano, kondice\",1,0)","v":0}]
[null,null,null,null,null,null,null,45,{"$f":"IF(dotaznik_data2!$S46=\"ne\",1,0)","v":0},{"$f":"IF(dotaznik_data2!$S46=\"ano, silniční infrastruktura\",1,0)","v":1},{"$f":"IF(dotaznik_data2!$S46=\"ano, zdravotní stav\",1,0)","v":0},{"$f":"IF(dotaznik_data2!$S46=\"ano, nemožnost parkování\",1,0)","v":0},{"$f":"IF(dotaznik_data2!$S46=\"ano, pohodlnost\",1,0)","v":0},{"$f":"IF(dotaznik_data2!$S46=\"ano, kondice\",1,0)","v":0}]
[null,null,null,null,null,null,null,46,{"$f":"IF(dotaznik_data2!$S47=\"ne\",1,0)","v":0},{"$f":"IF(dotaznik_data2!$S47=\"ano, silniční infrastruktura\",1,0)","v":1},{"$f":"IF(dotaznik_data2!$S47=\"ano, zdravotní stav\",1,0)","v":0},{"$f":"IF(dotaznik_data2!$S47=\"ano, nemožnost parkování\",1,0)","v":0},{"$f":"IF(dotaznik_data2!$S47=\"ano, pohodlnost\",1,0)","v":0},{"$f":"IF(dotaznik_data2!$S47=\"ano, kondice\",1,0)","v":0}]
[null,null,null,null,null,null,null,47,{"$f":"IF(dotaznik_data2!$S48=\"ne\",1,0)","v":1},{"$f":"IF(dotaznik_data2!$S48=\"ano, silniční infrastruktura\",1,0)","v":0},{"$f":"IF(dotaznik_data2!$S48=\"ano, zdravotní stav\",1,0)","v":0},{"$f":"IF(dotaznik_data2!$S48=\"ano, nemožnost parkování\",1,0)","v":0},{"$f":"IF(dotaznik_data2!$S48=\"ano, pohodlnost\",1,0)","v":0},{"$f":"IF(dotaznik_data2!$S48=\"ano, kondice\",1,0)","v":0}]
[null,null,null,null,null,null,null,48,{"$f":"IF(dotaznik_data2!$S49=\"ne\",1,0)","v":1},{"$f":"IF(dotaznik_data2!$S49=\"ano, silniční infrastruktura\",1,0)","v":0},{"$f":"IF(dotaznik_data2!$S49=\"ano, zdravotní stav\",1,0)","v":0},{"$f":"IF(dotaznik_data2!$S49=\"ano, nemožnost parkování\",1,0)","v":0},{"$f":"IF(dotaznik_data2!$S49=\"ano, pohodlnost\",1,0)","v":0},{"$f":"IF(dotaznik_data2!$S49=\"ano, kondice\",1,0)","v":0}]
[null,null,null,null,null,null,null,49,{"$f":"IF(dotaznik_data2!$S50=\"ne\",1,0)","v":0},{"$f":"IF(dotaznik_data2!$S50=\"ano, silniční infrastruktura\",1,0)","v":0},{"$f":"IF(dotaznik_data2!$S50=\"ano, zdravotní stav\",1,0)","v":0},{"$f":"IF(dotaznik_data2!$S50=\"ano, nemožnost parkování\",1,0)","v":0},{"$f":"IF(dotaznik_data2!$S50=\"ano, pohodlnost\",1,0)","v":1},{"$f":"IF(dotaznik_data2!$S50=\"ano, kondice\",1,0)","v":0}]
[null,null,null,null,null,null,null,50,{"$f":"IF(dotaznik_data2!$S51=\"ne\",1,0)","v":1},{"$f":"IF(dotaznik_data2!$S51=\"ano, silniční infrastruktura\",1,0)","v":0},{"$f":"IF(dotaznik_data2!$S51=\"ano, zdravotní stav\",1,0)","v":0},{"$f":"IF(dotaznik_data2!$S51=\"ano, nemožnost parkování\",1,0)","v":0},{"$f":"IF(dotaznik_data2!$S51=\"ano, pohodlnost\",1,0)","v":0},{"$f":"IF(dotaznik_data2!$S51=\"ano, kondice\",1,0)","v":0}]
[]
[19,"Jaké benefity podle Vás přináší používání kola místo automobilu?",null,null,null,null,"úspora peněz"]
[null,null,null,null,null,null,"úspora času"]
[null,null,null,null,null,null,"ekologický přínos"]
[null,null,null,null,null,null,"efektivnost (žádné zácpy)","četnost",{"$f":"COUNTIF(I1027:I1076,1)","v":11},{"$f":"COUNTIF(J1027:J1076,1)","v":8},10,17,3]
[null,null,null,null,null,null,"prestiž v dané skupině lidí","odpověď","úspora peněz","úspora času","ekologický přínos","efektivnost (žádné zácpy)","prestiž v dané skupině lidí"]
[null,null,null,null,null,null,"respondent číslo",1,{"$f":"IF(dotaznik_data2!$T2=\"úspora peněz\",1,0)","v":0},{"$f":"IF(dotaznik_data2!$T2=\"úspora času\",1,0)","v":0},{"$f":"IF(dotaznik_data2!$T2=\"ekologický přínos\",1,0)","v":1},{"$f":"IF(dotaznik_data2!$T2=\"efektivnost (žádné zácpy)\",1,0)","v":0},{"$f":"IF(dotaznik_data2!$T2=\"prestiž v dané skupině lidí\",1,0)","v":0}]
[null,null,null,null,null,null,null,2,{"$f":"IF(dotaznik_data2!$T3=\"úspora peněz\",1,0)","v":1},{"$f":"IF(dotaznik_data2!$T3=\"úspora času\",1,0)","v":0},{"$f":"IF(dotaznik_data2!$T3=\"ekologický přínos\",1,0)","v":0},{"$f":"IF(dotaznik_data2!$T3=\"efektivnost (žádné zácpy)\",1,0)","v":0},{"$f":"IF(dotaznik_data2!$T3=\"prestiž v dané skupině lidí\",1,0)","v":0}]
[null,null,null,null,null,null,null,3,{"$f":"IF(dotaznik_data2!$T4=\"úspora peněz\",1,0)","v":0},{"$f":"IF(dotaznik_data2!$T4=\"úspora času\",1,0)","v":0},{"$f":"IF(dotaznik_data2!$T4=\"ekologický přínos\",1,0)","v":1},{"$f":"IF(dotaznik_data2!$T4=\"efektivnost (žádné zácpy)\",1,0)","v":0},{"$f":"IF(dotaznik_data2!$T4=\"prestiž v dané skupině lidí\",1,0)","v":0}]
[null,null,null,null,null,null,null,4,{"$f":"IF(dotaznik_data2!$T5=\"úspora peněz\",1,0)","v":0},{"$f":"IF(dotaznik_data2!$T5=\"úspora času\",1,0)","v":1},{"$f":"IF(dotaznik_data2!$T5=\"ekologický přínos\",1,0)","v":0},{"$f":"IF(dotaznik_data2!$T5=\"efektivnost (žádné zácpy)\",1,0)","v":0},{"$f":"IF(dotaznik_data2!$T5=\"prestiž v dané skupině lidí\",1,0)","v":0}]
[null,null,null,null,null,null,null,5,{"$f":"IF(dotaznik_data2!$T6=\"úspora peněz\",1,0)","v":0},{"$f":"IF(dotaznik_data2!$T6=\"úspora času\",1,0)","v":0},{"$f":"IF(dotaznik_data2!$T6=\"ekologický přínos\",1,0)","v":0},{"$f":"IF(dotaznik_data2!$T6=\"efektivnost (žádné zácpy)\",1,0)","v":0},{"$f":"IF(dotaznik_data2!$T6=\"prestiž v dané skupině lidí\",1,0)","v":1}]
[null,null,null,null,null,null,null,6,{"$f":"IF(dotaznik_data2!$T7=\"úspora peněz\",1,0)","v":0},{"$f":"IF(dotaznik_data2!$T7=\"úspora času\",1,0)","v":0},{"$f":"IF(dotaznik_data2!$T7=\"ekologický přínos\",1,0)","v":1},{"$f":"IF(dotaznik_data2!$T7=\"efektivnost (žádné zácpy)\",1,0)","v":0},{"$f":"IF(dotaznik_data2!$T7=\"prestiž v dané skupině lidí\",1,0)","v":0}]
[null,null,null,null,null,null,null,7,{"$f":"IF(dotaznik_data2!$T8=\"úspora peněz\",1,0)","v":0},{"$f":"IF(dotaznik_data2!$T8=\"úspora času\",1,0)","v":0},{"$f":"IF(dotaznik_data2!$T8=\"ekologický přínos\",1,0)","v":0},{"$f":"IF(dotaznik_data2!$T8=\"efektivnost (žádné zácpy)\",1,0)","v":1},{"$f":"IF(dotaznik_data2!$T8=\"prestiž v dané skupině lidí\",1,0)","v":0}]
[null,null,null,null,null,null,null,8,{"$f":"IF(dotaznik_data2!$T9=\"úspora peněz\",1,0)","v":0},{"$f":"IF(dotaznik_data2!$T9=\"úspora času\",1,0)","v":0},{"$f":"IF(dotaznik_data2!$T9=\"ekologický přínos\",1,0)","v":0},{"$f":"IF(dotaznik_data2!$T9=\"efektivnost (žádné zácpy)\",1,0)","v":1},{"$f":"IF(dotaznik_data2!$T9=\"prestiž v dané skupině lidí\",1,0)","v":0}]
[null,null,null,null,null,null,null,9,{"$f":"IF(dotaznik_data2!$T10=\"úspora peněz\",1,0)","v":0},{"$f":"IF(dotaznik_data2!$T10=\"úspora času\",1,0)","v":0},{"$f":"IF(dotaznik_data2!$T10=\"ekologický přínos\",1,0)","v":0},{"$f":"IF(dotaznik_data2!$T10=\"efektivnost (žádné zácpy)\",1,0)","v":1},{"$f":"IF(dotaznik_data2!$T10=\"prestiž v dané skupině lidí\",1,0)","v":0}]
[null,null,null,null,null,null,null,10,{"$f":"IF(dotaznik_data2!$T11=\"úspora peněz\",1,0)","v":0},{"$f":"IF(dotaznik_data2!$T11=\"úspora času\",1,0)","v":0},{"$f":"IF(dotaznik_data2!$T11=\"ekologický přínos\",1,0)","v":1},{"$f":"IF(dotaznik_data2!$T11=\"efektivnost (žádné zácpy)\",1,0)","v":0},{"$f":"IF(dotaznik_data2!$T11=\"prestiž v dané skupině lidí\",1,0)","v":0}]
[null,null,null,null,null,null,null,11,{"$f":"IF(dotaznik_data2!$T12=\"úspora peněz\",1,0)","v":0},{"$f":"IF(dotaznik_data2!$T12=\"úspora času\",1,0)","v":0},{"$f":"IF(dotaznik_data2!$T12=\"ekologický přínos\",1,0)","v":0},{"$f":"IF(dotaznik_data2!$T12=\"efektivnost (žádné zácpy)\",1,0)","v":1},{"$f":"IF(dotaznik_data2!$T12=\"prestiž v dané skupině lidí\",1,0)","v":0}]
[null,null,null,null,null,null,null,12,{"$f":"IF(dotaznik_data2!$T13=\"úspora peněz\",1,0)","v":0},{"$f":"IF(dotaznik_data2!$T13=\"úspora času\",1,0)","v":0},{"$f":"IF(dotaznik_data2!$T13=\"ekologický přínos\",1,0)","v":0},{"$f":"IF(dotaznik_data2!$T13=\"efektivnost (žádné zácpy)\",1,0)","v":1},{"$f":"IF(dotaznik_data2!$T13=\"prestiž v dané skupině lidí\",1,0)","v":0}]
[null,null,null,null,null,null,null,13,{"$f":"IF(dotaznik_data2!$T14=\"úspora peněz\",1,0)","v":0},{"$f":"IF(dotaznik_data2!$T14=\"úspora času\",1,0)","v":1},{"$f":"IF(dotaznik_data2!$T14=\"ekologický přínos\",1,0)","v":0},{"$f":"IF(dotaznik_data2!$T14=\"efektivnost (žádné zácpy)\",1,0)","v":0},{"$f":"IF(dotaznik_data2!$T14=\"prestiž v dané skupině lidí\",1,0)","v":0}]
[null,null,null,null,null,null,null,14,{"$f":"IF(dotaznik_data2!$T15=\"úspora peněz\",1,0)","v":0},{"$f":"IF(dotaznik_data2!$T15=\"úspora času\",1,0)","v":0},{"$f":"IF(dotaznik_data2!$T15=\"ekologický přínos\",1,0)","v":0},{"$f":"IF(dotaznik_data2!$T15=\"efektivnost (žádné zácpy)\",1,0)","v":1},{"$f":"IF(dotaznik_data2!$T15=\"prestiž v dané skupině lidí\",1,0)","v":0}]
[null,null,null,null,null,null,null,15,{"$f":"IF(dotaznik_data2!$T16=\"úspora peněz\",1,0)","v":0},{"$f":"IF(dotaznik_data2!$T16=\"úspora času\",1,0)","v":0},{"$f":"IF(dotaznik_data2!$T16=\"ekologický přínos\",1,0)","v":0},{"$f":"IF(dotaznik_data2!$T16=\"efektivnost (žádné zácpy)\",1,0)","v":1},{"$f":"IF(dotaznik_data2!$T16=\"prestiž v dané skupině lidí\",1,0)","v":0}]
[null,null,null,null,null,null,null,16,{"$f":"IF(dotaznik_data2!$T17=\"úspora peněz\",1,0)","v":0},{"$f":"IF(dotaznik_data2!$T17=\"úspora času\",1,0)","v":0},{"$f":"IF(dotaznik_data2!$T17=\"ekologický přínos\",1,0)","v":0},{"$f":"IF(dotaznik_data2!$T17=\"efektivnost (žádné zácpy)\",1,0)","v":1},{"$f":"IF(dotaznik_data2!$T17=\"prestiž v dané skupině lidí\",1,0)","v":0}]
[null,null,null,null,null,null,null,17,{"$f":"IF(dotaznik_data2!$T18=\"úspora peněz\",1,0)","v":0},{"$f":"IF(dotaznik_data2!$T18=\"úspora času\",1,0)","v":1},{"$f":"IF(dotaznik_data2!$T18=\"ekologický přínos\",1,0)","v":0},{"$f":"IF(dotaznik_data2!$T18=\"efektivnost (žádné zácpy)\",1,0)","v":0},{"$f":"IF(dotaznik_data2!$T18=\"prestiž v dané skupině lidí\",1,0)","v":0}]
[null,null,null,null,null,null,null,18,{"$f":"IF(dotaznik_data2!$T19=\"úspora peněz\",1,0)","v":0},{"$f":"IF(dotaznik_data2!$T19=\"úspora času\",1,0)","v":0},{"$f":"IF(dotaznik_data2!$T19=\"ekologický přínos\",1,0)","v":0},{"$f":"IF(dotaznik_data2!$T19=\"efektivnost (žádné zácpy)\",1,0)","v":0},{"$f":"IF(dotaznik_data2!$T19=\"prestiž v dané skupině lidí\",1,0)","v":1}]
[null,null,null,null,null,null,null,19,{"$f":"IF(dotaznik_data2!$T20=\"úspora peněz\",1,0)","v":0},{"$f":"IF(dotaznik_data2!$T20=\"úspora času\",1,0)","v":0},{"$f":"IF(dotaznik_data2!$T20=\"ekologický přínos\",1,0)","v":0},{"$f":"IF(dotaznik_data2!$T20=\"efektivnost (žádné zácpy)\",1,0)","v":1},{"$f":"IF(dotaznik_data2!$T20=\"prestiž v dané skupině lidí\",1,0)","v":0}]
[null,null,null,null,null,null,null,20,{"$f":"IF(dotaznik_data2!$T21=\"úspora peněz\",1,0)","v":0},{"$f":"IF(dotaznik_data2!$T21=\"úspora času\",1,0)","v":0},{"$f":"IF(dotaznik_data2!$T21=\"ekologický přínos\",1,0)","v":0},{"$f":"IF(dotaznik_data2!$T21=\"efektivnost (žádné zácpy)\",1,0)","v":1},{"$f":"IF(dotaznik_data2!$T21=\"prestiž v dané skupině lidí\",1,0)","v":0}]
[null,null,null,null,null,null,null,21,{"$f":"IF(dotaznik_data2!$T22=\"úspora peněz\",1,0)","v":1},{"$f":"IF(dotaznik_data2!$T22=\"úspora času\",1,0)","v":0},{"$f":"IF(dotaznik_data2!$T22=\"ekologický přínos\",1,0)","v":0},{"$f":"IF(dotaznik_data2!$T22=\"efektivnost (žádné zácpy)\",1,0)","v":0},{"$f":"IF(dotaznik_data2!$T22=\"prestiž v dané skupině lidí\",1,0)","v":0}]
[null,null,null,null,null,null,null,22,{"$f":"IF(dotaznik_data2!$T23=\"úspora peněz\",1,0)","v":0},{"$f":"IF(dotaznik_data2!$T23=\"úspora času\",1,0)","v":1},{"$f":"IF(dotaznik_data2!$T23=\"ekologický přínos\",1,0)","v":0},{"$f":"IF(dotaznik_data2!$T23=\"efektivnost (žádné zácpy)\",1,0)","v":0},{"$f":"IF(dotaznik_data2!$T23=\"prestiž v dané skupině lidí\",1,0)","v":0}]
[null,null,null,null,null,null,null,23,{"$f":"IF(dotaznik_data2!$T24=\"úspora peněz\",1,0)","v":0},{"$f":"IF(dotaznik_data2!$T24=\"úspora času\",1,0)","v":1},{"$f":"IF(dotaznik_data2!$T24=\"ekologický přínos\",1,0)","v":0},{"$f":"IF(dotaznik_data2!$T24=\"efektivnost (žádné zácpy)\",1,0)","v":0},{"$f":"IF(dotaznik_data2!$T24=\"prestiž v dané skupině lidí\",1,0)","v":0}]
[null,null,null,null,null,null,null,24,{"$f":"IF(dotaznik_data2!$T25=\"úspora peněz\",1,0)","v":0},{"$f":"IF(dotaznik_data2!$T25=\"úspora času\",1,0)","v":0},{"$f":"IF(dotaznik_data2!$T25=\"ekologický přínos\",1,0)","v":0},{"$f":"IF(dotaznik_data2!$T25=\"efektivnost (žádné zácpy)\",1,0)","v":1},{"$f":"IF(dotaznik_data2!$T25=\"prestiž v dané skupině lidí\",1,0)","v":0}]
[null,null,null,null,null,null,null,25,{"$f":"IF(dotaznik_data2!$T26=\"úspora peněz\",1,0)","v":0},{"$f":"IF(dotaznik_data2!$T26=\"úspora času\",1,0)","v":0},{"$f":"IF(dotaznik_data2!$T26=\"ekologický přínos\",1,0)","v":0},{"$f":"IF(dotaznik_data2!$T26=\"efektivnost (žádné zácpy)\",1,0)","v":0},{"$f":"IF(dotaznik_data2!$T26=\"prestiž v dané skupině lidí\",1,0)","v":0}]
[null,null,null,null,null,null,null,26,{"$f":"IF(dotaznik_data2!$T27=\"úspora peněz\",1,0)","v":0},{"$f":"IF(dotaznik_data2!$T27=\"úspora času\",1,0)","v":0},{"$f":"IF(dotaznik_data2!$T27=\"ekologický přínos\",1,0)","v":1},{"$f":"IF(dotaznik_data2!$T27=\"efektivnost (žádné zácpy)\",1,0)","v":0},{"$f":"IF(dotaznik_data2!$T27=\"prestiž v dané skupině lidí\",1,0)","v":0}]
[null,null,null,null,null,null,null,27,{"$f":"IF(dotaznik_data2!$T28=\"úspora peněz\",1,0)","v":0},{"$f":"IF(dotaznik_data2!$T28=\"úspora času\",1,0)","v":0},{"$f":"IF(dotaznik_data2!$T28=\"ekologický přínos\",1,0)","v":0},{"$f":"IF(dotaznik_data2!$T28=\"efektivnost (žádné zácpy)\",1,0)","v":1},{"$f":"IF(dotaznik_data2!$T28=\"prestiž v dané skupině lidí\",1,0)","v":0}]
[null,null,null,null,null,null,null,28,{"$f":"IF(dotaznik_data2!$T29=\"úspora peněz\",1,0)","v":0},{"$f":"IF(dotaznik_data2!$T29=\"úspora času\",1,0)","v":1},{"$f":"IF(dotaznik_data2!$T29=\"ekologický přínos\",1,0)","v":0},{"$f":"IF(dotaznik_data2!$T29=\"efektivnost (žádné zácpy)\",1,0)","v":0},{"$f":"IF(dotaznik_data2!$T29=\"prestiž v dané skupině lidí\",1,0)","v":0}]
[null,null,null,null,null,null,null,29,{"$f":"IF(dotaznik_data2!$T30=\"úspora peněz\",1,0)","v":1},{"$f":"IF(dotaznik_data2!$T30=\"úspora času\",1,0)","v":0},{"$f":"IF(dotaznik_data2!$T30=\"ekologický přínos\",1,0)","v":0},{"$f":"IF(dotaznik_data2!$T30=\"efektivnost (žádné zácpy)\",1,0)","v":0},{"$f":"IF(dotaznik_data2!$T30=\"prestiž v dané skupině lidí\",1,0)","v":0}]
[null,null,null,null,null,null,null,30,{"$f":"IF(dotaznik_data2!$T31=\"úspora peněz\",1,0)","v":0},{"$f":"IF(dotaznik_data2!$T31=\"úspora času\",1,0)","v":0},{"$f":"IF(dotaznik_data2!$T31=\"ekologický přínos\",1,0)","v":0},{"$f":"IF(dotaznik_data2!$T31=\"efektivnost (žádné zácpy)\",1,0)","v":1},{"$f":"IF(dotaznik_data2!$T31=\"prestiž v dané skupině lidí\",1,0)","v":0}]
[null,null,null,null,null,null,null,31,{"$f":"IF(dotaznik_data2!$T32=\"úspora peněz\",1,0)","v":1},{"$f":"IF(dotaznik_data2!$T32=\"úspora času\",1,0)","v":0},{"$f":"IF(dotaznik_data2!$T32=\"ekologický přínos\",1,0)","v":0},{"$f":"IF(dotaznik_data2!$T32=\"efektivnost (žádné zácpy)\",1,0)","v":0},{"$f":"IF(dotaznik_data2!$T32=\"prestiž v dané skupině lidí\",1,0)","v":0}]
[null,null,null,null,null,null,null,32,{"$f":"IF(dotaznik_data2!$T33=\"úspora peněz\",1,0)","v":1},{"$f":"IF(dotaznik_data2!$T33=\"úspora času\",1,0)","v":0},{"$f":"IF(dotaznik_data2!$T33=\"ekologický přínos\",1,0)","v":0},{"$f":"IF(dotaznik_data2!$T33=\"efektivnost (žádné zácpy)\",1,0)","v":0},{"$f":"IF(dotaznik_data2!$T33=\"prestiž v dané skupině lidí\",1,0)","v":0}]
[null,null,null,null,null,null,null,33,{"$f":"IF(dotaznik_data2!$T34=\"úspora peněz\",1,0)","v":1},{"$f":"IF(dotaznik_data2!$T34=\"úspora času\",1,0)","v":0},{"$f":"IF(dotaznik_data2!$T34=\"ekologický přínos\",1,0)","v":0},{"$f":"IF(dotaznik_data2!$T34=\"efektivnost (žádné zácpy)\",1,0)","v":0},{"$f":"IF(dotaznik_data2!$T34=\"prestiž v dané skupině lidí\",1,0)","v":0}]
[null,null,null,null,null,null,null,34,{"$f":"IF(dotaznik_data2!$T35=\"úspora peněz\",1,0)","v":0},{"$f":"IF(dotaznik_data2!$T35=\"úspora času\",1,0)","v":1},{"$f":"IF(dotaznik_data2!$T35=\"ekologický přínos\",1,0)","v":0},{"$f":"IF(dotaznik_data2!$T35=\"efektivnost (žádné zácpy)\",1,0)","v":0},{"$f":"IF(dotaznik_data2!$T35=\"prestiž v dané skupině lidí\",1,0)","v":0}]
[null,null,null,null,null,null,null,35,{"$f":"IF(dotaznik_data2!$T36=\"úspora peněz\",1,0)","v":0},{"$f":"IF(dotaznik_data2!$T36=\"úspora času\",1,0)","v":1},{"$f":"IF(dotaznik_data2!$T36=\"ekologický přínos\",1,0)","v":0},{"$f":"IF(dotaznik_data2!$T36=\"efektivnost (žádné zácpy)\",1,0)","v":0},{"$f":"IF(dotaznik_data2!$T36=\"prestiž v dané skupině lidí\",1,0)","v":0}]
[null,null,null,null,null,null,null,36,{"$f":"IF(dotaznik_data2!$T37=\"úspora peněz\",1,0)","v":1},{"$f":"IF(dotaznik_data2!$T37=\"úspora času\",1,0)","v":0},{"$f":"IF(dotaznik_data2!$T37=\"ekologický přínos\",1,0)","v":0},{"$f":"IF(dotaznik_data2!$T37=\"efektivnost (žádné zácpy)\",1,0)","v":0},{"$f":"IF(dotaznik_data2!$T37=\"prestiž v dané skupině lidí\",1,0)","v":0}]
[null,null,null,null,null,null,null,37,{"$f":"IF(dotaznik_data2!$T38=\"úspora peněz\",1,0)","v":0},{"$f":"IF(dotaznik_data2!$T38=\"úspora času\",1,0)","v":0},{"$f":"IF(dotaznik_data2!$T38=\"ekologický přínos\",1,0)","v":1},{"$f":"IF(dotaznik_data2!$T38=\"efektivnost (žádné zácpy)\",1,0)","v":0},{"$f":"IF(dotaznik_data2!$T38=\"prestiž v dané skupině lidí\",1,0)","v":0}]
[null,null,null,null,null,null,null,38,{"$f":"IF(dotaznik_data2!$T39=\"úspora peněz\",1,0)","v":1},{"$f":"IF(dotaznik_data2!$T39=\"úspora času\",1,0)","v":0},{"$f":"IF(dotaznik_data2!$T39=\"ekologický přínos\",1,0)","v":0},{"$f":"IF(dotaznik_data2!$T39=\"efektivnost (žádné zácpy)\",1,0)","v":0},{"$f":"IF(dotaznik_data2!$T39=\"prestiž v dané skupině lidí\",1,0)","v":0}]
[null,null,null,null,null,null,null,39,{"$f":"IF(dotaznik_data2!$T40=\"úspora peněz\",1,0)","v":0},{"$f":"IF(dotaznik_data2!$T40=\"úspora času\",1,0)","v":0},{"$f":"IF(dotaznik_data2!$T40=\"ekologický přínos\",1,0)","v":1},{"$f":"IF(dotaznik_data2!$T40=\"efektivnost (žádné zácpy)\",1,0)","v":0},{"$f":"IF(dotaznik_data2!$T40=\"prestiž v dané skupině lidí\",1,0)","v":0}]
[null,null,null,null,null,null,null,40,{"$f":"IF(dotaznik_data2!$T41=\"úspora peněz\",1,0)","v":0},{"$f":"IF(dotaznik_data2!$T41=\"úspora času\",1,0)","v":0},{"$f":"IF(dotaznik_data2!$T41=\"ekologický přínos\",1,0)","v":0},{"$f":"IF(dotaznik_data2!$T41=\"efektivnost (žádné zácpy)\",1,0)","v":1},{"$f":"IF(dotaznik_data2!$T41=\"prestiž v dané skupině lidí\",1,0)","v":0}]
[null,null,null,null,null,null,null,41,{"$f":"IF(dotaznik_data2!$T42=\"úspora peněz\",1,0)","v":1},{"$f":"IF(dotaznik_data2!$T42=\"úspora času\",1,0)","v":0},{"$f":"IF(dotaznik_data2!$T42=\"ekologický přínos\",1,0)","v":0},{"$f":"IF(dotaznik_data2!$T42=\"efektivnost (žádné zácpy)\",1,0)","v":0},{"$f":"IF(dotaznik_data2!$T42=\"prestiž v dané skupině lidí\",1,0)","v":0}]
[null,null,null,null,null,null,null,42,{"$f":"IF(dotaznik_data2!$T43=\"úspora peněz\",1,0)","v":0},{"$f":"IF(dotaznik_data2!$T43=\"úspora času\",1,0)","v":0},{"$f":"IF(dotaznik_data2!$T43=\"ekologický přínos\",1,0)","v":1},{"$f":"IF(dotaznik_data2!$T43=\"efektivnost (žádné zácpy)\",1,0)","v":0},{"$f":"IF(dotaznik_data2!$T43=\"prestiž v dané skupině lidí\",1,0)","v":0}]
[null,null,null,null,null,null,null,43,{"$f":"IF(dotaznik_data2!$T44=\"úspora peněz\",1,0)","v":0},{"$f":"IF(dotaznik_data2!$T44=\"úspora času\",1,0)","v":0},{"$f":"IF(dotaznik_data2!$T44=\"ekologický přínos\",1,0)","v":1},{"$f":"IF(dotaznik_data2!$T44=\"efektivnost (žádné zácpy)\",1,0)","v":0},{"$f":"IF(dotaznik_data2!$T44=\"prestiž v dané skupině lidí\",1,0)","v":0}]
[null,null,null,null,null,null,null,44,{"$f":"IF(dotaznik_data2!$T45=\"úspora peněz\",1,0)","v":1},{"$f":"IF(dotaznik_data2!$T45=\"úspora času\",1,0)","v":0},{"$f":"IF(dotaznik_data2!$T45=\"ekologický přínos\",1,0)","v":0},{"$f":"IF(dotaznik_data2!$T45=\"efektivnost (žádné zácpy)\",1,0)","v":0},{"$f":"IF(dotaznik_data2!$T45=\"prestiž v dané skupině lidí\",1,0)","v":0}]
[null,null,null,null,null,null,null,45,{"$f":"IF(dotaznik_data2!$T46=\"úspora peněz\",1,0)","v":0},{"$f":"IF(dotaznik_data2!$T46=\"úspora času\",1,0)","v":0},{"$f":"IF(dotaznik_data2!$T46=\"ekologický přínos\",1,0)","v":0},{"$f":"IF(dotaznik_data2!$T46=\"efektivnost (žádné zácpy)\",1,0)","v":0},{"$f":"IF(dotaznik_data2!$T46=\"prestiž v dané skupině lidí\",1,0)","v":1}]
[null,null,null,null,null,null,null,46,{"$f":"IF(dotaznik_data2!$T47=\"úspora peněz\",1,0)","v":0},{"$f":"IF(dotaznik_data2!$T47=\"úspora času\",1,0)","v":0},{"$f":"IF(dotaznik_data2!$T47=\"ekologický přínos\",1,0)","v":1},{"$f":"IF(dotaznik_data2!$T47=\"efektivnost (žádné zácpy)\",1,0)","v":0},{"$f":"IF(dotaznik_data2!$T47=\"prestiž v dané skupině lidí\",1,0)","v":0}]
[null,null,null,null,null,null,null,47,{"$f":"IF(dotaznik_data2!$T48=\"úspora peněz\",1,0)","v":0},{"$f":"IF(dotaznik_data2!$T48=\"úspora času\",1,0)","v":0},{"$f":"IF(dotaznik_data2!$T48=\"ekologický přínos\",1,0)","v":0},{"$f":"IF(dotaznik_data2!$T48=\"efektivnost (žádné zácpy)\",1,0)","v":1},{"$f":"IF(dotaznik_data2!$T48=\"prestiž v dané skupině lidí\",1,0)","v":0}]
[null,null,null,null,null,null,null,48,{"$f":"IF(dotaznik_data2!$T49=\"úspora peněz\",1,0)","v":0},{"$f":"IF(dotaznik_data2!$T49=\"úspora času\",1,0)","v":0},{"$f":"IF(dotaznik_data2!$T49=\"ekologický přínos\",1,0)","v":0},{"$f":"IF(dotaznik_data2!$T49=\"efektivnost (žádné zácpy)\",1,0)","v":1},{"$f":"IF(dotaznik_data2!$T49=\"prestiž v dané skupině lidí\",1,0)","v":0}]
[null,null,null,null,null,null,null,49,{"$f":"IF(dotaznik_data2!$T50=\"úspora peněz\",1,0)","v":1},{"$f":"IF(dotaznik_data2!$T50=\"úspora času\",1,0)","v":0},{"$f":"IF(dotaznik_data2!$T50=\"ekologický přínos\",1,0)","v":0},{"$f":"IF(dotaznik_data2!$T50=\"efektivnost (žádné zácpy)\",1,0)","v":0},{"$f":"IF(dotaznik_data2!$T50=\"prestiž v dané skupině lidí\",1,0)","v":0}]
[null,null,null,null,null,null,null,50,{"$f":"IF(dotaznik_data2!$T51=\"úspora peněz\",1,0)","v":0},{"$f":"IF(dotaznik_data2!$T51=\"úspora času\",1,0)","v":0},{"$f":"IF(dotaznik_data2!$T51=\"ekologický přínos\",1,0)","v":0},{"$f":"IF(dotaznik_data2!$T51=\"efektivnost (žádné zácpy)\",1,0)","v":1},{"$f":"IF(dotaznik_data2!$T51=\"prestiž v dané skupině lidí\",1,0)","v":0}]
[]
[20,"Jaký nejdůležitější užitek plyne z Vašeho vlastnictví kola?",null,null,null,null,"úspora peněz"]
[null,null,null,null,null,null,"úspora času"]
[null,null,null,null,null,null,"ekologický přínos"]
[null,null,null,null,null,null,"prestiž v dané skupině lidí"]
[null,null,null,null,null,null,"sportovní vyžití"]
[null,null,null,null,null,null,"snadné cestování","četnost",{"$f":"COUNTIF(I1085:I1134,1)","v":0},{"$f":"COUNTIF(J1085:J1134,1)","v":1},0,5,20,0,20]
[null,null,null,null,null,null,"dobrý pocit","odpověď","úspora peněz","úspora času","ekologický přínos","prestiž v dané skupině lidí","sportovní vyžití","snadné cestování","dobrý pocit"]
[null,null,null,null,null,null,"respondent číslo",1,{"$f":"IF(dotaznik_data2!$U2=\"úspora peněz\",1,0)","v":0},{"$f":"IF(dotaznik_data2!$U2=\"úspora času\",1,0)","v":0},{"$f":"IF(dotaznik_data2!$U2=\"ekologický přínos\",1,0)","v":0},{"$f":"IF(dotaznik_data2!$U2=\"prestiž v dané skupině lidí\",1,0)","v":0},{"$f":"IF(dotaznik_data2!$U2=\"sportovní vyžití\",1,0)","v":0},{"$f":"IF(dotaznik_data2!$U2=\"snadné cestování\",1,0)","v":0},{"$f":"IF(dotaznik_data2!$U2=\"dobrý pocit\",1,0)","v":1}]
[null,null,null,null,null,null,null,2,{"$f":"IF(dotaznik_data2!$U3=\"úspora peněz\",1,0)","v":0},{"$f":"IF(dotaznik_data2!$U3=\"úspora času\",1,0)","v":0},{"$f":"IF(dotaznik_data2!$U3=\"ekologický přínos\",1,0)","v":0},{"$f":"IF(dotaznik_data2!$U3=\"prestiž v dané skupině lidí\",1,0)","v":0},{"$f":"IF(dotaznik_data2!$U3=\"sportovní vyžití\",1,0)","v":0},{"$f":"IF(dotaznik_data2!$U3=\"snadné cestování\",1,0)","v":0},{"$f":"IF(dotaznik_data2!$U3=\"dobrý pocit\",1,0)","v":1}]
[null,null,null,null,null,null,null,3,{"$f":"IF(dotaznik_data2!$U4=\"úspora peněz\",1,0)","v":0},{"$f":"IF(dotaznik_data2!$U4=\"úspora času\",1,0)","v":0},{"$f":"IF(dotaznik_data2!$U4=\"ekologický přínos\",1,0)","v":0},{"$f":"IF(dotaznik_data2!$U4=\"prestiž v dané skupině lidí\",1,0)","v":0},{"$f":"IF(dotaznik_data2!$U4=\"sportovní vyžití\",1,0)","v":1},{"$f":"IF(dotaznik_data2!$U4=\"snadné cestování\",1,0)","v":0},{"$f":"IF(dotaznik_data2!$U4=\"dobrý pocit\",1,0)","v":0}]
[null,null,null,null,null,null,null,4,{"$f":"IF(dotaznik_data2!$U5=\"úspora peněz\",1,0)","v":0},{"$f":"IF(dotaznik_data2!$U5=\"úspora času\",1,0)","v":1},{"$f":"IF(dotaznik_data2!$U5=\"ekologický přínos\",1,0)","v":0},{"$f":"IF(dotaznik_data2!$U5=\"prestiž v dané skupině lidí\",1,0)","v":0},{"$f":"IF(dotaznik_data2!$U5=\"sportovní vyžití\",1,0)","v":0},{"$f":"IF(dotaznik_data2!$U5=\"snadné cestování\",1,0)","v":0},{"$f":"IF(dotaznik_data2!$U5=\"dobrý pocit\",1,0)","v":0}]
[null,null,null,null,null,null,null,5,{"$f":"IF(dotaznik_data2!$U6=\"úspora peněz\",1,0)","v":0},{"$f":"IF(dotaznik_data2!$U6=\"úspora času\",1,0)","v":0},{"$f":"IF(dotaznik_data2!$U6=\"ekologický přínos\",1,0)","v":0},{"$f":"IF(dotaznik_data2!$U6=\"prestiž v dané skupině lidí\",1,0)","v":0},{"$f":"IF(dotaznik_data2!$U6=\"sportovní vyžití\",1,0)","v":1},{"$f":"IF(dotaznik_data2!$U6=\"snadné cestování\",1,0)","v":0},{"$f":"IF(dotaznik_data2!$U6=\"dobrý pocit\",1,0)","v":0}]
[null,null,null,null,null,null,null,6,{"$f":"IF(dotaznik_data2!$U7=\"úspora peněz\",1,0)","v":0},{"$f":"IF(dotaznik_data2!$U7=\"úspora času\",1,0)","v":0},{"$f":"IF(dotaznik_data2!$U7=\"ekologický přínos\",1,0)","v":0},{"$f":"IF(dotaznik_data2!$U7=\"prestiž v dané skupině lidí\",1,0)","v":0},{"$f":"IF(dotaznik_data2!$U7=\"sportovní vyžití\",1,0)","v":0},{"$f":"IF(dotaznik_data2!$U7=\"snadné cestování\",1,0)","v":0},{"$f":"IF(dotaznik_data2!$U7=\"dobrý pocit\",1,0)","v":1}]
[null,null,null,null,null,null,null,7,{"$f":"IF(dotaznik_data2!$U8=\"úspora peněz\",1,0)","v":0},{"$f":"IF(dotaznik_data2!$U8=\"úspora času\",1,0)","v":0},{"$f":"IF(dotaznik_data2!$U8=\"ekologický přínos\",1,0)","v":0},{"$f":"IF(dotaznik_data2!$U8=\"prestiž v dané skupině lidí\",1,0)","v":0},{"$f":"IF(dotaznik_data2!$U8=\"sportovní vyžití\",1,0)","v":0},{"$f":"IF(dotaznik_data2!$U8=\"snadné cestování\",1,0)","v":0},{"$f":"IF(dotaznik_data2!$U8=\"dobrý pocit\",1,0)","v":1}]
[null,null,null,null,null,null,null,8,{"$f":"IF(dotaznik_data2!$U9=\"úspora peněz\",1,0)","v":0},{"$f":"IF(dotaznik_data2!$U9=\"úspora času\",1,0)","v":0},{"$f":"IF(dotaznik_data2!$U9=\"ekologický přínos\",1,0)","v":0},{"$f":"IF(dotaznik_data2!$U9=\"prestiž v dané skupině lidí\",1,0)","v":0},{"$f":"IF(dotaznik_data2!$U9=\"sportovní vyžití\",1,0)","v":0},{"$f":"IF(dotaznik_data2!$U9=\"snadné cestování\",1,0)","v":0},{"$f":"IF(dotaznik_data2!$U9=\"dobrý pocit\",1,0)","v":1}]
[null,null,null,null,null,null,null,9,{"$f":"IF(dotaznik_data2!$U10=\"úspora peněz\",1,0)","v":0},{"$f":"IF(dotaznik_data2!$U10=\"úspora času\",1,0)","v":0},{"$f":"IF(dotaznik_data2!$U10=\"ekologický přínos\",1,0)","v":0},{"$f":"IF(dotaznik_data2!$U10=\"prestiž v dané skupině lidí\",1,0)","v":0},{"$f":"IF(dotaznik_data2!$U10=\"sportovní vyžití\",1,0)","v":0},{"$f":"IF(dotaznik_data2!$U10=\"snadné cestování\",1,0)","v":0},{"$f":"IF(dotaznik_data2!$U10=\"dobrý pocit\",1,0)","v":0}]
[null,null,null,null,null,null,null,10,{"$f":"IF(dotaznik_data2!$U11=\"úspora peněz\",1,0)","v":0},{"$f":"IF(dotaznik_data2!$U11=\"úspora času\",1,0)","v":0},{"$f":"IF(dotaznik_data2!$U11=\"ekologický přínos\",1,0)","v":0},{"$f":"IF(dotaznik_data2!$U11=\"prestiž v dané skupině lidí\",1,0)","v":0},{"$f":"IF(dotaznik_data2!$U11=\"sportovní vyžití\",1,0)","v":1},{"$f":"IF(dotaznik_data2!$U11=\"snadné cestování\",1,0)","v":0},{"$f":"IF(dotaznik_data2!$U11=\"dobrý pocit\",1,0)","v":0}]
[null,null,null,null,null,null,null,11,{"$f":"IF(dotaznik_data2!$U12=\"úspora peněz\",1,0)","v":0},{"$f":"IF(dotaznik_data2!$U12=\"úspora času\",1,0)","v":0},{"$f":"IF(dotaznik_data2!$U12=\"ekologický přínos\",1,0)","v":0},{"$f":"IF(dotaznik_data2!$U12=\"prestiž v dané skupině lidí\",1,0)","v":0},{"$f":"IF(dotaznik_data2!$U12=\"sportovní vyžití\",1,0)","v":0},{"$f":"IF(dotaznik_data2!$U12=\"snadné cestování\",1,0)","v":0},{"$f":"IF(dotaznik_data2!$U12=\"dobrý pocit\",1,0)","v":1}]
[null,null,null,null,null,null,null,12,{"$f":"IF(dotaznik_data2!$U13=\"úspora peněz\",1,0)","v":0},{"$f":"IF(dotaznik_data2!$U13=\"úspora času\",1,0)","v":0},{"$f":"IF(dotaznik_data2!$U13=\"ekologický přínos\",1,0)","v":0},{"$f":"IF(dotaznik_data2!$U13=\"prestiž v dané skupině lidí\",1,0)","v":0},{"$f":"IF(dotaznik_data2!$U13=\"sportovní vyžití\",1,0)","v":1},{"$f":"IF(dotaznik_data2!$U13=\"snadné cestování\",1,0)","v":0},{"$f":"IF(dotaznik_data2!$U13=\"dobrý pocit\",1,0)","v":0}]
[null,null,null,null,null,null,null,13,{"$f":"IF(dotaznik_data2!$U14=\"úspora peněz\",1,0)","v":0},{"$f":"IF(dotaznik_data2!$U14=\"úspora času\",1,0)","v":0},{"$f":"IF(dotaznik_data2!$U14=\"ekologický přínos\",1,0)","v":0},{"$f":"IF(dotaznik_data2!$U14=\"prestiž v dané skupině lidí\",1,0)","v":0},{"$f":"IF(dotaznik_data2!$U14=\"sportovní vyžití\",1,0)","v":0},{"$f":"IF(dotaznik_data2!$U14=\"snadné cestování\",1,0)","v":0},{"$f":"IF(dotaznik_data2!$U14=\"dobrý pocit\",1,0)","v":1}]
[null,null,null,null,null,null,null,14,{"$f":"IF(dotaznik_data2!$U15=\"úspora peněz\",1,0)","v":0},{"$f":"IF(dotaznik_data2!$U15=\"úspora času\",1,0)","v":0},{"$f":"IF(dotaznik_data2!$U15=\"ekologický přínos\",1,0)","v":0},{"$f":"IF(dotaznik_data2!$U15=\"prestiž v dané skupině lidí\",1,0)","v":0},{"$f":"IF(dotaznik_data2!$U15=\"sportovní vyžití\",1,0)","v":0},{"$f":"IF(dotaznik_data2!$U15=\"snadné cestování\",1,0)","v":0},{"$f":"IF(dotaznik_data2!$U15=\"dobrý pocit\",1,0)","v":1}]
[null,null,null,null,null,null,null,15,{"$f":"IF(dotaznik_data2!$U16=\"úspora peněz\",1,0)","v":0},{"$f":"IF(dotaznik_data2!$U16=\"úspora času\",1,0)","v":0},{"$f":"IF(dotaznik_data2!$U16=\"ekologický přínos\",1,0)","v":0},{"$f":"IF(dotaznik_data2!$U16=\"prestiž v dané skupině lidí\",1,0)","v":0},{"$f":"IF(dotaznik_data2!$U16=\"sportovní vyžití\",1,0)","v":0},{"$f":"IF(dotaznik_data2!$U16=\"snadné cestování\",1,0)","v":0},{"$f":"IF(dotaznik_data2!$U16=\"dobrý pocit\",1,0)","v":0}]
[null,null,null,null,null,null,null,16,{"$f":"IF(dotaznik_data2!$U17=\"úspora peněz\",1,0)","v":0},{"$f":"IF(dotaznik_data2!$U17=\"úspora času\",1,0)","v":0},{"$f":"IF(dotaznik_data2!$U17=\"ekologický přínos\",1,0)","v":0},{"$f":"IF(dotaznik_data2!$U17=\"prestiž v dané skupině lidí\",1,0)","v":1},{"$f":"IF(dotaznik_data2!$U17=\"sportovní vyžití\",1,0)","v":0},{"$f":"IF(dotaznik_data2!$U17=\"snadné cestování\",1,0)","v":0},{"$f":"IF(dotaznik_data2!$U17=\"dobrý pocit\",1,0)","v":0}]
[null,null,null,null,null,null,null,17,{"$f":"IF(dotaznik_data2!$U18=\"úspora peněz\",1,0)","v":0},{"$f":"IF(dotaznik_data2!$U18=\"úspora času\",1,0)","v":0},{"$f":"IF(dotaznik_data2!$U18=\"ekologický přínos\",1,0)","v":0},{"$f":"IF(dotaznik_data2!$U18=\"prestiž v dané skupině lidí\",1,0)","v":0},{"$f":"IF(dotaznik_data2!$U18=\"sportovní vyžití\",1,0)","v":1},{"$f":"IF(dotaznik_data2!$U18=\"snadné cestování\",1,0)","v":0},{"$f":"IF(dotaznik_data2!$U18=\"dobrý pocit\",1,0)","v":0}]
[null,null,null,null,null,null,null,18,{"$f":"IF(dotaznik_data2!$U19=\"úspora peněz\",1,0)","v":0},{"$f":"IF(dotaznik_data2!$U19=\"úspora času\",1,0)","v":0},{"$f":"IF(dotaznik_data2!$U19=\"ekologický přínos\",1,0)","v":0},{"$f":"IF(dotaznik_data2!$U19=\"prestiž v dané skupině lidí\",1,0)","v":1},{"$f":"IF(dotaznik_data2!$U19=\"sportovní vyžití\",1,0)","v":0},{"$f":"IF(dotaznik_data2!$U19=\"snadné cestování\",1,0)","v":0},{"$f":"IF(dotaznik_data2!$U19=\"dobrý pocit\",1,0)","v":0}]
[null,null,null,null,null,null,null,19,{"$f":"IF(dotaznik_data2!$U20=\"úspora peněz\",1,0)","v":0},{"$f":"IF(dotaznik_data2!$U20=\"úspora času\",1,0)","v":0},{"$f":"IF(dotaznik_data2!$U20=\"ekologický přínos\",1,0)","v":0},{"$f":"IF(dotaznik_data2!$U20=\"prestiž v dané skupině lidí\",1,0)","v":0},{"$f":"IF(dotaznik_data2!$U20=\"sportovní vyžití\",1,0)","v":1},{"$f":"IF(dotaznik_data2!$U20=\"snadné cestování\",1,0)","v":0},{"$f":"IF(dotaznik_data2!$U20=\"dobrý pocit\",1,0)","v":0}]
[null,null,null,null,null,null,null,20,{"$f":"IF(dotaznik_data2!$U21=\"úspora peněz\",1,0)","v":0},{"$f":"IF(dotaznik_data2!$U21=\"úspora času\",1,0)","v":0},{"$f":"IF(dotaznik_data2!$U21=\"ekologický přínos\",1,0)","v":0},{"$f":"IF(dotaznik_data2!$U21=\"prestiž v dané skupině lidí\",1,0)","v":0},{"$f":"IF(dotaznik_data2!$U21=\"sportovní vyžití\",1,0)","v":0},{"$f":"IF(dotaznik_data2!$U21=\"snadné cestování\",1,0)","v":0},{"$f":"IF(dotaznik_data2!$U21=\"dobrý pocit\",1,0)","v":1}]
[null,null,null,null,null,null,null,21,{"$f":"IF(dotaznik_data2!$U22=\"úspora peněz\",1,0)","v":0},{"$f":"IF(dotaznik_data2!$U22=\"úspora času\",1,0)","v":0},{"$f":"IF(dotaznik_data2!$U22=\"ekologický přínos\",1,0)","v":0},{"$f":"IF(dotaznik_data2!$U22=\"prestiž v dané skupině lidí\",1,0)","v":0},{"$f":"IF(dotaznik_data2!$U22=\"sportovní vyžití\",1,0)","v":1},{"$f":"IF(dotaznik_data2!$U22=\"snadné cestování\",1,0)","v":0},{"$f":"IF(dotaznik_data2!$U22=\"dobrý pocit\",1,0)","v":0}]
[null,null,null,null,null,null,null,22,{"$f":"IF(dotaznik_data2!$U23=\"úspora peněz\",1,0)","v":0},{"$f":"IF(dotaznik_data2!$U23=\"úspora času\",1,0)","v":0},{"$f":"IF(dotaznik_data2!$U23=\"ekologický přínos\",1,0)","v":0},{"$f":"IF(dotaznik_data2!$U23=\"prestiž v dané skupině lidí\",1,0)","v":0},{"$f":"IF(dotaznik_data2!$U23=\"sportovní vyžití\",1,0)","v":0},{"$f":"IF(dotaznik_data2!$U23=\"snadné cestování\",1,0)","v":0},{"$f":"IF(dotaznik_data2!$U23=\"dobrý pocit\",1,0)","v":1}]
[null,null,null,null,null,null,null,23,{"$f":"IF(dotaznik_data2!$U24=\"úspora peněz\",1,0)","v":0},{"$f":"IF(dotaznik_data2!$U24=\"úspora času\",1,0)","v":0},{"$f":"IF(dotaznik_data2!$U24=\"ekologický přínos\",1,0)","v":0},{"$f":"IF(dotaznik_data2!$U24=\"prestiž v dané skupině lidí\",1,0)","v":0},{"$f":"IF(dotaznik_data2!$U24=\"sportovní vyžití\",1,0)","v":0},{"$f":"IF(dotaznik_data2!$U24=\"snadné cestování\",1,0)","v":0},{"$f":"IF(dotaznik_data2!$U24=\"dobrý pocit\",1,0)","v":1}]
[null,null,null,null,null,null,null,24,{"$f":"IF(dotaznik_data2!$U25=\"úspora peněz\",1,0)","v":0},{"$f":"IF(dotaznik_data2!$U25=\"úspora času\",1,0)","v":0},{"$f":"IF(dotaznik_data2!$U25=\"ekologický přínos\",1,0)","v":0},{"$f":"IF(dotaznik_data2!$U25=\"prestiž v dané skupině lidí\",1,0)","v":0},{"$f":"IF(dotaznik_data2!$U25=\"sportovní vyžití\",1,0)","v":1},{"$f":"IF(dotaznik_data2!$U25=\"snadné cestování\",1,0)","v":0},{"$f":"IF(dotaznik_data2!$U25=\"dobrý pocit\",1,0)","v":0}]
[null,null,null,null,null,null,null,25,{"$f":"IF(dotaznik_data2!$U26=\"úspora peněz\",1,0)","v":0},{"$f":"IF(dotaznik_data2!$U26=\"úspora času\",1,0)","v":0},{"$f":"IF(dotaznik_data2!$U26=\"ekologický přínos\",1,0)","v":0},{"$f":"IF(dotaznik_data2!$U26=\"prestiž v dané skupině lidí\",1,0)","v":0},{"$f":"IF(dotaznik_data2!$U26=\"sportovní vyžití\",1,0)","v":0},{"$f":"IF(dotaznik_data2!$U26=\"snadné cestování\",1,0)","v":0},{"$f":"IF(dotaznik_data2!$U26=\"dobrý pocit\",1,0)","v":0}]
[null,null,null,null,null,null,null,26,{"$f":"IF(dotaznik_data2!$U27=\"úspora peněz\",1,0)","v":0},{"$f":"IF(dotaznik_data2!$U27=\"úspora času\",1,0)","v":0},{"$f":"IF(dotaznik_data2!$U27=\"ekologický přínos\",1,0)","v":0},{"$f":"IF(dotaznik_data2!$U27=\"prestiž v dané skupině lidí\",1,0)","v":0},{"$f":"IF(dotaznik_data2!$U27=\"sportovní vyžití\",1,0)","v":1},{"$f":"IF(dotaznik_data2!$U27=\"snadné cestování\",1,0)","v":0},{"$f":"IF(dotaznik_data2!$U27=\"dobrý pocit\",1,0)","v":0}]
[null,null,null,null,null,null,null,27,{"$f":"IF(dotaznik_data2!$U28=\"úspora peněz\",1,0)","v":0},{"$f":"IF(dotaznik_data2!$U28=\"úspora času\",1,0)","v":0},{"$f":"IF(dotaznik_data2!$U28=\"ekologický přínos\",1,0)","v":0},{"$f":"IF(dotaznik_data2!$U28=\"prestiž v dané skupině lidí\",1,0)","v":1},{"$f":"IF(dotaznik_data2!$U28=\"sportovní vyžití\",1,0)","v":0},{"$f":"IF(dotaznik_data2!$U28=\"snadné cestování\",1,0)","v":0},{"$f":"IF(dotaznik_data2!$U28=\"dobrý pocit\",1,0)","v":0}]
[null,null,null,null,null,null,null,28,{"$f":"IF(dotaznik_data2!$U29=\"úspora peněz\",1,0)","v":0},{"$f":"IF(dotaznik_data2!$U29=\"úspora času\",1,0)","v":0},{"$f":"IF(dotaznik_data2!$U29=\"ekologický přínos\",1,0)","v":0},{"$f":"IF(dotaznik_data2!$U29=\"prestiž v dané skupině lidí\",1,0)","v":0},{"$f":"IF(dotaznik_data2!$U29=\"sportovní vyžití\",1,0)","v":1},{"$f":"IF(dotaznik_data2!$U29=\"snadné cestování\",1,0)","v":0},{"$f":"IF(dotaznik_data2!$U29=\"dobrý pocit\",1,0)","v":0}]
[null,null,null,null,null,null,null,29,{"$f":"IF(dotaznik_data2!$U30=\"úspora peněz\",1,0)","v":0},{"$f":"IF(dotaznik_data2!$U30=\"úspora času\",1,0)","v":0},{"$f":"IF(dotaznik_data2!$U30=\"ekologický přínos\",1,0)","v":0},{"$f":"IF(dotaznik_data2!$U30=\"prestiž v dané skupině lidí\",1,0)","v":0},{"$f":"IF(dotaznik_data2!$U30=\"sportovní vyžití\",1,0)","v":1},{"$f":"IF(dotaznik_data2!$U30=\"snadné cestování\",1,0)","v":0},{"$f":"IF(dotaznik_data2!$U30=\"dobrý pocit\",1,0)","v":0}]
[null,null,null,null,null,null,null,30,{"$f":"IF(dotaznik_data2!$U31=\"úspora peněz\",1,0)","v":0},{"$f":"IF(dotaznik_data2!$U31=\"úspora času\",1,0)","v":0},{"$f":"IF(dotaznik_data2!$U31=\"ekologický přínos\",1,0)","v":0},{"$f":"IF(dotaznik_data2!$U31=\"prestiž v dané skupině lidí\",1,0)","v":0},{"$f":"IF(dotaznik_data2!$U31=\"sportovní vyžití\",1,0)","v":0},{"$f":"IF(dotaznik_data2!$U31=\"snadné cestování\",1,0)","v":0},{"$f":"IF(dotaznik_data2!$U31=\"dobrý pocit\",1,0)","v":1}]
[null,null,null,null,null,null,null,31,{"$f":"IF(dotaznik_data2!$U32=\"úspora peněz\",1,0)","v":0},{"$f":"IF(dotaznik_data2!$U32=\"úspora času\",1,0)","v":0},{"$f":"IF(dotaznik_data2!$U32=\"ekologický přínos\",1,0)","v":0},{"$f":"IF(dotaznik_data2!$U32=\"prestiž v dané skupině lidí\",1,0)","v":0},{"$f":"IF(dotaznik_data2!$U32=\"sportovní vyžití\",1,0)","v":0},{"$f":"IF(dotaznik_data2!$U32=\"snadné cestování\",1,0)","v":0},{"$f":"IF(dotaznik_data2!$U32=\"dobrý pocit\",1,0)","v":0}]
[null,null,null,null,null,null,null,32,{"$f":"IF(dotaznik_data2!$U33=\"úspora peněz\",1,0)","v":0},{"$f":"IF(dotaznik_data2!$U33=\"úspora času\",1,0)","v":0},{"$f":"IF(dotaznik_data2!$U33=\"ekologický přínos\",1,0)","v":0},{"$f":"IF(dotaznik_data2!$U33=\"prestiž v dané skupině lidí\",1,0)","v":0},{"$f":"IF(dotaznik_data2!$U33=\"sportovní vyžití\",1,0)","v":1},{"$f":"IF(dotaznik_data2!$U33=\"snadné cestování\",1,0)","v":0},{"$f":"IF(dotaznik_data2!$U33=\"dobrý pocit\",1,0)","v":0}]
[null,null,null,null,null,null,null,33,{"$f":"IF(dotaznik_data2!$U34=\"úspora peněz\",1,0)","v":0},{"$f":"IF(dotaznik_data2!$U34=\"úspora času\",1,0)","v":0},{"$f":"IF(dotaznik_data2!$U34=\"ekologický přínos\",1,0)","v":0},{"$f":"IF(dotaznik_data2!$U34=\"prestiž v dané skupině lidí\",1,0)","v":1},{"$f":"IF(dotaznik_data2!$U34=\"sportovní vyžití\",1,0)","v":0},{"$f":"IF(dotaznik_data2!$U34=\"snadné cestování\",1,0)","v":0},{"$f":"IF(dotaznik_data2!$U34=\"dobrý pocit\",1,0)","v":0}]
[null,null,null,null,null,null,null,34,{"$f":"IF(dotaznik_data2!$U35=\"úspora peněz\",1,0)","v":0},{"$f":"IF(dotaznik_data2!$U35=\"úspora času\",1,0)","v":0},{"$f":"IF(dotaznik_data2!$U35=\"ekologický přínos\",1,0)","v":0},{"$f":"IF(dotaznik_data2!$U35=\"prestiž v dané skupině lidí\",1,0)","v":0},{"$f":"IF(dotaznik_data2!$U35=\"sportovní vyžití\",1,0)","v":1},{"$f":"IF(dotaznik_data2!$U35=\"snadné cestování\",1,0)","v":0},{"$f":"IF(dotaznik_data2!$U35=\"dobrý pocit\",1,0)","v":0}]
[null,null,null,null,null,null,null,35,{"$f":"IF(dotaznik_data2!$U36=\"úspora peněz\",1,0)","v":0},{"$f":"IF(dotaznik_data2!$U36=\"úspora času\",1,0)","v":0},{"$f":"IF(dotaznik_data2!$U36=\"ekologický přínos\",1,0)","v":0},{"$f":"IF(dotaznik_data2!$U36=\"prestiž v dané skupině lidí\",1,0)","v":0},{"$f":"IF(dotaznik_data2!$U36=\"sportovní vyžití\",1,0)","v":0},{"$f":"IF(dotaznik_data2!$U36=\"snadné cestování\",1,0)","v":0},{"$f":"IF(dotaznik_data2!$U36=\"dobrý pocit\",1,0)","v":1}]
[null,null,null,null,null,null,null,36,{"$f":"IF(dotaznik_data2!$U37=\"úspora peněz\",1,0)","v":0},{"$f":"IF(dotaznik_data2!$U37=\"úspora času\",1,0)","v":0},{"$f":"IF(dotaznik_data2!$U37=\"ekologický přínos\",1,0)","v":0},{"$f":"IF(dotaznik_data2!$U37=\"prestiž v dané skupině lidí\",1,0)","v":0},{"$f":"IF(dotaznik_data2!$U37=\"sportovní vyžití\",1,0)","v":1},{"$f":"IF(dotaznik_data2!$U37=\"snadné cestování\",1,0)","v":0},{"$f":"IF(dotaznik_data2!$U37=\"dobrý pocit\",1,0)","v":0}]
[null,null,null,null,null,null,null,37,{"$f":"IF(dotaznik_data2!$U38=\"úspora peněz\",1,0)","v":0},{"$f":"IF(dotaznik_data2!$U38=\"úspora času\",1,0)","v":0},{"$f":"IF(dotaznik_data2!$U38=\"ekologický přínos\",1,0)","v":0},{"$f":"IF(dotaznik_data2!$U38=\"prestiž v dané skupině lidí\",1,0)","v":0},{"$f":"IF(dotaznik_data2!$U38=\"sportovní vyžití\",1,0)","v":1},{"$f":"IF(dotaznik_data2!$U38=\"snadné cestování\",1,0)","v":0},{"$f":"IF(dotaznik_data2!$U38=\"dobrý pocit\",1,0)","v":0}]
[null,null,null,null,null,null,null,38,{"$f":"IF(dotaznik_data2!$U39=\"úspora peněz\",1,0)","v":0},{"$f":"IF(dotaznik_data2!$U39=\"úspora času\",1,0)","v":0},{"$f":"IF(dotaznik_data2!$U39=\"ekologický přínos\",1,0)","v":0},{"$f":"IF(dotaznik_data2!$U39=\"prestiž v dané skupině lidí\",1,0)","v":0},{"$f":"IF(dotaznik_data2!$U39=\"sportovní vyžití\",1,0)","v":0},{"$f":"IF(dotaznik_data2!$U39=\"snadné cestování\",1,0)","v":0},{"$f":"IF(dotaznik_data2!$U39=\"dobrý pocit\",1,0)","v":1}]
[null,null,null,null,null,null,null,39,{"$f":"IF(dotaznik_data2!$U40=\"úspora peněz\",1,0)","v":0},{"$f":"IF(dotaznik_data2!$U40=\"úspora času\",1,0)","v":0},{"$f":"IF(dotaznik_data2!$U40=\"ekologický přínos\",1,0)","v":0},{"$f":"IF(dotaznik_data2!$U40=\"prestiž v dané skupině lidí\",1,0)","v":0},{"$f":"IF(dotaznik_data2!$U40=\"sportovní vyžití\",1,0)","v":1},{"$f":"IF(dotaznik_data2!$U40=\"snadné cestování\",1,0)","v":0},{"$f":"IF(dotaznik_data2!$U40=\"dobrý pocit\",1,0)","v":0}]
[null,null,null,null,null,null,null,40,{"$f":"IF(dotaznik_data2!$U41=\"úspora peněz\",1,0)","v":0},{"$f":"IF(dotaznik_data2!$U41=\"úspora času\",1,0)","v":0},{"$f":"IF(dotaznik_data2!$U41=\"ekologický přínos\",1,0)","v":0},{"$f":"IF(dotaznik_data2!$U41=\"prestiž v dané skupině lidí\",1,0)","v":0},{"$f":"IF(dotaznik_data2!$U41=\"sportovní vyžití\",1,0)","v":0},{"$f":"IF(dotaznik_data2!$U41=\"snadné cestování\",1,0)","v":0},{"$f":"IF(dotaznik_data2!$U41=\"dobrý pocit\",1,0)","v":1}]
[null,null,null,null,null,null,null,41,{"$f":"IF(dotaznik_data2!$U42=\"úspora peněz\",1,0)","v":0},{"$f":"IF(dotaznik_data2!$U42=\"úspora času\",1,0)","v":0},{"$f":"IF(dotaznik_data2!$U42=\"ekologický přínos\",1,0)","v":0},{"$f":"IF(dotaznik_data2!$U42=\"prestiž v dané skupině lidí\",1,0)","v":0},{"$f":"IF(dotaznik_data2!$U42=\"sportovní vyžití\",1,0)","v":0},{"$f":"IF(dotaznik_data2!$U42=\"snadné cestování\",1,0)","v":0},{"$f":"IF(dotaznik_data2!$U42=\"dobrý pocit\",1,0)","v":1}]
[null,null,null,null,null,null,null,42,{"$f":"IF(dotaznik_data2!$U43=\"úspora peněz\",1,0)","v":0},{"$f":"IF(dotaznik_data2!$U43=\"úspora času\",1,0)","v":0},{"$f":"IF(dotaznik_data2!$U43=\"ekologický přínos\",1,0)","v":0},{"$f":"IF(dotaznik_data2!$U43=\"prestiž v dané skupině lidí\",1,0)","v":1},{"$f":"IF(dotaznik_data2!$U43=\"sportovní vyžití\",1,0)","v":0},{"$f":"IF(dotaznik_data2!$U43=\"snadné cestování\",1,0)","v":0},{"$f":"IF(dotaznik_data2!$U43=\"dobrý pocit\",1,0)","v":0}]
[null,null,null,null,null,null,null,43,{"$f":"IF(dotaznik_data2!$U44=\"úspora peněz\",1,0)","v":0},{"$f":"IF(dotaznik_data2!$U44=\"úspora času\",1,0)","v":0},{"$f":"IF(dotaznik_data2!$U44=\"ekologický přínos\",1,0)","v":0},{"$f":"IF(dotaznik_data2!$U44=\"prestiž v dané skupině lidí\",1,0)","v":0},{"$f":"IF(dotaznik_data2!$U44=\"sportovní vyžití\",1,0)","v":1},{"$f":"IF(dotaznik_data2!$U44=\"snadné cestování\",1,0)","v":0},{"$f":"IF(dotaznik_data2!$U44=\"dobrý pocit\",1,0)","v":0}]
[null,null,null,null,null,null,null,44,{"$f":"IF(dotaznik_data2!$U45=\"úspora peněz\",1,0)","v":0},{"$f":"IF(dotaznik_data2!$U45=\"úspora času\",1,0)","v":0},{"$f":"IF(dotaznik_data2!$U45=\"ekologický přínos\",1,0)","v":0},{"$f":"IF(dotaznik_data2!$U45=\"prestiž v dané skupině lidí\",1,0)","v":0},{"$f":"IF(dotaznik_data2!$U45=\"sportovní vyžití\",1,0)","v":0},{"$f":"IF(dotaznik_data2!$U45=\"snadné cestování\",1,0)","v":0},{"$f":"IF(dotaznik_data2!$U45=\"dobrý pocit\",1,0)","v":1}]
[null,null,null,null,null,null,null,45,{"$f":"IF(dotaznik_data2!$U46=\"úspora peněz\",1,0)","v":0},{"$f":"IF(dotaznik_data2!$U46=\"úspora času\",1,0)","v":0},{"$f":"IF(dotaznik_data2!$U46=\"ekologický přínos\",1,0)","v":0},{"$f":"IF(dotaznik_data2!$U46=\"prestiž v dané skupině lidí\",1,0)","v":0},{"$f":"IF(dotaznik_data2!$U46=\"sportovní vyžití\",1,0)","v":1},{"$f":"IF(dotaznik_data2!$U46=\"snadné cestování\",1,0)","v":0},{"$f":"IF(dotaznik_data2!$U46=\"dobrý pocit\",1,0)","v":0}]
[null,null,null,null,null,null,null,46,{"$f":"IF(dotaznik_data2!$U47=\"úspora peněz\",1,0)","v":0},{"$f":"IF(dotaznik_data2!$U47=\"úspora času\",1,0)","v":0},{"$f":"IF(dotaznik_data2!$U47=\"ekologický přínos\",1,0)","v":0},{"$f":"IF(dotaznik_data2!$U47=\"prestiž v dané skupině lidí\",1,0)","v":0},{"$f":"IF(dotaznik_data2!$U47=\"sportovní vyžití\",1,0)","v":0},{"$f":"IF(dotaznik_data2!$U47=\"snadné cestování\",1,0)","v":0},{"$f":"IF(dotaznik_data2!$U47=\"dobrý pocit\",1,0)","v":1}]
[null,null,null,null,null,null,null,47,{"$f":"IF(dotaznik_data2!$U48=\"úspora peněz\",1,0)","v":0},{"$f":"IF(dotaznik_data2!$U48=\"úspora času\",1,0)","v":0},{"$f":"IF(dotaznik_data2!$U48=\"ekologický přínos\",1,0)","v":0},{"$f":"IF(dotaznik_data2!$U48=\"prestiž v dané skupině lidí\",1,0)","v":0},{"$f":"IF(dotaznik_data2!$U48=\"sportovní vyžití\",1,0)","v":1},{"$f":"IF(dotaznik_data2!$U48=\"snadné cestování\",1,0)","v":0},{"$f":"IF(dotaznik_data2!$U48=\"dobrý pocit\",1,0)","v":0}]
[null,null,null,null,null,null,null,48,{"$f":"IF(dotaznik_data2!$U49=\"úspora peněz\",1,0)","v":0},{"$f":"IF(dotaznik_data2!$U49=\"úspora času\",1,0)","v":0},{"$f":"IF(dotaznik_data2!$U49=\"ekologický přínos\",1,0)","v":0},{"$f":"IF(dotaznik_data2!$U49=\"prestiž v dané skupině lidí\",1,0)","v":0},{"$f":"IF(dotaznik_data2!$U49=\"sportovní vyžití\",1,0)","v":1},{"$f":"IF(dotaznik_data2!$U49=\"snadné cestování\",1,0)","v":0},{"$f":"IF(dotaznik_data2!$U49=\"dobrý pocit\",1,0)","v":0}]
[null,null,null,null,null,null,null,49,{"$f":"IF(dotaznik_data2!$U50=\"úspora peněz\",1,0)","v":0},{"$f":"IF(dotaznik_data2!$U50=\"úspora času\",1,0)","v":0},{"$f":"IF(dotaznik_data2!$U50=\"ekologický přínos\",1,0)","v":0},{"$f":"IF(dotaznik_data2!$U50=\"prestiž v dané skupině lidí\",1,0)","v":0},{"$f":"IF(dotaznik_data2!$U50=\"sportovní vyžití\",1,0)","v":0},{"$f":"IF(dotaznik_data2!$U50=\"snadné cestování\",1,0)","v":0},{"$f":"IF(dotaznik_data2!$U50=\"dobrý pocit\",1,0)","v":1}]
[null,null,null,null,null,null,null,50,{"$f":"IF(dotaznik_data2!$U51=\"úspora peněz\",1,0)","v":0},{"$f":"IF(dotaznik_data2!$U51=\"úspora času\",1,0)","v":0},{"$f":"IF(dotaznik_data2!$U51=\"ekologický přínos\",1,0)","v":0},{"$f":"IF(dotaznik_data2!$U51=\"prestiž v dané skupině lidí\",1,0)","v":0},{"$f":"IF(dotaznik_data2!$U51=\"sportovní vyžití\",1,0)","v":0},{"$f":"IF(dotaznik_data2!$U51=\"snadné cestování\",1,0)","v":0},{"$f":"IF(dotaznik_data2!$U51=\"dobrý pocit\",1,0)","v":1}]
[]
[]
[21,"Jaký  nejdůležitější užitek plyne z používání Vašeho  kola?",null,null,null,null,"úspora peněz"]
[null,null,null,null,null,null,"úspora času"]
[null,null,null,null,null,null,"ekologický přínos"]
[null,null,null,null,null,null,"prestiž v dané skupině lidí"]
[null,null,null,null,null,null,"sportovní vyžití"]
[null,null,null,null,null,null,"snadné cestování","četnost",{"$f":"COUNTIF(I1144:I1193,1)","v":1},{"$f":"COUNTIF(J1144:J1193,1)","v":1},6,0,13,17,10]
[null,null,null,null,null,null,"dobrý pocit","odpověď","úspora peněz","úspora času","ekologický přínos","prestiž v dané skupině lidí","sportovní vyžití","snadné cestování","dobrý pocit"]
[null,null,null,null,null,null,"respondent číslo",1,{"$f":"IF(dotaznik_data2!$V2=\"úspora peněz\",1,0)","v":0},{"$f":"IF(dotaznik_data2!$V2=\"úspora času\",1,0)","v":0},{"$f":"IF(dotaznik_data2!$V2=\"ekologický přínos\",1,0)","v":1},{"$f":"IF(dotaznik_data2!$V2=\"prestiž v dané skupině lidí\",1,0)","v":0},{"$f":"IF(dotaznik_data2!$V2=\"sportovní vyžití\",1,0)","v":0},{"$f":"IF(dotaznik_data2!$V2=\"snadné cestování\",1,0)","v":0},{"$f":"IF(dotaznik_data2!$V2=\"dobrý pocit\",1,0)","v":0}]
[null,null,null,null,null,null,null,2,{"$f":"IF(dotaznik_data2!$V3=\"úspora peněz\",1,0)","v":0},{"$f":"IF(dotaznik_data2!$V3=\"úspora času\",1,0)","v":0},{"$f":"IF(dotaznik_data2!$V3=\"ekologický přínos\",1,0)","v":0},{"$f":"IF(dotaznik_data2!$V3=\"prestiž v dané skupině lidí\",1,0)","v":0},{"$f":"IF(dotaznik_data2!$V3=\"sportovní vyžití\",1,0)","v":0},{"$f":"IF(dotaznik_data2!$V3=\"snadné cestování\",1,0)","v":1},{"$f":"IF(dotaznik_data2!$V3=\"dobrý pocit\",1,0)","v":0}]
[null,null,null,null,null,null,null,3,{"$f":"IF(dotaznik_data2!$V4=\"úspora peněz\",1,0)","v":0},{"$f":"IF(dotaznik_data2!$V4=\"úspora času\",1,0)","v":0},{"$f":"IF(dotaznik_data2!$V4=\"ekologický přínos\",1,0)","v":0},{"$f":"IF(dotaznik_data2!$V4=\"prestiž v dané skupině lidí\",1,0)","v":0},{"$f":"IF(dotaznik_data2!$V4=\"sportovní vyžití\",1,0)","v":0},{"$f":"IF(dotaznik_data2!$V4=\"snadné cestování\",1,0)","v":1},{"$f":"IF(dotaznik_data2!$V4=\"dobrý pocit\",1,0)","v":0}]
[null,null,null,null,null,null,null,4,{"$f":"IF(dotaznik_data2!$V5=\"úspora peněz\",1,0)","v":0},{"$f":"IF(dotaznik_data2!$V5=\"úspora času\",1,0)","v":0},{"$f":"IF(dotaznik_data2!$V5=\"ekologický přínos\",1,0)","v":0},{"$f":"IF(dotaznik_data2!$V5=\"prestiž v dané skupině lidí\",1,0)","v":0},{"$f":"IF(dotaznik_data2!$V5=\"sportovní vyžití\",1,0)","v":0},{"$f":"IF(dotaznik_data2!$V5=\"snadné cestování\",1,0)","v":1},{"$f":"IF(dotaznik_data2!$V5=\"dobrý pocit\",1,0)","v":0}]
[null,null,null,null,null,null,null,5,{"$f":"IF(dotaznik_data2!$V6=\"úspora peněz\",1,0)","v":0},{"$f":"IF(dotaznik_data2!$V6=\"úspora času\",1,0)","v":0},{"$f":"IF(dotaznik_data2!$V6=\"ekologický přínos\",1,0)","v":0},{"$f":"IF(dotaznik_data2!$V6=\"prestiž v dané skupině lidí\",1,0)","v":0},{"$f":"IF(dotaznik_data2!$V6=\"sportovní vyžití\",1,0)","v":0},{"$f":"IF(dotaznik_data2!$V6=\"snadné cestování\",1,0)","v":0},{"$f":"IF(dotaznik_data2!$V6=\"dobrý pocit\",1,0)","v":1}]
[null,null,null,null,null,null,null,6,{"$f":"IF(dotaznik_data2!$V7=\"úspora peněz\",1,0)","v":0},{"$f":"IF(dotaznik_data2!$V7=\"úspora času\",1,0)","v":0},{"$f":"IF(dotaznik_data2!$V7=\"ekologický přínos\",1,0)","v":0},{"$f":"IF(dotaznik_data2!$V7=\"prestiž v dané skupině lidí\",1,0)","v":0},{"$f":"IF(dotaznik_data2!$V7=\"sportovní vyžití\",1,0)","v":0},{"$f":"IF(dotaznik_data2!$V7=\"snadné cestování\",1,0)","v":1},{"$f":"IF(dotaznik_data2!$V7=\"dobrý pocit\",1,0)","v":0}]
[null,null,null,null,null,null,null,7,{"$f":"IF(dotaznik_data2!$V8=\"úspora peněz\",1,0)","v":0},{"$f":"IF(dotaznik_data2!$V8=\"úspora času\",1,0)","v":0},{"$f":"IF(dotaznik_data2!$V8=\"ekologický přínos\",1,0)","v":0},{"$f":"IF(dotaznik_data2!$V8=\"prestiž v dané skupině lidí\",1,0)","v":0},{"$f":"IF(dotaznik_data2!$V8=\"sportovní vyžití\",1,0)","v":1},{"$f":"IF(dotaznik_data2!$V8=\"snadné cestování\",1,0)","v":0},{"$f":"IF(dotaznik_data2!$V8=\"dobrý pocit\",1,0)","v":0}]
[null,null,null,null,null,null,null,8,{"$f":"IF(dotaznik_data2!$V9=\"úspora peněz\",1,0)","v":0},{"$f":"IF(dotaznik_data2!$V9=\"úspora času\",1,0)","v":0},{"$f":"IF(dotaznik_data2!$V9=\"ekologický přínos\",1,0)","v":0},{"$f":"IF(dotaznik_data2!$V9=\"prestiž v dané skupině lidí\",1,0)","v":0},{"$f":"IF(dotaznik_data2!$V9=\"sportovní vyžití\",1,0)","v":0},{"$f":"IF(dotaznik_data2!$V9=\"snadné cestování\",1,0)","v":1},{"$f":"IF(dotaznik_data2!$V9=\"dobrý pocit\",1,0)","v":0}]
[null,null,null,null,null,null,null,9,{"$f":"IF(dotaznik_data2!$V10=\"úspora peněz\",1,0)","v":0},{"$f":"IF(dotaznik_data2!$V10=\"úspora času\",1,0)","v":0},{"$f":"IF(dotaznik_data2!$V10=\"ekologický přínos\",1,0)","v":0},{"$f":"IF(dotaznik_data2!$V10=\"prestiž v dané skupině lidí\",1,0)","v":0},{"$f":"IF(dotaznik_data2!$V10=\"sportovní vyžití\",1,0)","v":0},{"$f":"IF(dotaznik_data2!$V10=\"snadné cestování\",1,0)","v":1},{"$f":"IF(dotaznik_data2!$V10=\"dobrý pocit\",1,0)","v":0}]
[null,null,null,null,null,null,null,10,{"$f":"IF(dotaznik_data2!$V11=\"úspora peněz\",1,0)","v":0},{"$f":"IF(dotaznik_data2!$V11=\"úspora času\",1,0)","v":0},{"$f":"IF(dotaznik_data2!$V11=\"ekologický přínos\",1,0)","v":0},{"$f":"IF(dotaznik_data2!$V11=\"prestiž v dané skupině lidí\",1,0)","v":0},{"$f":"IF(dotaznik_data2!$V11=\"sportovní vyžití\",1,0)","v":0},{"$f":"IF(dotaznik_data2!$V11=\"snadné cestování\",1,0)","v":1},{"$f":"IF(dotaznik_data2!$V11=\"dobrý pocit\",1,0)","v":0}]
[null,null,null,null,null,null,null,11,{"$f":"IF(dotaznik_data2!$V12=\"úspora peněz\",1,0)","v":0},{"$f":"IF(dotaznik_data2!$V12=\"úspora času\",1,0)","v":0},{"$f":"IF(dotaznik_data2!$V12=\"ekologický přínos\",1,0)","v":0},{"$f":"IF(dotaznik_data2!$V12=\"prestiž v dané skupině lidí\",1,0)","v":0},{"$f":"IF(dotaznik_data2!$V12=\"sportovní vyžití\",1,0)","v":0},{"$f":"IF(dotaznik_data2!$V12=\"snadné cestování\",1,0)","v":1},{"$f":"IF(dotaznik_data2!$V12=\"dobrý pocit\",1,0)","v":0}]
[null,null,null,null,null,null,null,12,{"$f":"IF(dotaznik_data2!$V13=\"úspora peněz\",1,0)","v":0},{"$f":"IF(dotaznik_data2!$V13=\"úspora času\",1,0)","v":0},{"$f":"IF(dotaznik_data2!$V13=\"ekologický přínos\",1,0)","v":0},{"$f":"IF(dotaznik_data2!$V13=\"prestiž v dané skupině lidí\",1,0)","v":0},{"$f":"IF(dotaznik_data2!$V13=\"sportovní vyžití\",1,0)","v":0},{"$f":"IF(dotaznik_data2!$V13=\"snadné cestování\",1,0)","v":1},{"$f":"IF(dotaznik_data2!$V13=\"dobrý pocit\",1,0)","v":0}]
[null,null,null,null,null,null,null,13,{"$f":"IF(dotaznik_data2!$V14=\"úspora peněz\",1,0)","v":0},{"$f":"IF(dotaznik_data2!$V14=\"úspora času\",1,0)","v":0},{"$f":"IF(dotaznik_data2!$V14=\"ekologický přínos\",1,0)","v":0},{"$f":"IF(dotaznik_data2!$V14=\"prestiž v dané skupině lidí\",1,0)","v":0},{"$f":"IF(dotaznik_data2!$V14=\"sportovní vyžití\",1,0)","v":1},{"$f":"IF(dotaznik_data2!$V14=\"snadné cestování\",1,0)","v":0},{"$f":"IF(dotaznik_data2!$V14=\"dobrý pocit\",1,0)","v":0}]
[null,null,null,null,null,null,null,14,{"$f":"IF(dotaznik_data2!$V15=\"úspora peněz\",1,0)","v":0},{"$f":"IF(dotaznik_data2!$V15=\"úspora času\",1,0)","v":0},{"$f":"IF(dotaznik_data2!$V15=\"ekologický přínos\",1,0)","v":0},{"$f":"IF(dotaznik_data2!$V15=\"prestiž v dané skupině lidí\",1,0)","v":0},{"$f":"IF(dotaznik_data2!$V15=\"sportovní vyžití\",1,0)","v":1},{"$f":"IF(dotaznik_data2!$V15=\"snadné cestování\",1,0)","v":0},{"$f":"IF(dotaznik_data2!$V15=\"dobrý pocit\",1,0)","v":0}]
[null,null,null,null,null,null,null,15,{"$f":"IF(dotaznik_data2!$V16=\"úspora peněz\",1,0)","v":0},{"$f":"IF(dotaznik_data2!$V16=\"úspora času\",1,0)","v":0},{"$f":"IF(dotaznik_data2!$V16=\"ekologický přínos\",1,0)","v":0},{"$f":"IF(dotaznik_data2!$V16=\"prestiž v dané skupině lidí\",1,0)","v":0},{"$f":"IF(dotaznik_data2!$V16=\"sportovní vyžití\",1,0)","v":0},{"$f":"IF(dotaznik_data2!$V16=\"snadné cestování\",1,0)","v":1},{"$f":"IF(dotaznik_data2!$V16=\"dobrý pocit\",1,0)","v":0}]
[null,null,null,null,null,null,null,16,{"$f":"IF(dotaznik_data2!$V17=\"úspora peněz\",1,0)","v":0},{"$f":"IF(dotaznik_data2!$V17=\"úspora času\",1,0)","v":0},{"$f":"IF(dotaznik_data2!$V17=\"ekologický přínos\",1,0)","v":0},{"$f":"IF(dotaznik_data2!$V17=\"prestiž v dané skupině lidí\",1,0)","v":0},{"$f":"IF(dotaznik_data2!$V17=\"sportovní vyžití\",1,0)","v":0},{"$f":"IF(dotaznik_data2!$V17=\"snadné cestování\",1,0)","v":1},{"$f":"IF(dotaznik_data2!$V17=\"dobrý pocit\",1,0)","v":0}]
[null,null,null,null,null,null,null,17,{"$f":"IF(dotaznik_data2!$V18=\"úspora peněz\",1,0)","v":0},{"$f":"IF(dotaznik_data2!$V18=\"úspora času\",1,0)","v":0},{"$f":"IF(dotaznik_data2!$V18=\"ekologický přínos\",1,0)","v":0},{"$f":"IF(dotaznik_data2!$V18=\"prestiž v dané skupině lidí\",1,0)","v":0},{"$f":"IF(dotaznik_data2!$V18=\"sportovní vyžití\",1,0)","v":0},{"$f":"IF(dotaznik_data2!$V18=\"snadné cestování\",1,0)","v":1},{"$f":"IF(dotaznik_data2!$V18=\"dobrý pocit\",1,0)","v":0}]
[null,null,null,null,null,null,null,18,{"$f":"IF(dotaznik_data2!$V19=\"úspora peněz\",1,0)","v":0},{"$f":"IF(dotaznik_data2!$V19=\"úspora času\",1,0)","v":0},{"$f":"IF(dotaznik_data2!$V19=\"ekologický přínos\",1,0)","v":0},{"$f":"IF(dotaznik_data2!$V19=\"prestiž v dané skupině lidí\",1,0)","v":0},{"$f":"IF(dotaznik_data2!$V19=\"sportovní vyžití\",1,0)","v":1},{"$f":"IF(dotaznik_data2!$V19=\"snadné cestování\",1,0)","v":0},{"$f":"IF(dotaznik_data2!$V19=\"dobrý pocit\",1,0)","v":0}]
[null,null,null,null,null,null,null,19,{"$f":"IF(dotaznik_data2!$V20=\"úspora peněz\",1,0)","v":0},{"$f":"IF(dotaznik_data2!$V20=\"úspora času\",1,0)","v":0},{"$f":"IF(dotaznik_data2!$V20=\"ekologický přínos\",1,0)","v":1},{"$f":"IF(dotaznik_data2!$V20=\"prestiž v dané skupině lidí\",1,0)","v":0},{"$f":"IF(dotaznik_data2!$V20=\"sportovní vyžití\",1,0)","v":0},{"$f":"IF(dotaznik_data2!$V20=\"snadné cestování\",1,0)","v":0},{"$f":"IF(dotaznik_data2!$V20=\"dobrý pocit\",1,0)","v":0}]
[null,null,null,null,null,null,null,20,{"$f":"IF(dotaznik_data2!$V21=\"úspora peněz\",1,0)","v":0},{"$f":"IF(dotaznik_data2!$V21=\"úspora času\",1,0)","v":0},{"$f":"IF(dotaznik_data2!$V21=\"ekologický přínos\",1,0)","v":0},{"$f":"IF(dotaznik_data2!$V21=\"prestiž v dané skupině lidí\",1,0)","v":0},{"$f":"IF(dotaznik_data2!$V21=\"sportovní vyžití\",1,0)","v":0},{"$f":"IF(dotaznik_data2!$V21=\"snadné cestování\",1,0)","v":1},{"$f":"IF(dotaznik_data2!$V21=\"dobrý pocit\",1,0)","v":0}]
[null,null,null,null,null,null,null,21,{"$f":"IF(dotaznik_data2!$V22=\"úspora peněz\",1,0)","v":0},{"$f":"IF(dotaznik_data2!$V22=\"úspora času\",1,0)","v":0},{"$f":"IF(dotaznik_data2!$V22=\"ekologický přínos\",1,0)","v":0},{"$f":"IF(dotaznik_data2!$V22=\"prestiž v dané skupině lidí\",1,0)","v":0},{"$f":"IF(dotaznik_data2!$V22=\"sportovní vyžití\",1,0)","v":0},{"$f":"IF(dotaznik_data2!$V22=\"snadné cestování\",1,0)","v":0},{"$f":"IF(dotaznik_data2!$V22=\"dobrý pocit\",1,0)","v":1}]
[null,null,null,null,null,null,null,22,{"$f":"IF(dotaznik_data2!$V23=\"úspora peněz\",1,0)","v":0},{"$f":"IF(dotaznik_data2!$V23=\"úspora času\",1,0)","v":0},{"$f":"IF(dotaznik_data2!$V23=\"ekologický přínos\",1,0)","v":0},{"$f":"IF(dotaznik_data2!$V23=\"prestiž v dané skupině lidí\",1,0)","v":0},{"$f":"IF(dotaznik_data2!$V23=\"sportovní vyžití\",1,0)","v":1},{"$f":"IF(dotaznik_data2!$V23=\"snadné cestování\",1,0)","v":0},{"$f":"IF(dotaznik_data2!$V23=\"dobrý pocit\",1,0)","v":0}]
[null,null,null,null,null,null,null,23,{"$f":"IF(dotaznik_data2!$V24=\"úspora peněz\",1,0)","v":0},{"$f":"IF(dotaznik_data2!$V24=\"úspora času\",1,0)","v":0},{"$f":"IF(dotaznik_data2!$V24=\"ekologický přínos\",1,0)","v":1},{"$f":"IF(dotaznik_data2!$V24=\"prestiž v dané skupině lidí\",1,0)","v":0},{"$f":"IF(dotaznik_data2!$V24=\"sportovní vyžití\",1,0)","v":0},{"$f":"IF(dotaznik_data2!$V24=\"snadné cestování\",1,0)","v":0},{"$f":"IF(dotaznik_data2!$V24=\"dobrý pocit\",1,0)","v":0}]
[null,null,null,null,null,null,null,24,{"$f":"IF(dotaznik_data2!$V25=\"úspora peněz\",1,0)","v":0},{"$f":"IF(dotaznik_data2!$V25=\"úspora času\",1,0)","v":0},{"$f":"IF(dotaznik_data2!$V25=\"ekologický přínos\",1,0)","v":0},{"$f":"IF(dotaznik_data2!$V25=\"prestiž v dané skupině lidí\",1,0)","v":0},{"$f":"IF(dotaznik_data2!$V25=\"sportovní vyžití\",1,0)","v":0},{"$f":"IF(dotaznik_data2!$V25=\"snadné cestování\",1,0)","v":0},{"$f":"IF(dotaznik_data2!$V25=\"dobrý pocit\",1,0)","v":1}]
[null,null,null,null,null,null,null,25,{"$f":"IF(dotaznik_data2!$V26=\"úspora peněz\",1,0)","v":0},{"$f":"IF(dotaznik_data2!$V26=\"úspora času\",1,0)","v":0},{"$f":"IF(dotaznik_data2!$V26=\"ekologický přínos\",1,0)","v":0},{"$f":"IF(dotaznik_data2!$V26=\"prestiž v dané skupině lidí\",1,0)","v":0},{"$f":"IF(dotaznik_data2!$V26=\"sportovní vyžití\",1,0)","v":0},{"$f":"IF(dotaznik_data2!$V26=\"snadné cestování\",1,0)","v":0},{"$f":"IF(dotaznik_data2!$V26=\"dobrý pocit\",1,0)","v":0}]
[null,null,null,null,null,null,null,26,{"$f":"IF(dotaznik_data2!$V27=\"úspora peněz\",1,0)","v":0},{"$f":"IF(dotaznik_data2!$V27=\"úspora času\",1,0)","v":0},{"$f":"IF(dotaznik_data2!$V27=\"ekologický přínos\",1,0)","v":0},{"$f":"IF(dotaznik_data2!$V27=\"prestiž v dané skupině lidí\",1,0)","v":0},{"$f":"IF(dotaznik_data2!$V27=\"sportovní vyžití\",1,0)","v":1},{"$f":"IF(dotaznik_data2!$V27=\"snadné cestování\",1,0)","v":0},{"$f":"IF(dotaznik_data2!$V27=\"dobrý pocit\",1,0)","v":0}]
[null,null,null,null,null,null,null,27,{"$f":"IF(dotaznik_data2!$V28=\"úspora peněz\",1,0)","v":0},{"$f":"IF(dotaznik_data2!$V28=\"úspora času\",1,0)","v":0},{"$f":"IF(dotaznik_data2!$V28=\"ekologický přínos\",1,0)","v":0},{"$f":"IF(dotaznik_data2!$V28=\"prestiž v dané skupině lidí\",1,0)","v":0},{"$f":"IF(dotaznik_data2!$V28=\"sportovní vyžití\",1,0)","v":0},{"$f":"IF(dotaznik_data2!$V28=\"snadné cestování\",1,0)","v":0},{"$f":"IF(dotaznik_data2!$V28=\"dobrý pocit\",1,0)","v":1}]
[null,null,null,null,null,null,null,28,{"$f":"IF(dotaznik_data2!$V29=\"úspora peněz\",1,0)","v":0},{"$f":"IF(dotaznik_data2!$V29=\"úspora času\",1,0)","v":0},{"$f":"IF(dotaznik_data2!$V29=\"ekologický přínos\",1,0)","v":1},{"$f":"IF(dotaznik_data2!$V29=\"prestiž v dané skupině lidí\",1,0)","v":0},{"$f":"IF(dotaznik_data2!$V29=\"sportovní vyžití\",1,0)","v":0},{"$f":"IF(dotaznik_data2!$V29=\"snadné cestování\",1,0)","v":0},{"$f":"IF(dotaznik_data2!$V29=\"dobrý pocit\",1,0)","v":0}]
[null,null,null,null,null,null,null,29,{"$f":"IF(dotaznik_data2!$V30=\"úspora peněz\",1,0)","v":0},{"$f":"IF(dotaznik_data2!$V30=\"úspora času\",1,0)","v":0},{"$f":"IF(dotaznik_data2!$V30=\"ekologický přínos\",1,0)","v":0},{"$f":"IF(dotaznik_data2!$V30=\"prestiž v dané skupině lidí\",1,0)","v":0},{"$f":"IF(dotaznik_data2!$V30=\"sportovní vyžití\",1,0)","v":0},{"$f":"IF(dotaznik_data2!$V30=\"snadné cestování\",1,0)","v":0},{"$f":"IF(dotaznik_data2!$V30=\"dobrý pocit\",1,0)","v":1}]
[null,null,null,null,null,null,null,30,{"$f":"IF(dotaznik_data2!$V31=\"úspora peněz\",1,0)","v":0},{"$f":"IF(dotaznik_data2!$V31=\"úspora času\",1,0)","v":0},{"$f":"IF(dotaznik_data2!$V31=\"ekologický přínos\",1,0)","v":1},{"$f":"IF(dotaznik_data2!$V31=\"prestiž v dané skupině lidí\",1,0)","v":0},{"$f":"IF(dotaznik_data2!$V31=\"sportovní vyžití\",1,0)","v":0},{"$f":"IF(dotaznik_data2!$V31=\"snadné cestování\",1,0)","v":0},{"$f":"IF(dotaznik_data2!$V31=\"dobrý pocit\",1,0)","v":0}]
[null,null,null,null,null,null,null,31,{"$f":"IF(dotaznik_data2!$V32=\"úspora peněz\",1,0)","v":0},{"$f":"IF(dotaznik_data2!$V32=\"úspora času\",1,0)","v":0},{"$f":"IF(dotaznik_data2!$V32=\"ekologický přínos\",1,0)","v":0},{"$f":"IF(dotaznik_data2!$V32=\"prestiž v dané skupině lidí\",1,0)","v":0},{"$f":"IF(dotaznik_data2!$V32=\"sportovní vyžití\",1,0)","v":0},{"$f":"IF(dotaznik_data2!$V32=\"snadné cestování\",1,0)","v":0},{"$f":"IF(dotaznik_data2!$V32=\"dobrý pocit\",1,0)","v":0}]
[null,null,null,null,null,null,null,32,{"$f":"IF(dotaznik_data2!$V33=\"úspora peněz\",1,0)","v":0},{"$f":"IF(dotaznik_data2!$V33=\"úspora času\",1,0)","v":0},{"$f":"IF(dotaznik_data2!$V33=\"ekologický přínos\",1,0)","v":0},{"$f":"IF(dotaznik_data2!$V33=\"prestiž v dané skupině lidí\",1,0)","v":0},{"$f":"IF(dotaznik_data2!$V33=\"sportovní vyžití\",1,0)","v":0},{"$f":"IF(dotaznik_data2!$V33=\"snadné cestování\",1,0)","v":0},{"$f":"IF(dotaznik_data2!$V33=\"dobrý pocit\",1,0)","v":1}]
[null,null,null,null,null,null,null,33,{"$f":"IF(dotaznik_data2!$V34=\"úspora peněz\",1,0)","v":0},{"$f":"IF(dotaznik_data2!$V34=\"úspora času\",1,0)","v":0},{"$f":"IF(dotaznik_data2!$V34=\"ekologický přínos\",1,0)","v":0},{"$f":"IF(dotaznik_data2!$V34=\"prestiž v dané skupině lidí\",1,0)","v":0},{"$f":"IF(dotaznik_data2!$V34=\"sportovní vyžití\",1,0)","v":1},{"$f":"IF(dotaznik_data2!$V34=\"snadné cestování\",1,0)","v":0},{"$f":"IF(dotaznik_data2!$V34=\"dobrý pocit\",1,0)","v":0}]
[null,null,null,null,null,null,null,34,{"$f":"IF(dotaznik_data2!$V35=\"úspora peněz\",1,0)","v":0},{"$f":"IF(dotaznik_data2!$V35=\"úspora času\",1,0)","v":0},{"$f":"IF(dotaznik_data2!$V35=\"ekologický přínos\",1,0)","v":0},{"$f":"IF(dotaznik_data2!$V35=\"prestiž v dané skupině lidí\",1,0)","v":0},{"$f":"IF(dotaznik_data2!$V35=\"sportovní vyžití\",1,0)","v":1},{"$f":"IF(dotaznik_data2!$V35=\"snadné cestování\",1,0)","v":0},{"$f":"IF(dotaznik_data2!$V35=\"dobrý pocit\",1,0)","v":0}]
[null,null,null,null,null,null,null,35,{"$f":"IF(dotaznik_data2!$V36=\"úspora peněz\",1,0)","v":0},{"$f":"IF(dotaznik_data2!$V36=\"úspora času\",1,0)","v":1},{"$f":"IF(dotaznik_data2!$V36=\"ekologický přínos\",1,0)","v":0},{"$f":"IF(dotaznik_data2!$V36=\"prestiž v dané skupině lidí\",1,0)","v":0},{"$f":"IF(dotaznik_data2!$V36=\"sportovní vyžití\",1,0)","v":0},{"$f":"IF(dotaznik_data2!$V36=\"snadné cestování\",1,0)","v":0},{"$f":"IF(dotaznik_data2!$V36=\"dobrý pocit\",1,0)","v":0}]
[null,null,null,null,null,null,null,36,{"$f":"IF(dotaznik_data2!$V37=\"úspora peněz\",1,0)","v":1},{"$f":"IF(dotaznik_data2!$V37=\"úspora času\",1,0)","v":0},{"$f":"IF(dotaznik_data2!$V37=\"ekologický přínos\",1,0)","v":0},{"$f":"IF(dotaznik_data2!$V37=\"prestiž v dané skupině lidí\",1,0)","v":0},{"$f":"IF(dotaznik_data2!$V37=\"sportovní vyžití\",1,0)","v":0},{"$f":"IF(dotaznik_data2!$V37=\"snadné cestování\",1,0)","v":0},{"$f":"IF(dotaznik_data2!$V37=\"dobrý pocit\",1,0)","v":0}]
[null,null,null,null,null,null,null,37,{"$f":"IF(dotaznik_data2!$V38=\"úspora peněz\",1,0)","v":0},{"$f":"IF(dotaznik_data2!$V38=\"úspora času\",1,0)","v":0},{"$f":"IF(dotaznik_data2!$V38=\"ekologický přínos\",1,0)","v":0},{"$f":"IF(dotaznik_data2!$V38=\"prestiž v dané skupině lidí\",1,0)","v":0},{"$f":"IF(dotaznik_data2!$V38=\"sportovní vyžití\",1,0)","v":0},{"$f":"IF(dotaznik_data2!$V38=\"snadné cestování\",1,0)","v":1},{"$f":"IF(dotaznik_data2!$V38=\"dobrý pocit\",1,0)","v":0}]
[null,null,null,null,null,null,null,38,{"$f":"IF(dotaznik_data2!$V39=\"úspora peněz\",1,0)","v":0},{"$f":"IF(dotaznik_data2!$V39=\"úspora času\",1,0)","v":0},{"$f":"IF(dotaznik_data2!$V39=\"ekologický přínos\",1,0)","v":0},{"$f":"IF(dotaznik_data2!$V39=\"prestiž v dané skupině lidí\",1,0)","v":0},{"$f":"IF(dotaznik_data2!$V39=\"sportovní vyžití\",1,0)","v":0},{"$f":"IF(dotaznik_data2!$V39=\"snadné cestování\",1,0)","v":1},{"$f":"IF(dotaznik_data2!$V39=\"dobrý pocit\",1,0)","v":0}]
[null,null,null,null,null,null,null,39,{"$f":"IF(dotaznik_data2!$V40=\"úspora peněz\",1,0)","v":0},{"$f":"IF(dotaznik_data2!$V40=\"úspora času\",1,0)","v":0},{"$f":"IF(dotaznik_data2!$V40=\"ekologický přínos\",1,0)","v":0},{"$f":"IF(dotaznik_data2!$V40=\"prestiž v dané skupině lidí\",1,0)","v":0},{"$f":"IF(dotaznik_data2!$V40=\"sportovní vyžití\",1,0)","v":0},{"$f":"IF(dotaznik_data2!$V40=\"snadné cestování\",1,0)","v":0},{"$f":"IF(dotaznik_data2!$V40=\"dobrý pocit\",1,0)","v":1}]
[null,null,null,null,null,null,null,40,{"$f":"IF(dotaznik_data2!$V41=\"úspora peněz\",1,0)","v":0},{"$f":"IF(dotaznik_data2!$V41=\"úspora času\",1,0)","v":0},{"$f":"IF(dotaznik_data2!$V41=\"ekologický přínos\",1,0)","v":0},{"$f":"IF(dotaznik_data2!$V41=\"prestiž v dané skupině lidí\",1,0)","v":0},{"$f":"IF(dotaznik_data2!$V41=\"sportovní vyžití\",1,0)","v":1},{"$f":"IF(dotaznik_data2!$V41=\"snadné cestování\",1,0)","v":0},{"$f":"IF(dotaznik_data2!$V41=\"dobrý pocit\",1,0)","v":0}]
[null,null,null,null,null,null,null,41,{"$f":"IF(dotaznik_data2!$V42=\"úspora peněz\",1,0)","v":0},{"$f":"IF(dotaznik_data2!$V42=\"úspora času\",1,0)","v":0},{"$f":"IF(dotaznik_data2!$V42=\"ekologický přínos\",1,0)","v":0},{"$f":"IF(dotaznik_data2!$V42=\"prestiž v dané skupině lidí\",1,0)","v":0},{"$f":"IF(dotaznik_data2!$V42=\"sportovní vyžití\",1,0)","v":0},{"$f":"IF(dotaznik_data2!$V42=\"snadné cestování\",1,0)","v":1},{"$f":"IF(dotaznik_data2!$V42=\"dobrý pocit\",1,0)","v":0}]
[null,null,null,null,null,null,null,42,{"$f":"IF(dotaznik_data2!$V43=\"úspora peněz\",1,0)","v":0},{"$f":"IF(dotaznik_data2!$V43=\"úspora času\",1,0)","v":0},{"$f":"IF(dotaznik_data2!$V43=\"ekologický přínos\",1,0)","v":0},{"$f":"IF(dotaznik_data2!$V43=\"prestiž v dané skupině lidí\",1,0)","v":0},{"$f":"IF(dotaznik_data2!$V43=\"sportovní vyžití\",1,0)","v":1},{"$f":"IF(dotaznik_data2!$V43=\"snadné cestování\",1,0)","v":0},{"$f":"IF(dotaznik_data2!$V43=\"dobrý pocit\",1,0)","v":0}]
[null,null,null,null,null,null,null,43,{"$f":"IF(dotaznik_data2!$V44=\"úspora peněz\",1,0)","v":0},{"$f":"IF(dotaznik_data2!$V44=\"úspora času\",1,0)","v":0},{"$f":"IF(dotaznik_data2!$V44=\"ekologický přínos\",1,0)","v":0},{"$f":"IF(dotaznik_data2!$V44=\"prestiž v dané skupině lidí\",1,0)","v":0},{"$f":"IF(dotaznik_data2!$V44=\"sportovní vyžití\",1,0)","v":0},{"$f":"IF(dotaznik_data2!$V44=\"snadné cestování\",1,0)","v":0},{"$f":"IF(dotaznik_data2!$V44=\"dobrý pocit\",1,0)","v":1}]
[null,null,null,null,null,null,null,44,{"$f":"IF(dotaznik_data2!$V45=\"úspora peněz\",1,0)","v":0},{"$f":"IF(dotaznik_data2!$V45=\"úspora času\",1,0)","v":0},{"$f":"IF(dotaznik_data2!$V45=\"ekologický přínos\",1,0)","v":0},{"$f":"IF(dotaznik_data2!$V45=\"prestiž v dané skupině lidí\",1,0)","v":0},{"$f":"IF(dotaznik_data2!$V45=\"sportovní vyžití\",1,0)","v":0},{"$f":"IF(dotaznik_data2!$V45=\"snadné cestování\",1,0)","v":1},{"$f":"IF(dotaznik_data2!$V45=\"dobrý pocit\",1,0)","v":0}]
[null,null,null,null,null,null,null,45,{"$f":"IF(dotaznik_data2!$V46=\"úspora peněz\",1,0)","v":0},{"$f":"IF(dotaznik_data2!$V46=\"úspora času\",1,0)","v":0},{"$f":"IF(dotaznik_data2!$V46=\"ekologický přínos\",1,0)","v":0},{"$f":"IF(dotaznik_data2!$V46=\"prestiž v dané skupině lidí\",1,0)","v":0},{"$f":"IF(dotaznik_data2!$V46=\"sportovní vyžití\",1,0)","v":0},{"$f":"IF(dotaznik_data2!$V46=\"snadné cestování\",1,0)","v":0},{"$f":"IF(dotaznik_data2!$V46=\"dobrý pocit\",1,0)","v":1}]
[null,null,null,null,null,null,null,46,{"$f":"IF(dotaznik_data2!$V47=\"úspora peněz\",1,0)","v":0},{"$f":"IF(dotaznik_data2!$V47=\"úspora času\",1,0)","v":0},{"$f":"IF(dotaznik_data2!$V47=\"ekologický přínos\",1,0)","v":0},{"$f":"IF(dotaznik_data2!$V47=\"prestiž v dané skupině lidí\",1,0)","v":0},{"$f":"IF(dotaznik_data2!$V47=\"sportovní vyžití\",1,0)","v":1},{"$f":"IF(dotaznik_data2!$V47=\"snadné cestování\",1,0)","v":0},{"$f":"IF(dotaznik_data2!$V47=\"dobrý pocit\",1,0)","v":0}]
[null,null,null,null,null,null,null,47,{"$f":"IF(dotaznik_data2!$V48=\"úspora peněz\",1,0)","v":0},{"$f":"IF(dotaznik_data2!$V48=\"úspora času\",1,0)","v":0},{"$f":"IF(dotaznik_data2!$V48=\"ekologický přínos\",1,0)","v":1},{"$f":"IF(dotaznik_data2!$V48=\"prestiž v dané skupině lidí\",1,0)","v":0},{"$f":"IF(dotaznik_data2!$V48=\"sportovní vyžití\",1,0)","v":0},{"$f":"IF(dotaznik_data2!$V48=\"snadné cestování\",1,0)","v":0},{"$f":"IF(dotaznik_data2!$V48=\"dobrý pocit\",1,0)","v":0}]
[null,null,null,null,null,null,null,48,{"$f":"IF(dotaznik_data2!$V49=\"úspora peněz\",1,0)","v":0},{"$f":"IF(dotaznik_data2!$V49=\"úspora času\",1,0)","v":0},{"$f":"IF(dotaznik_data2!$V49=\"ekologický přínos\",1,0)","v":0},{"$f":"IF(dotaznik_data2!$V49=\"prestiž v dané skupině lidí\",1,0)","v":0},{"$f":"IF(dotaznik_data2!$V49=\"sportovní vyžití\",1,0)","v":0},{"$f":"IF(dotaznik_data2!$V49=\"snadné cestování\",1,0)","v":0},{"$f":"IF(dotaznik_data2!$V49=\"dobrý pocit\",1,0)","v":1}]
[null,null,null,null,null,null,null,49,{"$f":"IF(dotaznik_data2!$V50=\"úspora peněz\",1,0)","v":0},{"$f":"IF(dotaznik_data2!$V50=\"úspora času\",1,0)","v":0},{"$f":"IF(dotaznik_data2!$V50=\"ekologický přínos\",1,0)","v":0},{"$f":"IF(dotaznik_data2!$V50=\"prestiž v dané skupině lidí\",1,0)","v":0},{"$f":"IF(dotaznik_data2!$V50=\"sportovní vyžití\",1,0)","v":1},{"$f":"IF(dotaznik_data2!$V50=\"snadné cestování\",1,0)","v":0},{"$f":"IF(dotaznik_data2!$V50=\"dobrý pocit\",1,0)","v":0}]
[null,null,null,null,null,null,null,50,{"$f":"IF(dotaznik_data2!$V51=\"úspora peněz\",1,0)","v":0},{"$f":"IF(dotaznik_data2!$V51=\"úspora času\",1,0)","v":0},{"$f":"IF(dotaznik_data2!$V51=\"ekologický přínos\",1,0)","v":0},{"$f":"IF(dotaznik_data2!$V51=\"prestiž v dané skupině lidí\",1,0)","v":0},{"$f":"IF(dotaznik_data2!$V51=\"sportovní vyžití\",1,0)","v":1},{"$f":"IF(dotaznik_data2!$V51=\"snadné cestování\",1,0)","v":0},{"$f":"IF(dotaznik_data2!$V51=\"dobrý pocit\",1,0)","v":0}]
[]
[22,"Pokud byste měli vyjádřit ve formě peněz, jaký užitek vám přináší jízdní kolo z hlediska materiálního (úspora peněz, času, práce), o jakou částku by se jednalo? Uveďte v Kč.",null,null,null,null,null,null,null,"rozdělení do intervalů"]
[]
[null,null,null,null,null,null,null,"odpověď",null,5000,10000,15000,20000,25000,"nad 25000"]
[null,null,null,null,null,null,"respondent číslo",1,{"$f":"dotaznik_data2!W2","v":30000},{"$f":"J1199","v":7},{"$f":"J1200","v":15},{"$f":"J1201","v":9},{"$f":"J1202","v":8},{"$f":"J1203","v":0},{"$f":"J1204","v":11}]
[null,null,null,null,null,null,null,2,{"$f":"dotaznik_data2!W3","v":10000},{"$f":"FREQUENCY(I1198:I1247,J1197:N1197)","v":7}]
[null,null,null,null,null,null,null,3,{"$f":"dotaznik_data2!W4","v":18000},15]
[null,null,null,null,null,null,null,4,{"$f":"dotaznik_data2!W5","v":15000},9]
[null,null,null,null,null,null,null,5,{"$f":"dotaznik_data2!W6","v":20000},8]
[null,null,null,null,null,null,null,6,{"$f":"dotaznik_data2!W7","v":14000},0]
[null,null,null,null,null,null,null,7,{"$f":"dotaznik_data2!W8","v":10000},11]
[null,null,null,null,null,null,null,8,{"$f":"dotaznik_data2!W9","v":15000}]
[null,null,null,null,null,null,null,9,{"$f":"dotaznik_data2!W10","v":0}]
[null,null,null,null,null,null,null,10,{"$f":"dotaznik_data2!W11","v":5000}]
[null,null,null,null,null,null,null,11,{"$f":"dotaznik_data2!W12","v":12000}]
[null,null,null,null,null,null,null,12,{"$f":"dotaznik_data2!W13","v":8000}]
[null,null,null,null,null,null,null,13,{"$f":"dotaznik_data2!W14","v":12000}]
[null,null,null,null,null,null,null,14,{"$f":"dotaznik_data2!W15","v":20000}]
[null,null,null,null,null,null,null,15,{"$f":"dotaznik_data2!W16","v":0}]
[null,null,null,null,null,null,null,16,{"$f":"dotaznik_data2!W17","v":30000}]
[null,null,null,null,null,null,null,17,{"$f":"dotaznik_data2!W18","v":10000}]
[null,null,null,null,null,null,null,18,{"$f":"dotaznik_data2!W19","v":40000}]
[null,null,null,null,null,null,null,19,{"$f":"dotaznik_data2!W20","v":10000}]
[null,null,null,null,null,null,null,20,{"$f":"dotaznik_data2!W21","v":12000}]
[null,null,null,null,null,null,null,21,{"$f":"dotaznik_data2!W22","v":15000}]
[null,null,null,null,null,null,null,22,{"$f":"dotaznik_data2!W23","v":0}]
[null,null,null,null,null,null,null,23,{"$f":"dotaznik_data2!W24","v":8000}]
[null,null,null,null,null,null,null,24,{"$f":"dotaznik_data2!W25","v":50000}]
[null,null,null,null,null,null,null,25,{"$f":"dotaznik_data2!W26","v":0}]
[null,null,null,null,null,null,null,26,{"$f":"dotaznik_data2!W27","v":10000}]
[null,null,null,null,null,null,null,27,{"$f":"dotaznik_data2!W28","v":20000}]
[null,null,null,null,null,null,null,28,{"$f":"dotaznik_data2!W29","v":30000}]
[null,null,null,null,null,null,null,29,{"$f":"dotaznik_data2!W30","v":8000}]
[null,null,null,null,null,null,null,30,{"$f":"dotaznik_data2!W31","v":10000}]
[null,null,null,null,null,null,null,31,{"$f":"dotaznik_data2!W32","v":0}]
[null,null,null,null,null,null,null,32,{"$f":"dotaznik_data2!W33","v":30000}]
[null,null,null,null,null,null,null,33,{"$f":"dotaznik_data2!W34","v":75000}]
[null,null,null,null,null,null,null,34,{"$f":"dotaznik_data2!W35","v":20000}]
[null,null,null,null,null,null,null,35,{"$f":"dotaznik_data2!W36","v":17000}]
[null,null,null,null,null,null,null,36,{"$f":"dotaznik_data2!W37","v":40000}]
[null,null,null,null,null,null,null,37,{"$f":"dotaznik_data2!W38","v":0}]
[null,null,null,null,null,null,null,38,{"$f":"dotaznik_data2!W39","v":10000}]
[null,null,null,null,null,null,null,39,{"$f":"dotaznik_data2!W40","v":9000}]
[null,null,null,null,null,null,null,40,{"$f":"dotaznik_data2!W41","v":50000}]
[null,null,null,null,null,null,null,41,{"$f":"dotaznik_data2!W42","v":10000}]
[null,null,null,null,null,null,null,42,{"$f":"dotaznik_data2!W43","v":15000}]
[null,null,null,null,null,null,null,43,{"$f":"dotaznik_data2!W44","v":30000}]
[null,null,null,null,null,null,null,44,{"$f":"dotaznik_data2!W45","v":8000}]
[null,null,null,null,null,null,null,45,{"$f":"dotaznik_data2!W46","v":10000}]
[null,null,null,null,null,null,null,46,{"$f":"dotaznik_data2!W47","v":10000}]
[null,null,null,null,null,null,null,47,{"$f":"dotaznik_data2!W48","v":20000}]
[null,null,null,null,null,null,null,48,{"$f":"dotaznik_data2!W49","v":20000}]
[null,null,null,null,null,null,null,49,{"$f":"dotaznik_data2!W50","v":15000}]
[null,null,null,null,null,null,null,50,{"$f":"dotaznik_data2!W51","v":40000}]
[null,null,null,null,null,null,null,"průměr"]
[null,null,null,null,null,null,null,"směrodatná odchylka"]
[]
[]
[null,null,null,null,null,null,null,null,null,null,null,null,null,null,null,null,"suma materiálního a psychologického užitku ",null,"normovaný celkový užitek z kola",null,null,null,null,null,null,null,null,null," normovaný celkový užitek","procenta platu k minimální mzdě"]
[23,"Otázka 23 Pokud byste měli vyjádřit ve formě peněz, jaký užitek vám přináší jízdní kolo z hlediska psychického (dobrý pocit, zdraví,sociální kontatky), o jakou částku by se jednalo? Uveďte v Kč.",null,null,null,null,null,null,null,5000,10000,15000,20000,25000,"nad 25000",null,null,0.5,1,1.5,2,2.5,"nad 2,5",null,"průměrná mzda interval","průměrná mzda střed"," normovaný celkový užitek","procenta platu k minimální mzdě","seřazeno","seřazeno"]
[null,null,null,null,null,null,"respondent číslo",1,{"$f":"dotaznik_data2!X2","v":15000},{"$f":"J1255","v":8},{"$f":"J1256","v":14},{"$f":"J1257","v":8},{"$f":"J1258","v":8},{"$f":"J1259","v":1},{"$f":"J1260","v":11},1,{"$f":"I1254+I1198","v":45000},{"$f":"R1255","v":5},{"$f":"R1256","v":0},{"$f":"R1257","v":0},{"$f":"R1258","v":0},{"$f":"R1259","v":0},{"$f":"R1260","v":45},null,"25001-30000 Kč",{"$f":"IF(Y1254=\"14600-20000 Kč\",(14600+20000)/2,IF(Y1254=\"20001-25000 Kč\",(20001+25000)/2,IF(Y1254=\"25001-30000 Kč\",(25001+30000)/2,IF(Y1254=\"30001-35000 Kč\",(30001+55000)/2,IF(Y1254=\"35001-40000 Kč\",(35001+40000)/2,IF(Y1254=\"40001-45000 Kč\",(40001+45000)/2,50000))))))","v":27500.5},{"$f":"100*Q1254/Z1254","v":163.63338848384575},{"$f":"100*Z1254/14600","v":188.35958904109589},115.60693641618496,118.49315068493151]
[null,null,null,null,null,null,null,2,{"$f":"dotaznik_data2!X3","v":10000},{"$f":"FREQUENCY(I1254:I1303,J1253:N1253)","v":8},null,null,null,null,null,2,{"$f":"I1255+I1199","v":20000},{"$f":"FREQUENCY(AA1254:AA1303,R1253:V1253)","v":5},null,null,null,null,null,null,"14600-20000 Kč",17300,{"$f":"100*Q1255/Z1255","v":115.60693641618496},{"$f":"100*Z1255/14600","v":118.49315068493151},144.50867052023122,118.49315068493151]
[null,null,null,null,null,null,null,3,{"$f":"dotaznik_data2!X4","v":15000},14,null,null,null,null,null,3,33000,0,null,null,null,null,null,null,"30001-35000 Kč",42500.5,77.646145339466599,291.09931506849313,109.82658959537572,118.49315068493151]
[null,null,null,null,null,null,null,4,{"$f":"dotaznik_data2!X5","v":15000},8,null,null,null,null,null,4,30000,0,null,null,null,null,null,null,"35001-40000 Kč",37500.5,79.998933347555365,256.85273972602738,92.48554913294798,118.49315068493151]
[null,null,null,null,null,null,null,5,{"$f":"dotaznik_data2!X6","v":10000},8,null,null,null,null,null,5,30000,0,null,null,null,null,null,null,"20001-25000 Kč",22500.5,133.33037043621252,154.11301369863014,115.60693641618496,118.49315068493151]
[null,null,null,null,null,null,null,6,{"$f":"dotaznik_data2!X7","v":18000},1,null,null,null,null,null,6,32000,0,null,null,null,null,null,null,"35001-40000 Kč",37500.5,85.33219557072573,256.85273972602738,115.60693641618496,118.49315068493151]
[null,null,null,null,null,null,null,7,{"$f":"dotaznik_data2!X8","v":9000},11,null,null,null,null,null,7,19000,45,null,null,null,null,null,null,"20001-25000 Kč",22500.5,84.442567942934602,154.11301369863014,635.83815028901734,118.49315068493151]
[null,null,null,null,null,null,null,8,{"$f":"dotaznik_data2!X9","v":10000},null,null,null,null,null,null,8,25000,null,null,null,null,null,null,null,"14600-20000 Kč",17300,144.50867052023122,118.49315068493151,289.01734104046244,118.49315068493151]
[null,null,null,null,null,null,null,9,{"$f":"dotaznik_data2!X10","v":0},null,null,null,null,null,null,9,0,null,null,null,null,null,null,null,"25001-30000 Kč",27500.5,0,188.35958904109589,196.53179190751445,118.49315068493151]
[null,null,null,null,null,null,null,10,{"$f":"dotaznik_data2!X11","v":5000},null,null,null,null,null,null,10,10000,null,null,null,null,null,null,null,"20001-25000 Kč",22500.5,44.443456812070842,154.11301369863014,173.41040462427745,118.49315068493151]
[null,null,null,null,null,null,null,11,{"$f":"dotaznik_data2!X12","v":7000},null,null,null,null,null,null,11,19000,null,null,null,null,null,null,null,"14600-20000 Kč",17300,109.82658959537572,118.49315068493151,462.42774566473986,118.49315068493151]
[null,null,null,null,null,null,null,12,{"$f":"dotaznik_data2!X13","v":8000},null,null,null,null,null,null,12,16000,null,null,null,null,null,null,null,"14600-20000 Kč",17300,92.48554913294798,118.49315068493151,133.33037043621252,154.11301369863014]
[null,null,null,null,null,null,null,13,{"$f":"dotaznik_data2!X14","v":20000},null,null,null,null,null,null,13,32000,null,null,null,null,null,null,null,"20001-25000 Kč",22500.5,142.21906179862671,154.11301369863014,84.442567942934602,154.11301369863014]
[null,null,null,null,null,null,null,14,{"$f":"dotaznik_data2!X15","v":15000},null,null,null,null,null,null,14,35000,null,null,null,null,null,null,null,"20001-25000 Kč",22500.5,155.55209884224794,154.11301369863014,44.443456812070842,154.11301369863014]
[null,null,null,null,null,null,null,15,{"$f":"dotaznik_data2!X16","v":0},null,null,null,null,null,null,15,0,null,null,null,null,null,null,null,"20001-25000 Kč",22500.5,0,154.11301369863014,142.21906179862671,154.11301369863014]
[null,null,null,null,null,null,null,16,{"$f":"dotaznik_data2!X17","v":15000},null,null,null,null,null,null,16,45000,null,null,null,null,null,null,null,"35001-40000 Kč",37500.5,119.99840002133305,256.85273972602738,155.55209884224794,154.11301369863014]
[null,null,null,null,null,null,null,17,{"$f":"dotaznik_data2!X18","v":10000},null,null,null,null,null,null,17,20000,null,null,null,null,null,null,null,"14600-20000 Kč",17300,115.60693641618496,118.49315068493151,133.33037043621252,154.11301369863014]
[null,null,null,null,null,null,null,18,{"$f":"dotaznik_data2!X19","v":20000},null,null,null,null,null,null,18,60000,null,null,null,null,null,null,null,"35001-40000 Kč",37500.5,159.99786669511073,256.85273972602738,155.55209884224794,154.11301369863014]
[null,null,null,null,null,null,null,19,{"$f":"dotaznik_data2!X20","v":20000},null,null,null,null,null,null,19,30000,null,null,null,null,null,null,null,"20001-25000 Kč",22500.5,133.33037043621252,154.11301369863014,71.109530899313356,154.11301369863014]
[null,null,null,null,null,null,null,20,{"$f":"dotaznik_data2!X21","v":8000},null,null,null,null,null,null,20,20000,null,null,null,null,null,null,null,"14600-20000 Kč",17300,115.60693641618496,118.49315068493151,177.77382724828337,154.11301369863014]
[null,null,null,null,null,null,null,21,{"$f":"dotaznik_data2!X22","v":20000},null,null,null,null,null,null,21,35000,null,null,null,null,null,null,null,"20001-25000 Kč",22500.5,155.55209884224794,154.11301369863014,222.21728406035422,154.11301369863014]
[null,null,null,null,null,null,null,22,{"$f":"dotaznik_data2!X23","v":0},null,null,null,null,null,null,22,0,null,null,null,null,null,null,null,"20001-25000 Kč",22500.5,0,154.11301369863014,266.66074087242504,154.11301369863014]
[null,null,null,null,null,null,null,23,{"$f":"dotaznik_data2!X24","v":8000},null,null,null,null,null,null,23,16000,null,null,null,null,null,null,null,"20001-25000 Kč",22500.5,71.109530899313356,154.11301369863014,75.553876580520438,154.11301369863014]
[null,null,null,null,null,null,null,24,{"$f":"dotaznik_data2!X25","v":30000},null,null,null,null,null,null,24,80000,null,null,null,null,null,null,null,"35001-40000 Kč",37500.5,213.3304889268143,256.85273972602738,511.09975333881471,154.11301369863014]
[null,null,null,null,null,null,null,25,{"$f":"dotaznik_data2!X26","v":0},null,null,null,null,null,null,25,0,null,null,null,null,null,null,null,"20001-25000 Kč",22500.5,0,154.11301369863014,88.886913624141684,154.11301369863014]
[null,null,null,null,null,null,null,26,{"$f":"dotaznik_data2!X27","v":100000},null,null,null,null,null,null,26,110000,null,null,null,null,null,null,null,"14600-20000 Kč",17300,635.83815028901734,118.49315068493151,102.21995066776294,154.11301369863014]
[null,null,null,null,null,null,null,27,{"$f":"dotaznik_data2!X28","v":25000},null,null,null,null,null,null,27,45000,null,null,null,null,null,null,null,"35001-40000 Kč",37500.5,119.99840002133305,256.85273972602738,66.665185218106259,154.11301369863014]
[null,null,null,null,null,null,null,28,{"$f":"dotaznik_data2!X29","v":20000},null,null,null,null,null,null,28,50000,null,null,null,null,null,null,null,"14600-20000 Kč",17300,289.01734104046244,118.49315068493151,66.665185218106259,154.11301369863014]
[null,null,null,null,null,null,null,29,{"$f":"dotaznik_data2!X30","v":15000},null,null,null,null,null,null,29,23000,null,null,null,null,null,null,null,"35001-40000 Kč",37500.5,61.332515566459115,256.85273972602738,142.21906179862671,154.11301369863014]
[null,null,null,null,null,null,null,30,{"$f":"dotaznik_data2!X31","v":30000},null,null,null,null,null,null,30,40000,null,null,null,null,null,null,null,"20001-25000 Kč",22500.5,177.77382724828337,154.11301369863014,199.99555565431879,154.11301369863014]
[null,null,null,null,null,null,null,31,{"$f":"dotaznik_data2!X32","v":0},null,null,null,null,null,null,31,0,null,null,null,null,null,null,null,"20001-25000 Kč",22500.5,0,154.11301369863014,163.63338848384575,188.35958904109589]
[null,null,null,null,null,null,null,32,{"$f":"dotaznik_data2!X33","v":20000},null,null,null,null,null,null,32,50000,null,null,null,null,null,null,null,"20001-25000 Kč",22500.5,222.21728406035422,154.11301369863014,79.998933347555365,256.85273972602738]
[null,null,null,null,null,null,null,33,{"$f":"dotaznik_data2!X34","v":75000},null,null,null,null,null,null,33,150000,null,null,null,null,null,null,null,"35001-40000 Kč",{"$f":"IF(Y1286=\"14600-20000 Kč\",(14600+20000)/2,IF(Y1286=\"20001-25000 Kč\",(20001+25000)/2,IF(Y1286=\"25001-30000 Kč\",(25001+30000)/2,IF(Y1286=\"30001-35000 Kč\",(30001+55000)/2,IF(Y1286=\"35001-40000 Kč\",(35001+40000)/2,IF(Y1286=\"40001-45000 Kč\",(40001+45000)/2,50000))))))","v":37500.5},399.99466673777681,256.85273972602738,85.33219557072573,256.85273972602738]
[null,null,null,null,null,null,null,34,{"$f":"dotaznik_data2!X35","v":40000},null,null,null,null,null,null,34,60000,null,null,null,null,null,null,null,"20001-25000 Kč",22500.5,266.66074087242504,154.11301369863014,119.99840002133305,256.85273972602738]
[null,null,null,null,null,null,null,35,{"$f":"dotaznik_data2!X36","v":17000},null,null,null,null,null,null,35,34000,null,null,null,null,null,null,null,"14600-20000 Kč",17300,196.53179190751445,118.49315068493151,159.99786669511073,256.85273972602738]
[null,null,null,null,null,null,null,36,{"$f":"dotaznik_data2!X37","v":60000},null,null,null,null,null,null,36,100000,null,null,null,null,null,null,null,"35001-40000 Kč",37500.5,266.66311115851789,256.85273972602738,213.3304889268143,256.85273972602738]
[null,null,null,null,null,null,null,37,{"$f":"dotaznik_data2!X38","v":50000},null,null,null,null,null,null,37,50000,null,null,null,null,null,null,null,"35001-40000 Kč",37500.5,133.33155557925895,256.85273972602738,119.99840002133305,256.85273972602738]
[null,null,null,null,null,null,null,38,{"$f":"dotaznik_data2!X39","v":10000},null,null,null,null,null,null,38,20000,null,null,null,null,null,null,null,"35001-40000 Kč",37500.5,53.332622231703574,256.85273972602738,61.332515566459115,256.85273972602738]
[null,null,null,null,null,null,null,39,{"$f":"dotaznik_data2!X40","v":8000},null,null,null,null,null,null,39,17000,null,null,null,null,null,null,null,"20001-25000 Kč",22500.5,75.553876580520438,154.11301369863014,399.99466673777681,256.85273972602738]
[null,null,null,null,null,null,null,40,{"$f":"dotaznik_data2!X41","v":65000},null,null,null,null,null,null,40,115000,null,null,null,null,null,null,null,"20001-25000 Kč",22500.5,511.09975333881471,154.11301369863014,266.66311115851789,256.85273972602738]
[null,null,null,null,null,null,null,41,{"$f":"dotaznik_data2!X42","v":10000},null,null,null,null,null,null,41,20000,null,null,null,null,null,null,null,"20001-25000 Kč",22500.5,88.886913624141684,154.11301369863014,133.33155557925895,256.85273972602738]
[null,null,null,null,null,null,null,42,{"$f":"dotaznik_data2!X43","v":10000},null,null,null,null,null,null,42,25000,null,null,null,null,null,null,null,"35001-40000 Kč",37500.5,66.665777789629473,256.85273972602738,53.332622231703574,256.85273972602738]
[null,null,null,null,null,null,null,43,{"$f":"dotaznik_data2!X44","v":30000},null,null,null,null,null,null,43,60000,null,null,null,null,null,null,null,"35001-40000 Kč",37500.5,159.99786669511073,256.85273972602738,66.665777789629473,256.85273972602738]
[null,null,null,null,null,null,null,44,{"$f":"dotaznik_data2!X45","v":15000},null,null,null,null,null,null,44,23000,null,null,null,null,null,null,null,"20001-25000 Kč",22500.5,102.21995066776294,154.11301369863014,159.99786669511073,256.85273972602738]
[null,null,null,null,null,null,null,45,{"$f":"dotaznik_data2!X46","v":5000},null,null,null,null,null,null,45,15000,null,null,null,null,null,null,null,"20001-25000 Kč",22500.5,66.665185218106259,154.11301369863014,77.646145339466599,291.09931506849313]
[null,null,null,null,null,null,null,46,{"$f":"dotaznik_data2!X47","v":5000},null,null,null,null,null,null,46,15000,null,null,null,null,null,null,null,"20001-25000 Kč",22500.5,66.665185218106259,154.11301369863014]
[null,null,null,null,null,null,null,47,{"$f":"dotaznik_data2!X48","v":10000},null,null,null,null,null,null,47,30000,null,null,null,null,null,null,null,"14600-20000 Kč",17300,173.41040462427745,118.49315068493151]
[null,null,null,null,null,null,null,48,{"$f":"dotaznik_data2!X49","v":12000},null,null,null,null,null,null,48,32000,null,null,null,null,null,null,null,"20001-25000 Kč",22500.5,142.21906179862671,154.11301369863014]
[null,null,null,null,null,null,null,49,{"$f":"dotaznik_data2!X50","v":30000},null,null,null,null,null,null,49,45000,null,null,null,null,null,null,null,"20001-25000 Kč",22500.5,199.99555565431879,154.11301369863014]
[null,null,null,null,null,null,null,50,{"$f":"dotaznik_data2!X51","v":40000},null,null,null,null,null,null,50,80000,null,null,null,null,null,null,null,"14600-20000 Kč",17300,462.42774566473986,118.49315068493151]
[]
[]
[]
[]
[]
[24,"Otázka 24 Pokud byste měli vyjádřit ve formě peněz, jaký užitek vám přineslo druhé jízdní kolo z hlediska materiálního i psychického, o jakou částku by se jednalo? Uveďte v Kč"]
[]
[]
[]
[null,null,null,null,null,null,null,null,null,5000,10000,15000,20000,25000,"nad 25000"]
[null,null,null,null,null,null,"respondent číslo",1,{"$f":"dotaznik_data2!Y2","v":10000},{"$f":"J1315","v":11},{"$f":"J1316","v":22},{"$f":"J1317","v":4},{"$f":"J1318","v":6},{"$f":"J1319","v":2},{"$f":"J1320","v":5}]
[null,null,null,null,null,null,null,2,{"$f":"dotaznik_data2!Y3","v":8000},{"$f":"FREQUENCY(I1314:I1363,J1313:N1313)","v":11}]
[null,null,null,null,null,null,null,3,{"$f":"dotaznik_data2!Y4","v":9000},22]
[null,null,null,null,null,null,null,4,{"$f":"dotaznik_data2!Y5","v":7000},4]
[null,null,null,null,null,null,null,5,{"$f":"dotaznik_data2!Y6","v":8000},6]
[null,null,null,null,null,null,null,6,{"$f":"dotaznik_data2!Y7","v":20000},2]
[null,null,null,null,null,null,null,7,{"$f":"dotaznik_data2!Y8","v":8000},5]
[null,null,null,null,null,null,null,8,{"$f":"dotaznik_data2!Y9","v":9000}]
[null,null,null,null,null,null,null,9,{"$f":"dotaznik_data2!Y10","v":0}]
[null,null,null,null,null,null,null,10,{"$f":"dotaznik_data2!Y11","v":4000}]
[null,null,null,null,null,null,null,11,{"$f":"dotaznik_data2!Y12","v":6000}]
[null,null,null,null,null,null,null,12,{"$f":"dotaznik_data2!Y13","v":5000}]
[null,null,null,null,null,null,null,13,{"$f":"dotaznik_data2!Y14","v":10000}]
[null,null,null,null,null,null,null,14,{"$f":"dotaznik_data2!Y15","v":9000}]
[null,null,null,null,null,null,null,15,{"$f":"dotaznik_data2!Y16","v":0}]
[null,null,null,null,null,null,null,16,{"$f":"dotaznik_data2!Y17","v":10000}]
[null,null,null,null,null,null,null,17,{"$f":"dotaznik_data2!Y18","v":10000}]
[null,null,null,null,null,null,null,18,{"$f":"dotaznik_data2!Y19","v":30000}]
[null,null,null,null,null,null,null,19,{"$f":"dotaznik_data2!Y20","v":15000}]
[null,null,null,null,null,null,null,20,{"$f":"dotaznik_data2!Y21","v":10000}]
[null,null,null,null,null,null,null,21,{"$f":"dotaznik_data2!Y22","v":13000}]
[null,null,null,null,null,null,null,22,{"$f":"dotaznik_data2!Y23","v":0}]
[null,null,null,null,null,null,null,23,{"$f":"dotaznik_data2!Y24","v":5000}]
[null,null,null,null,null,null,null,24,{"$f":"dotaznik_data2!Y25","v":40000}]
[null,null,null,null,null,null,null,25,{"$f":"dotaznik_data2!Y26","v":0}]
[null,null,null,null,null,null,null,26,{"$f":"dotaznik_data2!Y27","v":0}]
[null,null,null,null,null,null,null,27,{"$f":"dotaznik_data2!Y28","v":10000}]
[null,null,null,null,null,null,null,28,{"$f":"dotaznik_data2!Y29","v":20000}]
[null,null,null,null,null,null,null,29,{"$f":"dotaznik_data2!Y30","v":8000}]
[null,null,null,null,null,null,null,30,{"$f":"dotaznik_data2!Y31","v":20000}]
[null,null,null,null,null,null,null,31,{"$f":"dotaznik_data2!Y32","v":0}]
[null,null,null,null,null,null,null,32,{"$f":"dotaznik_data2!Y33","v":18000}]
[null,null,null,null,null,null,null,33,{"$f":"dotaznik_data2!Y34","v":60000}]
[null,null,null,null,null,null,null,34,{"$f":"dotaznik_data2!Y35","v":25000}]
[null,null,null,null,null,null,null,35,{"$f":"dotaznik_data2!Y36","v":15000}]
[null,null,null,null,null,null,null,36,{"$f":"dotaznik_data2!Y37","v":20000}]
[null,null,null,null,null,null,null,37,{"$f":"dotaznik_data2!Y38","v":0}]
[null,null,null,null,null,null,null,38,{"$f":"dotaznik_data2!Y39","v":8000}]
[null,null,null,null,null,null,null,39,{"$f":"dotaznik_data2!Y40","v":7000}]
[null,null,null,null,null,null,null,40,{"$f":"dotaznik_data2!Y41","v":45000}]
[null,null,null,null,null,null,null,41,{"$f":"dotaznik_data2!Y42","v":8000}]
[null,null,null,null,null,null,null,42,{"$f":"dotaznik_data2!Y43","v":12000}]
[null,null,null,null,null,null,null,43,{"$f":"dotaznik_data2!Y44","v":25000}]
[null,null,null,null,null,null,null,44,{"$f":"dotaznik_data2!Y45","v":10000}]
[null,null,null,null,null,null,null,45,{"$f":"dotaznik_data2!Y46","v":8000}]
[null,null,null,null,null,null,null,46,{"$f":"dotaznik_data2!Y47","v":5000}]
[null,null,null,null,null,null,null,47,{"$f":"dotaznik_data2!Y48","v":8000}]
[null,null,null,null,null,null,null,48,{"$f":"dotaznik_data2!Y49","v":10000}]
[null,null,null,null,null,null,null,49,{"$f":"dotaznik_data2!Y50","v":20000}]
[null,null,null,null,null,null,null,50,{"$f":"dotaznik_data2!Y51","v":35000}]
[]
[]
[]
[]
[]
[]
[]
[null,"Otázka 25 Pokud byste měli vyjádřit ve formě peněz, jaký užitek vám přineslo třetí jízdní kolo z hlediska materiálního i psychického, o jakou částku by se jednalo? Uveďte v Kč"]
[25]
[]
[]
[]
[null,null,null,null,null,null,null,null,null,5000,10000,15000,20000,25000,"nad 25000"]
[null,null,null,null,null,null,"respondent číslo",1,{"$f":"dotaznik_data2!Z2","v":7000},{"$f":"J1378","v":29},{"$f":"J1379","v":16},{"$f":"J1380","v":0},{"$f":"J1381","v":3},{"$f":"J1382","v":1},{"$f":"J1383","v":1}]
[null,null,null,null,null,null,null,2,{"$f":"dotaznik_data2!Z3","v":7000},{"$f":"FREQUENCY(I1377:I1426,J1376:N1376)","v":29}]
[null,null,null,null,null,null,null,3,{"$f":"dotaznik_data2!Z4","v":3000},16]
[null,null,null,null,null,null,null,4,{"$f":"dotaznik_data2!Z5","v":3000},0]
[null,null,null,null,null,null,null,5,{"$f":"dotaznik_data2!Z6","v":4000},3]
[null,null,null,null,null,null,null,6,{"$f":"dotaznik_data2!Z7","v":10000},1]
[null,null,null,null,null,null,null,7,{"$f":"dotaznik_data2!Z8","v":7000},1]
[null,null,null,null,null,null,null,8,{"$f":"dotaznik_data2!Z9","v":5000}]
[null,null,null,null,null,null,null,9,{"$f":"dotaznik_data2!Z10","v":0}]
[null,null,null,null,null,null,null,10,{"$f":"dotaznik_data2!Z11","v":3000}]
[null,null,null,null,null,null,null,11,{"$f":"dotaznik_data2!Z12","v":4000}]
[null,null,null,null,null,null,null,12,{"$f":"dotaznik_data2!Z13","v":3000}]
[null,null,null,null,null,null,null,13,{"$f":"dotaznik_data2!Z14","v":4000}]
[null,null,null,null,null,null,null,14,{"$f":"dotaznik_data2!Z15","v":7000}]
[null,null,null,null,null,null,null,15,{"$f":"dotaznik_data2!Z16","v":0}]
[null,null,null,null,null,null,null,16,{"$f":"dotaznik_data2!Z17","v":5000}]
[null,null,null,null,null,null,null,17,{"$f":"dotaznik_data2!Z18","v":5000}]
[null,null,null,null,null,null,null,18,{"$f":"dotaznik_data2!Z19","v":10000}]
[null,null,null,null,null,null,null,19,{"$f":"dotaznik_data2!Z20","v":5000}]
[null,null,null,null,null,null,null,20,{"$f":"dotaznik_data2!Z21","v":7000}]
[null,null,null,null,null,null,null,21,{"$f":"dotaznik_data2!Z22","v":6000}]
[null,null,null,null,null,null,null,22,{"$f":"dotaznik_data2!Z23","v":0}]
[null,null,null,null,null,null,null,23,{"$f":"dotaznik_data2!Z24","v":3000}]
[null,null,null,null,null,null,null,24,{"$f":"dotaznik_data2!Z25","v":20000}]
[null,null,null,null,null,null,null,25,{"$f":"dotaznik_data2!Z26","v":0}]
[null,null,null,null,null,null,null,26,{"$f":"dotaznik_data2!Z27","v":0}]
[null,null,null,null,null,null,null,27,{"$f":"dotaznik_data2!Z28","v":5000}]
[null,null,null,null,null,null,null,28,{"$f":"dotaznik_data2!Z29","v":10000}]
[null,null,null,null,null,null,null,29,{"$f":"dotaznik_data2!Z30","v":4000}]
[null,null,null,null,null,null,null,30,{"$f":"dotaznik_data2!Z31","v":10000}]
[null,null,null,null,null,null,null,31,{"$f":"dotaznik_data2!Z32","v":0}]
[null,null,null,null,null,null,null,32,{"$f":"dotaznik_data2!Z33","v":8000}]
[null,null,null,null,null,null,null,33,{"$f":"dotaznik_data2!Z34","v":40000}]
[null,null,null,null,null,null,null,34,{"$f":"dotaznik_data2!Z35","v":20000}]
[null,null,null,null,null,null,null,35,{"$f":"dotaznik_data2!Z36","v":5000}]
[null,null,null,null,null,null,null,36,{"$f":"dotaznik_data2!Z37","v":0}]
[null,null,null,null,null,null,null,37,{"$f":"dotaznik_data2!Z38","v":0}]
[null,null,null,null,null,null,null,38,{"$f":"dotaznik_data2!Z39","v":6000}]
[null,null,null,null,null,null,null,39,{"$f":"dotaznik_data2!Z40","v":4000}]
[null,null,null,null,null,null,null,40,{"$f":"dotaznik_data2!Z41","v":25000}]
[null,null,null,null,null,null,null,41,{"$f":"dotaznik_data2!Z42","v":2000}]
[null,null,null,null,null,null,null,42,{"$f":"dotaznik_data2!Z43","v":7000}]
[null,null,null,null,null,null,null,43,{"$f":"dotaznik_data2!Z44","v":10000}]
[null,null,null,null,null,null,null,44,{"$f":"dotaznik_data2!Z45","v":7000}]
[null,null,null,null,null,null,null,45,{"$f":"dotaznik_data2!Z46","v":4000}]
[null,null,null,null,null,null,null,46,{"$f":"dotaznik_data2!Z47","v":1000}]
[null,null,null,null,null,null,null,47,{"$f":"dotaznik_data2!Z48","v":1000}]
[null,null,null,null,null,null,null,48,{"$f":"dotaznik_data2!Z49","v":7000}]
[null,null,null,null,null,null,null,49,{"$f":"dotaznik_data2!Z50","v":5000}]
[null,null,null,null,null,null,null,50,{"$f":"dotaznik_data2!Z51","v":20000}]
[]
[]
[]
[]
[]
[]
[]
[null,"Otázka 24 Pokud byste měli vyjádřit ve formě peněz, jaký užitek vám přineslo čtvrté jízdní kolo z hlediska materiálního i psychického, o jakou částku by se jednalo? Uveďte v Kč"]
[26]
[]
[]
[null,null,null,null,null,null,null,null,null,5000,10000,15000,20000,25000,"nad 25000"]
[null,null,null,null,null,null,"respondent číslo",1,{"$f":"dotaznik_data2!AA2","v":2000},{"$f":"J1440","v":45},{"$f":"J1441","v":4},{"$f":"J1442","v":1},{"$f":"J1443","v":0},{"$f":"J1444","v":0},{"$f":"J1445","v":0}]
[null,null,null,null,null,null,null,2,{"$f":"dotaznik_data2!AA3","v":5000},{"$f":"FREQUENCY(I1439:I1488,J1438:N1438)","v":45}]
[null,null,null,null,null,null,null,3,{"$f":"dotaznik_data2!AA4","v":1000},4]
[null,null,null,null,null,null,null,4,{"$f":"dotaznik_data2!AA5","v":1000},1]
[null,null,null,null,null,null,null,5,{"$f":"dotaznik_data2!AA6","v":2000},0]
[null,null,null,null,null,null,null,6,{"$f":"dotaznik_data2!AA7","v":5000},0]
[null,null,null,null,null,null,null,7,{"$f":"dotaznik_data2!AA8","v":3000},0]
[null,null,null,null,null,null,null,8,{"$f":"dotaznik_data2!AA9","v":2000}]
[null,null,null,null,null,null,null,9,{"$f":"dotaznik_data2!AA10","v":0}]
[null,null,null,null,null,null,null,10,{"$f":"dotaznik_data2!AA11","v":500}]
[null,null,null,null,null,null,null,11,{"$f":"dotaznik_data2!AA12","v":2000}]
[null,null,null,null,null,null,null,12,{"$f":"dotaznik_data2!AA13","v":1000}]
[null,null,null,null,null,null,null,13,{"$f":"dotaznik_data2!AA14","v":3000}]
[null,null,null,null,null,null,null,14,{"$f":"dotaznik_data2!AA15","v":3000}]
[null,null,null,null,null,null,null,15,{"$f":"dotaznik_data2!AA16","v":0}]
[null,null,null,null,null,null,null,16,{"$f":"dotaznik_data2!AA17","v":2000}]
[null,null,null,null,null,null,null,17,{"$f":"dotaznik_data2!AA18","v":1000}]
[null,null,null,null,null,null,null,18,{"$f":"dotaznik_data2!AA19","v":8000}]
[null,null,null,null,null,null,null,19,{"$f":"dotaznik_data2!AA20","v":2000}]
[null,null,null,null,null,null,null,20,{"$f":"dotaznik_data2!AA21","v":2000}]
[null,null,null,null,null,null,null,21,{"$f":"dotaznik_data2!AA22","v":3000}]
[null,null,null,null,null,null,null,22,{"$f":"dotaznik_data2!AA23","v":0}]
[null,null,null,null,null,null,null,23,{"$f":"dotaznik_data2!AA24","v":0}]
[null,null,null,null,null,null,null,24,{"$f":"dotaznik_data2!AA25","v":10000}]
[null,null,null,null,null,null,null,25,{"$f":"dotaznik_data2!AA26","v":0}]
[null,null,null,null,null,null,null,26,{"$f":"dotaznik_data2!AA27","v":0}]
[null,null,null,null,null,null,null,27,{"$f":"dotaznik_data2!AA28","v":500}]
[null,null,null,null,null,null,null,28,{"$f":"dotaznik_data2!AA29","v":2000}]
[null,null,null,null,null,null,null,29,{"$f":"dotaznik_data2!AA30","v":2000}]
[null,null,null,null,null,null,null,30,{"$f":"dotaznik_data2!AA31","v":5000}]
[null,null,null,null,null,null,null,31,{"$f":"dotaznik_data2!AA32","v":0}]
[null,null,null,null,null,null,null,32,{"$f":"dotaznik_data2!AA33","v":3000}]
[null,null,null,null,null,null,null,33,{"$f":"dotaznik_data2!AA34","v":15000}]
[null,null,null,null,null,null,null,34,{"$f":"dotaznik_data2!AA35","v":10000}]
[null,null,null,null,null,null,null,35,{"$f":"dotaznik_data2!AA36","v":1000}]
[null,null,null,null,null,null,null,36,{"$f":"dotaznik_data2!AA37","v":0}]
[null,null,null,null,null,null,null,37,{"$f":"dotaznik_data2!AA38","v":0}]
[null,null,null,null,null,null,null,38,{"$f":"dotaznik_data2!AA39","v":2000}]
[null,null,null,null,null,null,null,39,{"$f":"dotaznik_data2!AA40","v":500}]
[null,null,null,null,null,null,null,40,{"$f":"dotaznik_data2!AA41","v":10000}]
[null,null,null,null,null,null,null,41,{"$f":"dotaznik_data2!AA42","v":1000}]
[null,null,null,null,null,null,null,42,{"$f":"dotaznik_data2!AA43","v":2000}]
[null,null,null,null,null,null,null,43,{"$f":"dotaznik_data2!AA44","v":5000}]
[null,null,null,null,null,null,null,44,{"$f":"dotaznik_data2!AA45","v":0}]
[null,null,null,null,null,null,null,45,{"$f":"dotaznik_data2!AA46","v":100}]
[null,null,null,null,null,null,null,46,{"$f":"dotaznik_data2!AA47","v":0}]
[null,null,null,null,null,null,null,47,{"$f":"dotaznik_data2!AA48","v":500}]
[null,null,null,null,null,null,null,48,{"$f":"dotaznik_data2!AA49","v":2000}]
[null,null,null,null,null,null,null,49,{"$f":"dotaznik_data2!AA50","v":0}]
[null,null,null,null,null,null,null,50,{"$f":"dotaznik_data2!AA51","v":5000}]

{"sheet":"vyhodnoceni2","index":3,"n_rows":311,"n_cols":28,"rows_kept":311,"cut":false,"hidden":false,"merged":[[112,0,113,0],[112,1,113,5],[201,0,206,0],[201,1,206,5],[111,1,111,5],[142,1,145,5],[155,1,159,5],[160,0,166,0],[160,1,166,5],[167,0,173,0],[167,1,173,5],[174,0,179,0],[174,1,179,5],[136,1,141,5],[146,0,150,0],[146,1,150,5],[125,0,129,0],[125,1,129,5],[219,0,225,0],[219,1,225,5],[229,1,229,5],[226,0,226,6],[187,1,193,5],[194,0,200,0],[194,1,200,5],[207,1,211,5],[212,0,218,0],[212,1,218,5],[228,1,228,5],[227,1,227,5],[155,0,159,0],[142,0,145,0],[116,1,120,5],[116,0,120,0],[114,0,115,0],[114,1,115,5],[121,0,124,0],[121,1,124,5],[230,1,230,5],[231,1,231,5],[207,0,211,0],[180,0,186,0],[180,1,186,5],[187,0,193,0],[130,0,135,0],[130,1,135,5],[136,0,141,0],[151,0,154,0],[151,1,154,5]]}
[null,null,null,null,null,null,null,null,null,"nejvyšší četnost"]
["Otázka 1"]
[{"$f":"vyhodnoceni!H3","v":"četnost"},{"$f":"vyhodnoceni!I3","v":34},{"$f":"vyhodnoceni!J3","v":16},null,null,null,null,null,null,null,null,null,null,null,null,null,null,null,null,null,null,null,null,null,null,null,null,"procentuální zastoupení mužů"]
[{"$f":"vyhodnoceni!H4","v":"odpověď"},{"$f":"vyhodnoceni!I4","v":"muž"},{"$f":"vyhodnoceni!J4","v":"žena"},null,null,null,null,null,null,null,null,null,null,null,null,null,null,null,null,null,null,null,null,null,null,null,null,"průměrná cena kola"]
[null,null,null,null,null,null,null,null,null,null,null,null,null,null,null,null,null,null,null,null,null,null,null,null,null,null,null,"histogram cena kola"]
["Otázka 2",null,null,null,null,null,null,null,null,null,null,null,null,null,null,null,null,null,null,null,null,null,null,null,null,null,null,"užitek"]
[{"$f":"vyhodnoceni!H56","v":"četnost"},{"$f":"vyhodnoceni!I56","v":45},{"$f":"vyhodnoceni!J56","v":5},null,null,null,null,null,null,null,null,null,null,null,null,null,null,null,null,null,null,null,null,null,null,null,null,"mezní užitek"]
[{"$f":"vyhodnoceni!H57","v":"odpověď"},{"$f":"vyhodnoceni!I57","v":"ano"},{"$f":"vyhodnoceni!J57","v":"ne"},null,null,null,null,"A","B","C","D",null,null,null,null,null,null,null,null,null,null,null,null,null,null,null,null,"rozdělení do dvou segmentů - potvrdit, že oba mají jiné průměry"]
[null,null,null,null,null,null,null,1,2,3,4,null,null,null,null,null,null,null,null,null,null,null,null,null,null,null,null,"korelace užitku a ceny kola"]
["Otázka 3",null,null,null,null,null,null,null,null,null,null,null,null,null,null,null,null,null,null,null,null,null,null,null,null,null,null,"faktory výběru kola"]
[{"$f":"vyhodnoceni!H112","v":"četnost"},{"$f":"vyhodnoceni!I112","v":11},{"$f":"vyhodnoceni!J112","v":20},{"$f":"vyhodnoceni!K112","v":9},{"$f":"vyhodnoceni!L112","v":8},{"$f":"vyhodnoceni!M112","v":2},null,null,null,null,null,null,null,null,null,null,null,null,null,null,null,null,null,null,null,null,null,"porovnání finančního a psychologického užitku"]
[{"$f":"vyhodnoceni!H113","v":"odpověď"},{"$f":"vyhodnoceni!I113","v":"20-30 let"},{"$f":"vyhodnoceni!J113","v":"31-40 let"},{"$f":"vyhodnoceni!K113","v":"41-50 let"},{"$f":"vyhodnoceni!L113","v":"51-60 let"},{"$f":"vyhodnoceni!M113","v":"nad 61 let"},null,null,null,null,null,null,null,null,null,null,null,null,null,null,null,null,null,null,null,null,null,"drahá kola - opravují sami či servis, jak často?"]
[null,null,null,null,null,null,null,null,null,null,null,null,null,null,null,null,null,null,null,null,null,null,null,null,null,null,null,"co brání většímu rozmachu využití kol?"]
["Otázka 4",null,null,null,null,null,null,null,null,null,null,null,null,null,null,null,null,null,null,null,null,null,null,null,null,null,null,"existuje rozdíl mezi  hodnotou kola danou využiváním kola a vlastnictvím kola?"]
[{"$f":"vyhodnoceni!H168","v":"četnost"},{"$f":"vyhodnoceni!I168","v":3},{"$f":"vyhodnoceni!J168","v":0},{"$f":"vyhodnoceni!K168","v":2},{"$f":"vyhodnoceni!L168","v":0}]
[{"$f":"vyhodnoceni!H169","v":"odpověď"},{"$f":"vyhodnoceni!I169","v":"kolo není potřeba"},{"$f":"vyhodnoceni!J169","v":"finanční"},{"$f":"vyhodnoceni!K169","v":"sdílím kolo"},{"$f":"vyhodnoceni!L169","v":"jiný důvod"},null,null,null,null,null,null,null,null,null,null,null,null,null,null,null,null,null,null,null,null,null,null,"distribuce využití kola"]
[null,null,null,null,null,null,null,null,null,null,null,null,null,null,null,null,null,null,null,null,null,null,null,null,null,null,null,"změní se nějak hodnota, kterou spotřebitel zaplatí za příští kolo? "]
["Otázka 5"]
[{"$f":"vyhodnoceni!H225","v":"četnost"},{"$f":"vyhodnoceni!I225","v":12},{"$f":"vyhodnoceni!J225","v":15},{"$f":"vyhodnoceni!K225","v":9},{"$f":"vyhodnoceni!L225","v":5},{"$f":"vyhodnoceni!M225","v":4}]
[{"$f":"vyhodnoceni!H226","v":"odpověď"},{"$f":"vyhodnoceni!I226","v":"silniční"},{"$f":"vyhodnoceni!J226","v":"horské"},{"$f":"vyhodnoceni!K226","v":"trekové"},{"$f":"vyhodnoceni!L226","v":"crossové"},{"$f":"vyhodnoceni!M226","v":"BMX"}]
[]
["Otázka 6",{"$f":"B23/(SUM($B23:$G23))","v":0.30434782608695654},{"$f":"C23/(SUM($B23:$G23))","v":0.17391304347826086},0.19565217391304349,0.19565217391304349,0,0.13043478260869565]
[{"$f":"vyhodnoceni!H283","v":"četnost"},{"$f":"vyhodnoceni!I283","v":14},{"$f":"vyhodnoceni!J283","v":8},{"$f":"vyhodnoceni!K283","v":9},{"$f":"vyhodnoceni!L283","v":9},{"$f":"vyhodnoceni!M283","v":0},{"$f":"vyhodnoceni!N283","v":6}]
[{"$f":"vyhodnoceni!H284","v":"odpověď"},{"$f":"vyhodnoceni!I284","v":"cena"},{"$f":"vyhodnoceni!J284","v":"značka"},{"$f":"vyhodnoceni!K284","v":"vlastní zkušenost"},{"$f":"vyhodnoceni!L284","v":"doporučení"},{"$f":"vyhodnoceni!M284","v":"dostupnost"},{"$f":"vyhodnoceni!N284","v":"vzhled"}]
[]
["Otázka 7",{"$f":"B27/(SUM($B27:$G27))","v":0.35555555555555557},{"$f":"C27/(SUM($B27:$G27))","v":4.4444444444444446E-2},0.15555555555555556,0.15555555555555556,0,0.28888888888888886]
[{"$f":"vyhodnoceni!H340","v":"četnost"},{"$f":"vyhodnoceni!I340","v":16},{"$f":"vyhodnoceni!J340","v":2},{"$f":"vyhodnoceni!K340","v":7},{"$f":"vyhodnoceni!L340","v":7},{"$f":"vyhodnoceni!M340","v":0},{"$f":"vyhodnoceni!N340","v":13}]
[{"$f":"vyhodnoceni!H341","v":"odpověď"},{"$f":"vyhodnoceni!I341","v":"cena"},{"$f":"vyhodnoceni!J341","v":"značka"},{"$f":"vyhodnoceni!K341","v":"vlastní zkušenost"},{"$f":"vyhodnoceni!L341","v":"doporučení"},{"$f":"vyhodnoceni!M341","v":"dostupnost"},{"$f":"vyhodnoceni!N341","v":"vzhled"}]
[]
["Otázka 8",{"$f":"B31/(SUM($B31:$G31))","v":0.40909090909090912},{"$f":"C31/(SUM($B31:$G31))","v":0.18181818181818182},0.40909090909090912,0]
[{"$f":"vyhodnoceni!H395","v":"četnost"},{"$f":"vyhodnoceni!I395","v":18},{"$f":"vyhodnoceni!J395","v":8},{"$f":"vyhodnoceni!K395","v":18},{"$f":"vyhodnoceni!L395","v":0}]
[{"$f":"vyhodnoceni!H396","v":"odpověď"},{"$f":"vyhodnoceni!I396","v":"cestování rekreační"},{"$f":"vyhodnoceni!J396","v":"cestování do zaměstnání"},{"$f":"vyhodnoceni!K396","v":"sport"},{"$f":"vyhodnoceni!L396","v":"jiné"}]
[]
["Otázka 9",{"$f":"B35/(SUM($B35:$G35))","v":0.35555555555555557},{"$f":"C35/(SUM($B35:$G35))","v":0.1111111111111111},0.33333333333333331,0.2,0]
[{"$f":"vyhodnoceni!H451","v":"četnost"},{"$f":"vyhodnoceni!I451","v":16},{"$f":"vyhodnoceni!J451","v":5},{"$f":"vyhodnoceni!K451","v":15},{"$f":"vyhodnoceni!L451","v":9},{"$f":"vyhodnoceni!M451","v":0}]
[{"$f":"vyhodnoceni!H452","v":"odpověď"},{"$f":"vyhodnoceni!I452","v":"více jak 2x týdně"},{"$f":"vyhodnoceni!J452","v":"1-2x týdně"},{"$f":"vyhodnoceni!K452","v":"několikrát za měsíc"},{"$f":"vyhodnoceni!L452","v":"několikrát za rok"},{"$f":"vyhodnoceni!M452","v":"méně často"}]
[]
["Otázka 10",{"$f":"B39/(SUM($B39:$G39))","v":0.23255813953488372}]
[{"$f":"vyhodnoceni!H507","v":"četnost"},{"$f":"vyhodnoceni!I507","v":10},{"$f":"vyhodnoceni!J507","v":12},{"$f":"vyhodnoceni!K507","v":8},{"$f":"vyhodnoceni!L507","v":13}]
[{"$f":"vyhodnoceni!H508","v":"odpověď"},{"$f":"vyhodnoceni!I508","v":"cestování rekreační"},{"$f":"vyhodnoceni!J508","v":"cestování do zaměstnání"},{"$f":"vyhodnoceni!K508","v":"sport"},{"$f":"vyhodnoceni!L508","v":"jiné (napište)"}]
[]
["Otázka 11",{"$f":"B43/(SUM($B43:$G43))","v":4.4444444444444446E-2}]
[{"$f":"vyhodnoceni!H563","v":"četnost"},{"$f":"vyhodnoceni!I563","v":2},{"$f":"vyhodnoceni!J563","v":5},{"$f":"vyhodnoceni!K563","v":10},{"$f":"vyhodnoceni!L563","v":14},{"$f":"vyhodnoceni!M563","v":14}]
[{"$f":"vyhodnoceni!H564","v":"odpověď"},{"$f":"vyhodnoceni!I564","v":"více jak 2x týdně"},{"$f":"vyhodnoceni!J564","v":"1-2x týdně"},{"$f":"vyhodnoceni!K564","v":"několikrát za měsíc"},{"$f":"vyhodnoceni!L564","v":"několikrát za rok"},{"$f":"vyhodnoceni!M564","v":"méně často"}]
[]
["Otázka 12",{"$f":"B47/(SUM($B47:$G47))","v":0},{"$f":"C47/(SUM($B47:$G47))","v":0.26829268292682928},0.29268292682926828,0.14634146341463414,0.21951219512195122,7.3170731707317069E-2,9.7560975609756101E-2,null,"kumulativní"]
[{"$f":"vyhodnoceni!H621","v":"četnost"},{"$f":"vyhodnoceni!I621","v":0},{"$f":"vyhodnoceni!J621","v":11},{"$f":"vyhodnoceni!K621","v":12},{"$f":"vyhodnoceni!L621","v":6},{"$f":"vyhodnoceni!M621","v":9},{"$f":"vyhodnoceni!N621","v":3},{"$f":"vyhodnoceni!O621","v":4},null,{"$f":"C46+D46","v":0.56097560975609762}]
[{"$f":"vyhodnoceni!H622","v":"odpověď"},{"$f":"vyhodnoceni!I622","v":"méně než 5000"},{"$f":"vyhodnoceni!J622","v":"5000-10000"},{"$f":"vyhodnoceni!K622","v":"10001-15000"},{"$f":"vyhodnoceni!L622","v":"15001-25000"},{"$f":"vyhodnoceni!M622","v":"25001-35000"},{"$f":"vyhodnoceni!N622","v":"35001-45000"},{"$f":"vyhodnoceni!O622","v":"45001 a více"}]
[]
["Otázka 13",{"$f":"B51/(SUM($B51:$G51))","v":2.4390243902439025E-2}]
[{"$f":"vyhodnoceni!H679","v":"četnost"},{"$f":"vyhodnoceni!I679","v":1},{"$f":"vyhodnoceni!J679","v":8},{"$f":"vyhodnoceni!K679","v":10},{"$f":"vyhodnoceni!L679","v":10},{"$f":"vyhodnoceni!M679","v":7},{"$f":"vyhodnoceni!N679","v":5},{"$f":"vyhodnoceni!O679","v":4}]
[{"$f":"vyhodnoceni!H680","v":"odpověď"},{"$f":"vyhodnoceni!I680","v":"méně než 5000"},{"$f":"vyhodnoceni!J680","v":"5000-10000"},{"$f":"vyhodnoceni!K680","v":"10001-15000"},{"$f":"vyhodnoceni!L680","v":"15001-25000"},{"$f":"vyhodnoceni!M680","v":"25001-35000"},{"$f":"vyhodnoceni!N680","v":"35001-45000"},{"$f":"vyhodnoceni!O680","v":"45001 a více"}]
[]
["Otázka 14",{"$f":"B55/(SUM($B55:$G55))","v":2.2222222222222223E-2}]
[{"$f":"vyhodnoceni!H737","v":"četnost"},{"$f":"vyhodnoceni!I737","v":1},{"$f":"vyhodnoceni!J737","v":4},{"$f":"vyhodnoceni!K737","v":8},{"$f":"vyhodnoceni!L737","v":10},{"$f":"vyhodnoceni!M737","v":1},{"$f":"vyhodnoceni!N737","v":21}]
[{"$f":"vyhodnoceni!H738","v":"odpověď"},{"$f":"vyhodnoceni!I738","v":"nákup do 2 let"},{"$f":"vyhodnoceni!J738","v":"nákup do 4 let"},{"$f":"vyhodnoceni!K738","v":"nákup do 6 let"},{"$f":"vyhodnoceni!L738","v":"nákup do 8 let"},{"$f":"vyhodnoceni!M738","v":"nákup do 10 let"},{"$f":"vyhodnoceni!N738","v":"méně často"}]
[]
["Otázka 15",{"$f":"B59/(SUM($B59:$G59))","v":0.38709677419354838}]
[{"$f":"vyhodnoceni!H795","v":"četnost"},{"$f":"vyhodnoceni!I795","v":12},{"$f":"vyhodnoceni!J795","v":15},{"$f":"vyhodnoceni!K795","v":3},{"$f":"vyhodnoceni!L795","v":1},{"$f":"vyhodnoceni!M795","v":0},{"$f":"vyhodnoceni!N795","v":0},{"$f":"vyhodnoceni!O795","v":14}]
[{"$f":"vyhodnoceni!H796","v":"odpověď"},{"$f":"vyhodnoceni!I796","v":"několikrát do roka"},{"$f":"vyhodnoceni!J796","v":"1x z rok"},{"$f":"vyhodnoceni!K796","v":"1x za dva roky"},{"$f":"vyhodnoceni!L796","v":"1x za tři roky"},{"$f":"vyhodnoceni!M796","v":"1x za 4 roky"},{"$f":"vyhodnoceni!N796","v":"1x za 5 let"},{"$f":"vyhodnoceni!O796","v":"méně často"}]
[]
["Otázka 16",{"$f":"B63/(SUM($B63:$G63))","v":2.9411764705882353E-2}]
[{"$f":"vyhodnoceni!H854","v":"četnost"},{"$f":"vyhodnoceni!I854","v":1},{"$f":"vyhodnoceni!J854","v":11},{"$f":"vyhodnoceni!K854","v":14},{"$f":"vyhodnoceni!L854","v":4},{"$f":"vyhodnoceni!M854","v":1},{"$f":"vyhodnoceni!N854","v":3},{"$f":"vyhodnoceni!O854","v":11}]
[{"$f":"vyhodnoceni!H855","v":"odpověď"},{"$f":"vyhodnoceni!I855","v":"několikrát do roka"},{"$f":"vyhodnoceni!J855","v":"1x z rok"},{"$f":"vyhodnoceni!K855","v":"1x za dva roky"},{"$f":"vyhodnoceni!L855","v":"1x za tři roky"},{"$f":"vyhodnoceni!M855","v":"1x za 4 roky"},{"$f":"vyhodnoceni!N855","v":"1x za 5 let"},{"$f":"vyhodnoceni!O855","v":"méně často"}]
[]
["Otázka 17",{"$f":"B67/(SUM($B67:$G67))","v":0.19565217391304349}]
[{"$f":"vyhodnoceni!H912","v":"četnost"},{"$f":"vyhodnoceni!I912","v":9},{"$f":"vyhodnoceni!J912","v":15},{"$f":"vyhodnoceni!K912","v":4},{"$f":"vyhodnoceni!L912","v":6},{"$f":"vyhodnoceni!M912","v":8},{"$f":"vyhodnoceni!N912","v":4},{"$f":"vyhodnoceni!O912","v":2}]
[{"$f":"vyhodnoceni!H913","v":"odpověď"},{"$f":"vyhodnoceni!I913","v":"14600-20000 Kč"},{"$f":"vyhodnoceni!J913","v":"20001-25000 Kč"},{"$f":"vyhodnoceni!K913","v":"25001-30000 Kč"},{"$f":"vyhodnoceni!L913","v":"30001-35000 Kč"},{"$f":"vyhodnoceni!M913","v":"35001-40000 Kč"},{"$f":"vyhodnoceni!N913","v":"40001-45000 Kč"},{"$f":"vyhodnoceni!O913","v":"45001 a více"}]
[]
["Otázka 18",{"$f":"B71/(SUM($B71:$G71))","v":0.7}]
[{"$f":"vyhodnoceni!H969","v":"četnost"},{"$f":"vyhodnoceni!I969","v":35},{"$f":"vyhodnoceni!J969","v":5},{"$f":"vyhodnoceni!K969","v":2},{"$f":"vyhodnoceni!L969","v":0},{"$f":"vyhodnoceni!M969","v":8},{"$f":"vyhodnoceni!N969","v":0}]
[{"$f":"vyhodnoceni!H970","v":"odpověď"},{"$f":"vyhodnoceni!I970","v":"ne"},{"$f":"vyhodnoceni!J970","v":"ano, silniční infrastruktura"},{"$f":"vyhodnoceni!K970","v":"ano, zdravotní stav"},{"$f":"vyhodnoceni!L970","v":"ano, nemožnost parkování"},{"$f":"vyhodnoceni!M970","v":"ano, pohodlnost"},{"$f":"vyhodnoceni!N970","v":"ano, kondice"}]
[]
["Otázka 19",{"$f":"B75/(SUM($B75:$G75))","v":0.22448979591836735}]
[{"$f":"vyhodnoceni!H1025","v":"četnost"},{"$f":"vyhodnoceni!I1025","v":11},{"$f":"vyhodnoceni!J1025","v":8},{"$f":"vyhodnoceni!K1025","v":10},{"$f":"vyhodnoceni!L1025","v":17},{"$f":"vyhodnoceni!M1025","v":3}]
[{"$f":"vyhodnoceni!H1026","v":"odpověď"},{"$f":"vyhodnoceni!I1026","v":"úspora peněz"},{"$f":"vyhodnoceni!J1026","v":"úspora času"},{"$f":"vyhodnoceni!K1026","v":"ekologický přínos"},{"$f":"vyhodnoceni!L1026","v":"efektivnost (žádné zácpy)"},{"$f":"vyhodnoceni!M1026","v":"prestiž v dané skupině lidí"}]
[]
["Otázka 20",{"$f":"B79/(SUM($B79:$G79))","v":0}]
[{"$f":"vyhodnoceni!H1083","v":"četnost"},{"$f":"vyhodnoceni!I1083","v":0},{"$f":"vyhodnoceni!J1083","v":1},{"$f":"vyhodnoceni!K1083","v":0},{"$f":"vyhodnoceni!L1083","v":5},{"$f":"vyhodnoceni!M1083","v":20},{"$f":"vyhodnoceni!N1083","v":0},{"$f":"vyhodnoceni!O1083","v":20}]
[{"$f":"vyhodnoceni!H1084","v":"odpověď"},{"$f":"vyhodnoceni!I1084","v":"úspora peněz"},{"$f":"vyhodnoceni!J1084","v":"úspora času"},{"$f":"vyhodnoceni!K1084","v":"ekologický přínos"},{"$f":"vyhodnoceni!L1084","v":"prestiž v dané skupině lidí"},{"$f":"vyhodnoceni!M1084","v":"sportovní vyžití"},{"$f":"vyhodnoceni!N1084","v":"snadné cestování"},{"$f":"vyhodnoceni!O1084","v":"dobrý pocit"}]
[]
["Otázka 21",{"$f":"B83/(SUM($B83:$G83))","v":2.6315789473684209E-2}]
[{"$f":"vyhodnoceni!H1142","v":"četnost"},{"$f":"vyhodnoceni!I1142","v":1},{"$f":"vyhodnoceni!J1142","v":1},{"$f":"vyhodnoceni!K1142","v":6},{"$f":"vyhodnoceni!L1142","v":0},{"$f":"vyhodnoceni!M1142","v":13},{"$f":"vyhodnoceni!N1142","v":17},{"$f":"vyhodnoceni!O1142","v":10}]
[{"$f":"vyhodnoceni!H1143","v":"odpověď"},{"$f":"vyhodnoceni!I1143","v":"úspora peněz"},{"$f":"vyhodnoceni!J1143","v":"úspora času"},{"$f":"vyhodnoceni!K1143","v":"ekologický přínos"},{"$f":"vyhodnoceni!L1143","v":"prestiž v dané skupině lidí"},{"$f":"vyhodnoceni!M1143","v":"sportovní vyžití"},{"$f":"vyhodnoceni!N1143","v":"snadné cestování"},{"$f":"vyhodnoceni!O1143","v":"dobrý pocit"}]
[]
["Otázka 22",{"$f":"B87/(SUM($B87:$G87))","v":0.14000000000000001}]
["četnost",{"$f":"vyhodnoceni!J1198","v":7},{"$f":"vyhodnoceni!K1198","v":15},{"$f":"vyhodnoceni!L1198","v":9},{"$f":"vyhodnoceni!M1198","v":8},{"$f":"vyhodnoceni!N1198","v":0},{"$f":"vyhodnoceni!O1198","v":11}]
["odpověď",{"$f":"vyhodnoceni!J1197","v":5000},{"$f":"vyhodnoceni!K1197","v":10000},{"$f":"vyhodnoceni!L1197","v":15000},{"$f":"vyhodnoceni!M1197","v":20000},{"$f":"vyhodnoceni!N1197","v":25000},{"$f":"vyhodnoceni!O1197","v":"nad 25000"}]
[]
["mater+psych užitek normovaný",{"$f":"vyhodnoceni!R1254","v":5},{"$f":"vyhodnoceni!S1254","v":0},{"$f":"vyhodnoceni!T1254","v":0},{"$f":"vyhodnoceni!U1254","v":0},{"$f":"vyhodnoceni!V1254","v":0},{"$f":"vyhodnoceni!W1254","v":45}]
["odpověď",{"$f":"vyhodnoceni!R1253","v":0.5},{"$f":"vyhodnoceni!S1253","v":1},{"$f":"vyhodnoceni!T1253","v":1.5},{"$f":"vyhodnoceni!U1253","v":2},{"$f":"vyhodnoceni!V1253","v":2.5},{"$f":"vyhodnoceni!W1253","v":"nad 2,5"}]
[]
["mater+psych užitek obyč"]
["odpověď"]
[]
["Otázka 23",{"$f":"B97/(SUM($B97:$G97))","v":0.16}]
["četnost",{"$f":"vyhodnoceni!J1254","v":8},{"$f":"vyhodnoceni!K1254","v":14},{"$f":"vyhodnoceni!L1254","v":8},{"$f":"vyhodnoceni!M1254","v":8},{"$f":"vyhodnoceni!N1254","v":1},{"$f":"vyhodnoceni!O1254","v":11}]
["odpověď",{"$f":"vyhodnoceni!J1253","v":5000},{"$f":"vyhodnoceni!K1253","v":10000},{"$f":"vyhodnoceni!L1253","v":15000},{"$f":"vyhodnoceni!M1253","v":20000},{"$f":"vyhodnoceni!N1253","v":25000},{"$f":"vyhodnoceni!O1253","v":"nad 25000"}]
[]
["Otázka 24",{"$f":"B101/(SUM($B101:$G101))","v":0.22}]
["četnost",{"$f":"vyhodnoceni!J1314","v":11},{"$f":"vyhodnoceni!K1314","v":22},{"$f":"vyhodnoceni!L1314","v":4},{"$f":"vyhodnoceni!M1314","v":6},{"$f":"vyhodnoceni!N1314","v":2},{"$f":"vyhodnoceni!O1314","v":5}]
["odpověď",{"$f":"vyhodnoceni!J1313","v":5000},{"$f":"vyhodnoceni!K1313","v":10000},{"$f":"vyhodnoceni!L1313","v":15000},{"$f":"vyhodnoceni!M1313","v":20000},{"$f":"vyhodnoceni!N1313","v":25000},{"$f":"vyhodnoceni!O1313","v":"nad 25000"}]
[]
["Otázka 25",{"$f":"B105/(SUM($B105:$G105))","v":0.57999999999999996}]
["četnost",{"$f":"vyhodnoceni!J1377","v":29},{"$f":"vyhodnoceni!K1377","v":16},{"$f":"vyhodnoceni!L1377","v":0},{"$f":"vyhodnoceni!M1377","v":3},{"$f":"vyhodnoceni!N1377","v":1},{"$f":"vyhodnoceni!O1377","v":1}]
["odpověď",{"$f":"vyhodnoceni!J1376","v":5000},{"$f":"vyhodnoceni!K1376","v":10000},{"$f":"vyhodnoceni!L1376","v":15000},{"$f":"vyhodnoceni!M1376","v":20000},{"$f":"vyhodnoceni!N1376","v":25000},{"$f":"vyhodnoceni!O1376","v":"nad 25000"}]
[]
["Otázka 26",{"$f":"B109/(SUM($B109:$G109))","v":0.9}]
["četnost",{"$f":"vyhodnoceni!J1439","v":45},{"$f":"vyhodnoceni!K1439","v":4},{"$f":"vyhodnoceni!L1439","v":1},{"$f":"vyhodnoceni!M1439","v":0},{"$f":"vyhodnoceni!N1439","v":0},{"$f":"vyhodnoceni!O1439","v":0}]
["odpověď",{"$f":"vyhodnoceni!J1438","v":5000},{"$f":"vyhodnoceni!K1438","v":10000},{"$f":"vyhodnoceni!L1438","v":15000},{"$f":"vyhodnoceni!M1438","v":20000},{"$f":"vyhodnoceni!N1438","v":25000},{"$f":"vyhodnoceni!O1438","v":"nad 25000"}]
[]
["číslo","otázka",null,null,null,null,"odpověď","četnost"]
[1,"Jste muž či žena?",null,null,null,null,"muž",{"$f":"TRANSPOSE(B3:C3)","v":34}]
[null,null,null,null,null,null,"žena",16]
[2,"Vlastníte kolo?",null,null,null,null,"ano",{"$f":"TRANSPOSE(B7:C7)","v":45}]
[null,null,null,null,null,null,"ne",5]
[3,"Do jaké věkové kategorie patříte?",null,null,null,null,"20-30 let",{"$f":"TRANSPOSE(B11:F11)","v":11}]
[null,null,null,null,null,null,"31-40 let",20]
[null,null,null,null,null,null,"41-50 let",9]
[null,null,null,null,null,null,"51-60 let",8]
[null,null,null,null,null,null,"nad 61 let",2]
[4,"Pokud ne, z jakého důvodu jste se rozhodl/a pro nepořízení kola?",null,null,null,null,"kolo není potřeba",{"$f":"TRANSPOSE(B15:E15)","v":3}]
[null,null,null,null,null,null,"finanční",0]
[null,null,null,null,null,null,"sdílím kolo",2]
[null,null,null,null,null,null,"jiný důvod",0]
[5,"Jaký typ kola vlastníte?",null,null,null,null,"silniční",{"$f":"TRANSPOSE(B19:F19)","v":12}]
[null,null,null,null,null,null,"horské",15]
[null,null,null,null,null,null,"trekové",9]
[null,null,null,null,null,null,"crossové",5]
[null,null,null,null,null,null,"BMX",4]
[6,"Co bylo rozhodujícím faktorem při výběru kola?",null,null,null,null,"cena",{"$f":"TRANSPOSE(B23:G23)","v":14}]
[null,null,null,null,null,null,"značka",8]
[null,null,null,null,null,null,"doporučení",9]
[null,null,null,null,null,null,"vlastní zkušenost",9]
[null,null,null,null,null,null,"dostupnost",0]
[null,null,null,null,null,null,"vzhled",6]
[7,"Co bylo druhým nejdůležitějším faktorem při výběru kola?",null,null,null,null,"cena",{"$f":"TRANSPOSE(B27:G27)","v":16}]
[null,null,null,null,null,null,"značka",2]
[null,null,null,null,null,null,"doporučení",7]
[null,null,null,null,null,null,"vlastní zkušenost",7]
[null,null,null,null,null,null,"dostupnost",0]
[null,null,null,null,null,null,"vzhled",13]
[8,"K jakému účelu kolo přednostně využíváte?",null,null,null,null,"cestování rekreační",{"$f":"TRANSPOSE(B31:E31)","v":18}]
[null,null,null,null,null,null,"cestování do zaměstnání",8]
[null,null,null,null,null,null,"sport",18]
[null,null,null,null,null,null,"jiné",0]
[9,"Jak často kolo využíváte ke zmíněnému účelu ",null,null,null,null,"více jak 2x týdně",{"$f":"TRANSPOSE(B35:F35)","v":16}]
[null,null,null,null,null,null,"1-2x týdně",5]
[null,null,null,null,null,null,"několikrát za měsíc",15]
[null,null,null,null,null,null,"několikrát za rok",9]
[null,null,null,null,null,null,"méně často",0]
[10,"K jakému účelu kolo  využíváte ještě ?",null,null,null,null,"cestování rekreační",{"$f":"TRANSPOSE(B39:E39)","v":10}]
[null,null,null,null,null,null,"cestování do zaměstnání",12]
[null,null,null,null,null,null,"sport",8]
[null,null,null,null,null,null,"jiné (napište)",13]
[11,"Jak často kolo využíváte ke zmíněnému účelu ?",null,null,null,null,"více jak 2x týdně",{"$f":"TRANSPOSE(B43:F43)","v":2}]
[null,null,null,null,null,null,"1-2x týdně",5]
[null,null,null,null,null,null,"několikrát za měsíc",10]
[null,null,null,null,null,null,"několikrát za rok",14]
[null,null,null,null,null,null,"méně často",14]
[12,"Kolik jste investovali při pořízení kola?",null,null,null,null,"méně než 5000",{"$f":"TRANSPOSE(B47:H47)","v":0}]
[null,null,null,null,null,null,"5000-10000",11]
[null,null,null,null,null,null,"10001-15000",12]
[null,null,null,null,null,null,"15001-25000",6]
[null,null,null,null,null,null,"25001-35000",9]
[null,null,null,null,null,null,"35001-45000",3]
[null,null,null,null,null,null,"45001 a více",4]
[13,"Kolik byste nyní byli ochotni investovat do pořízení kola?",null,null,null,null,"méně než 5000",{"$f":"TRANSPOSE(B51:H51)","v":1}]
[null,null,null,null,null,null,"5000-10000",8]
[null,null,null,null,null,null,"10001-15000",10]
[null,null,null,null,null,null,"15001-25000",10]
[null,null,null,null,null,null,"25001-35000",7]
[null,null,null,null,null,null,"35001-45000",5]
[null,null,null,null,null,null,"45001 a více",4]
[14,"Jak často pořizujete kolo?",null,null,null,null,"nákup do 2 let",{"$f":"TRANSPOSE(B55:G55)","v":1}]
[null,null,null,null,null,null,"nákup do 4 let",4]
[null,null,null,null,null,null,"nákup do 6 let",8]
[null,null,null,null,null,null,"nákup do 8 let",10]
[null,null,null,null,null,null,"nákup do 10 let",1]
[null,null,null,null,null,null,"méně často",21]
[15,"Jak často opravujete kolo sami?",null,null,null,null,"několikrát do roka",{"$f":"TRANSPOSE(B59:H59)","v":12}]
[null,null,null,null,null,null,"1x z rok",15]
[null,null,null,null,null,null,"1x za dva roky",3]
[null,null,null,null,null,null,"1x za tři roky",1]
[null,null,null,null,null,null,"1x za 4 roky",0]
[null,null,null,null,null,null,"1x za 5 let",0]
[null,null,null,null,null,null,"méně často",14]
[16,"Jak často opravujete kolo v servisu?",null,null,null,null,"několikrát do roka",{"$f":"TRANSPOSE(B63:H63)","v":1}]
[null,null,null,null,null,null,"1x z rok",11]
[null,null,null,null,null,null,"1x za dva roky",14]
[null,null,null,null,null,null,"1x za tři roky",4]
[null,null,null,null,null,null,"1x za 4 roky",1]
[null,null,null,null,null,null,"1x za 5 let",3]
[null,null,null,null,null,null,"méně často",11]
[17,"Do jaké kategorie čistého měsíčního příjmu spadáte?",null,null,null,null,"14600-20000 Kč",{"$f":"TRANSPOSE(B67:H67)","v":9}]
[null,null,null,null,null,null,"20001-25000 Kč",15]
[null,null,null,null,null,null,"25001-30000 Kč",4]
[null,null,null,null,null,null,"30001-35000 Kč",6]
[null,null,null,null,null,null,"35001-40000 Kč",8]
[null,null,null,null,null,null,"40001-45000 Kč",4]
[null,null,null,null,null,null,"45001 a více",2]
[18,"Brání nějaké překážky většímu využívání kola?",null,null,null,null,"ne",{"$f":"TRANSPOSE(B71:G71)","v":35}]
[null,null,null,null,null,null,"ano, silniční infrastruktura",5]
[null,null,null,null,null,null,"ano, zdravotní stav",2]
[null,null,null,null,null,null,"ano, nemožnost parkování",0]
[null,null,null,null,null,null,"ano, pohodlnost",8]
[null,null,null,null,null,null,"ano, kondice",0]
[19,"Jaké benefity podle Vás přináší používání kola místo automobilu?",null,null,null,null,"úspora peněz",{"$f":"TRANSPOSE(B75:F75)","v":11}]
[null,null,null,null,null,null,"úspora času",8]
[null,null,null,null,null,null,"ekologický přínos",10]
[null,null,null,null,null,null,"efektivnost (žádné zácpy)",17]
[null,null,null,null,null,null,"prestiž v dané skupině lidí",3]
[20,"Jaký nejdůležitější užitek plyne z Vašeho vlastnictví kola?",null,null,null,null,"úspora peněz",{"$f":"TRANSPOSE(B79:H79)","v":0}]
[null,null,null,null,null,null,"úspora času",1]
[null,null,null,null,null,null,"ekologický přínos",0]
[null,null,null,null,null,null,"prestiž v dané skupině lidí",5]
[null,null,null,null,null,null,"sportovní vyžití",20]
[null,null,null,null,null,null,"snadné cestování",0]
[null,null,null,null,null,null,"dobrý pocit",20]
[21,"Jaký  nejdůležitější užitek plyne z používání Vašeho  kola?",null,null,null,null,"úspora peněz",{"$f":"TRANSPOSE(B83:H83)","v":1}]
[null,null,null,null,null,null,"úspora času",1]
[null,null,null,null,null,null,"ekologický přínos",6]
[null,null,null,null,null,null,"prestiž v dané skupině lidí",0]
[null,null,null,null,null,null,"sportovní vyžití",13]
[null,null,null,null,null,null,"snadné cestování",17]
[null,null,null,null,null,null,"dobrý pocit",10]
[null,null,null,null,null,null,null,"průměr"]
[22,"Pokud byste měli vyjádřit ve formě peněz, jaký užitek vám přináší jízdní kolo z hlediska materiálního (úspora peněz, času, práce), o jakou částku by se jednalo? Uveďte v Kč.",null,null,null,null,"Kč",{"$f":"AVERAGE(dotaznik_data2!W2:W51)","v":19355.555555555555}]
[23,"Otázka 23 Pokud byste měli vyjádřit ve formě peněz, jaký užitek vám přináší jízdní kolo z hlediska psychického (dobrý pocit, zdraví,sociální kontatky), o jakou částku by se jednalo? Uveďte v Kč.",null,null,null,null,"Kč",{"$f":"AVERAGE(dotaznik_data2!X2:X51)","v":22000}]
[24,"Otázka 24 Pokud byste měli vyjádřit ve formě peněz, jaký užitek vám přineslo druhé jízdní kolo z hlediska materiálního i psychického, o jakou částku by se jednalo? Uveďte v Kč",null,null,null,null,"Kč",{"$f":"AVERAGE(dotaznik_data2!Y2:Y51)","v":14288.888888888889}]
[25,"Otázka 25 Pokud byste měli vyjádřit ve formě peněz, jaký užitek vám přineslo třetí jízdní kolo z hlediska materiálního i psychického, o jakou částku by se jednalo? Uveďte v Kč",null,null,null,null,"Kč",{"$f":"AVERAGE(dotaznik_data2!Z2:Z51)","v":7311.1111111111113}]
[26,"Otázka 24 Pokud byste měli vyjádřit ve formě peněz, jaký užitek vám přineslo čtvrté jízdní kolo z hlediska materiálního i psychického, o jakou částku by se jednalo? Uveďte v Kč",null,null,null,null,"Kč",{"$f":"AVERAGE(dotaznik_data2!AA2:AA51)","v":2780}]
[]
[null,"respondent",{"$f":"vyhodnoceni!AA1253","v":" normovaný celkový užitek"},"celkový užitek"]
[null,1,{"$f":"vyhodnoceni!AA1254","v":163.63338848384575},{"$f":"vyhodnoceni!Q1254","v":45000}]
[null,2,{"$f":"vyhodnoceni!AA1255","v":115.60693641618496},{"$f":"vyhodnoceni!Q1255","v":20000}]
[null,3,{"$f":"vyhodnoceni!AA1256","v":77.646145339466599},{"$f":"vyhodnoceni!Q1256","v":33000}]
[null,4,{"$f":"vyhodnoceni!AA1257","v":79.998933347555365},{"$f":"vyhodnoceni!Q1257","v":30000}]
[null,5,{"$f":"vyhodnoceni!AA1258","v":133.33037043621252},{"$f":"vyhodnoceni!Q1258","v":30000}]
[null,6,{"$f":"vyhodnoceni!AA1259","v":85.33219557072573},{"$f":"vyhodnoceni!Q1259","v":32000}]
[null,7,{"$f":"vyhodnoceni!AA1260","v":84.442567942934602},{"$f":"vyhodnoceni!Q1260","v":19000}]
[null,8,{"$f":"vyhodnoceni!AA1261","v":144.50867052023122},{"$f":"vyhodnoceni!Q1261","v":25000}]
[null,9,{"$f":"vyhodnoceni!AA1262","v":0},{"$f":"vyhodnoceni!Q1262","v":0}]
[null,10,{"$f":"vyhodnoceni!AA1263","v":44.443456812070842},{"$f":"vyhodnoceni!Q1263","v":10000}]
[null,11,{"$f":"vyhodnoceni!AA1264","v":109.82658959537572},{"$f":"vyhodnoceni!Q1264","v":19000}]
[null,12,{"$f":"vyhodnoceni!AA1265","v":92.48554913294798},{"$f":"vyhodnoceni!Q1265","v":16000}]
[null,13,{"$f":"vyhodnoceni!AA1266","v":142.21906179862671},{"$f":"vyhodnoceni!Q1266","v":32000}]
[null,14,{"$f":"vyhodnoceni!AA1267","v":155.55209884224794},{"$f":"vyhodnoceni!Q1267","v":35000}]
[null,15,{"$f":"vyhodnoceni!AA1268","v":0},{"$f":"vyhodnoceni!Q1268","v":0}]
[null,16,{"$f":"vyhodnoceni!AA1269","v":119.99840002133305},{"$f":"vyhodnoceni!Q1269","v":45000}]
[null,17,{"$f":"vyhodnoceni!AA1270","v":115.60693641618496},{"$f":"vyhodnoceni!Q1270","v":20000}]
[null,18,{"$f":"vyhodnoceni!AA1271","v":159.99786669511073},{"$f":"vyhodnoceni!Q1271","v":60000}]
[null,19,{"$f":"vyhodnoceni!AA1272","v":133.33037043621252},{"$f":"vyhodnoceni!Q1272","v":30000}]
[null,20,{"$f":"vyhodnoceni!AA1273","v":115.60693641618496},{"$f":"vyhodnoceni!Q1273","v":20000}]
[null,21,{"$f":"vyhodnoceni!AA1274","v":155.55209884224794},{"$f":"vyhodnoceni!Q1274","v":35000}]
[null,22,{"$f":"vyhodnoceni!AA1275","v":0},{"$f":"vyhodnoceni!Q1275","v":0}]
[null,23,{"$f":"vyhodnoceni!AA1276","v":71.109530899313356},{"$f":"vyhodnoceni!Q1276","v":16000}]
[null,24,{"$f":"vyhodnoceni!AA1277","v":213.3304889268143},{"$f":"vyhodnoceni!Q1277","v":80000}]
[null,25,{"$f":"vyhodnoceni!AA1278","v":0},{"$f":"vyhodnoceni!Q1278","v":0}]
[null,26,{"$f":"vyhodnoceni!AA1279","v":635.83815028901734},{"$f":"vyhodnoceni!Q1279","v":110000}]
[null,27,{"$f":"vyhodnoceni!AA1280","v":119.99840002133305},{"$f":"vyhodnoceni!Q1280","v":45000}]
[null,28,{"$f":"vyhodnoceni!AA1281","v":289.01734104046244},{"$f":"vyhodnoceni!Q1281","v":50000}]
[null,29,{"$f":"vyhodnoceni!AA1282","v":61.332515566459115},{"$f":"vyhodnoceni!Q1282","v":23000}]
[null,30,{"$f":"vyhodnoceni!AA1283","v":177.77382724828337},{"$f":"vyhodnoceni!Q1283","v":40000}]
[null,31,{"$f":"vyhodnoceni!AA1284","v":0},{"$f":"vyhodnoceni!Q1284","v":0}]
[null,32,{"$f":"vyhodnoceni!AA1285","v":222.21728406035422},{"$f":"vyhodnoceni!Q1285","v":50000}]
[null,33,{"$f":"vyhodnoceni!AA1286","v":399.99466673777681},{"$f":"vyhodnoceni!Q1286","v":150000}]
[null,34,{"$f":"vyhodnoceni!AA1287","v":266.66074087242504},{"$f":"vyhodnoceni!Q1287","v":60000}]
[null,35,{"$f":"vyhodnoceni!AA1288","v":196.53179190751445},{"$f":"vyhodnoceni!Q1288","v":34000}]
[null,36,{"$f":"vyhodnoceni!AA1289","v":266.66311115851789},{"$f":"vyhodnoceni!Q1289","v":100000}]
[null,37,{"$f":"vyhodnoceni!AA1290","v":133.33155557925895},{"$f":"vyhodnoceni!Q1290","v":50000}]
[null,38,{"$f":"vyhodnoceni!AA1291","v":53.332622231703574},{"$f":"vyhodnoceni!Q1291","v":20000}]
[null,39,{"$f":"vyhodnoceni!AA1292","v":75.553876580520438},{"$f":"vyhodnoceni!Q1292","v":17000}]
[null,40,{"$f":"vyhodnoceni!AA1293","v":511.09975333881471},{"$f":"vyhodnoceni!Q1293","v":115000}]
[null,41,{"$f":"vyhodnoceni!AA1294","v":88.886913624141684},{"$f":"vyhodnoceni!Q1294","v":20000}]
[null,42,{"$f":"vyhodnoceni!AA1295","v":66.665777789629473},{"$f":"vyhodnoceni!Q1295","v":25000}]
[null,43,{"$f":"vyhodnoceni!AA1296","v":159.99786669511073},{"$f":"vyhodnoceni!Q1296","v":60000}]
[null,44,{"$f":"vyhodnoceni!AA1297","v":102.21995066776294},{"$f":"vyhodnoceni!Q1297","v":23000}]
[null,45,{"$f":"vyhodnoceni!AA1298","v":66.665185218106259},{"$f":"vyhodnoceni!Q1298","v":15000}]
[null,46,{"$f":"vyhodnoceni!AA1299","v":66.665185218106259},{"$f":"vyhodnoceni!Q1299","v":15000}]
[null,47,{"$f":"vyhodnoceni!AA1300","v":173.41040462427745},{"$f":"vyhodnoceni!Q1300","v":30000}]
[null,48,{"$f":"vyhodnoceni!AA1301","v":142.21906179862671},{"$f":"vyhodnoceni!Q1301","v":32000}]
[null,49,{"$f":"vyhodnoceni!AA1302","v":199.99555565431879},{"$f":"vyhodnoceni!Q1302","v":45000}]
[null,50,{"$f":"vyhodnoceni!AA1303","v":462.42774566473986},{"$f":"vyhodnoceni!Q1303","v":80000}]
[]
["průměr","μ",{"$f":"AVERAGE(C235:C284)","v":149.04115752958182},{"$f":"AVERAGE(D235:D284)","v":37220}]
["sm. odchylka","σ",{"$f":"STDEV(C235:C284)","v":127.61825293245579},{"$f":"STDEV(D235:D284)","v":31005.786161782838}]
["hladina významnosti","α",0.05,0.05]
["spolehlivost","c",{"$f":"1-C288/2","v":0.97499999999999998},{"$f":"1-D288/2","v":0.97499999999999998}]
["počet stupňů volnosti","n",{"$f":"COUNT(C235:C284)","v":50},{"$f":"COUNT(D235:D284)","v":50}]
["kvantil Studentova roz","t",{"$f":"_xlfn.T.INV.2T(1-C289,C290-1)","v":2.3123751638001573},{"$f":"_xlfn.T.INV.2T(1-D289,D290-1)","v":2.3123751638001573}]
["horní mez","i2",{"$f":"C286+C291*C287/SQRT(C290)","v":190.77478056645725},{"$f":"D286+D291*D287/SQRT(D290)","v":47359.488371798019}]
["dolní mez","i1",{"$f":"C286-C291*C287/SQRT(C290)","v":107.3075344927064},{"$f":"D286-D291*D287/SQRT(D290)","v":27080.511628201981}]
["variační koeficient","v",{"$f":"C287/C286","v":0.85626182088075908},{"$f":"D287/D286","v":0.83304100380931856},"liší se o",{"$f":"100*C294/D294-100","v":2.7874758823703303},"%"]
[]
[null,"rozpětí",{"$f":"(C292-C293)/2","v":41.733623036875429},{"$f":"(D292-D293)/2","v":10139.488371798019}]
[null,"intervalů"]
[]
[]
[]
["neměli kolo",{"$f":"H116","v":5}]
["celkem",50]
["pokrytí populace bicyklem",{"$f":"100*(B302-B301)/B302","v":90}]
[]
[]
[]
["Množství","Celkový užitek","Mezní užitek"]
[1,{"$f":"AVERAGE(vyhodnoceni!Q1254:Q1303)","v":37220},{"$f":"B308","v":37220}]
[2,{"$f":"AVERAGE(vyhodnoceni!I1314:I1363)+B308","v":50080},{"$f":"B308-B309","v":-12860}]
[3,{"$f":"AVERAGE(vyhodnoceni!I1377:I1426)+B309","v":56660},{"$f":"B309-B310","v":-6580}]
[4,{"$f":"AVERAGE(vyhodnoceni!I1439:I1488)+B310","v":59162},-2502]

{"sheet":"dotaznik_vzor","index":4,"n_rows":163,"n_cols":7,"rows_kept":163,"cut":false,"hidden":false,"merged":[[167,1,167,5],[168,1,168,5],[175,1,175,5],[176,1,176,5],[177,1,177,5],[178,1,178,5],[169,1,169,5],[170,1,170,5],[171,1,171,5],[172,1,172,5],[173,1,173,5],[174,1,174,5],[149,1,149,5],[125,1,125,5],[144,1,144,5],[145,1,145,5],[146,1,146,5],[147,1,147,5],[133,1,133,5],[139,1,139,5],[140,1,140,5],[118,1,118,5],[119,1,119,5],[121,1,121,5],[123,1,123,5],[110,1,110,5],[111,1,111,5],[112,1,112,5],[113,1,113,5],[114,1,114,5],[115,1,115,5],[87,1,87,5],[88,1,88,5],[94,1,94,5],[95,1,95,5],[103,1,103,5],[106,1,106,5],[104,1,104,5],[105,1,105,5],[72,1,72,5],[73,1,73,5],[76,1,76,5],[79,1,79,5],[80,1,80,5],[86,1,86,5],[60,1,60,5],[63,1,63,5],[64,1,64,5],[65,1,65,5],[66,1,66,5],[71,1,71,5],[54,1,54,5],[55,1,55,5],[56,1,56,5],[57,1,57,5],[58,1,58,5],[59,1,59,5],[1,1,1,9],[20,1,20,5],[21,1,21,5],[22,1,22,5],[23,1,23,5],[24,1,24,5],[25,1,25,5],[14,1,14,5],[15,1,15,5],[16,1,16,5],[17,1,17,5],[18,1,18,5],[19,1,19,5],[11,1,11,5],[3,1,3,5],[4,1,4,5],[5,1,5,5],[9,1,9,5],[10,1,10,5],[141,0,147,0],[119,0,123,0],[3,0,5,0],[15,0,19,0],[20,0,25,0],[26,0,31,0],[33,0,39,0],[40,0,43,0],[45,0,50,0],[51,0,56,0],[57,0,60,0],[63,0,66,0],[125,0,129,0],[133,0,138,0],[46,1,46,5],[48,1,48,5],[49,1,49,5],[50,1,50,5],[51,1,51,5],[52,1,52,5],[53,1,53,5],[41,1,41,5],[42,1,42,5],[45,1,45,5],[47,1,47,5],[156,0,161,0],[156,1,161,5],[162,0,166,0],[162,1,166,5],[6,1,6,5],[7,1,7,5],[6,0,8,0],[9,0,14,0],[141,1,143,5],[150,0,155,0],[151,1,155,5],[26,1,26,5],[29,1,29,5],[31,1,31,5],[71,0,76,0],[79,0,86,0],[87,0,94,0],[95,0,103,0],[104,0,111,0],[112,0,118,0],[33,1,33,5],[43,1,43,5],[40,1,40,5],[39,1,39,5]]}
[]
["Číslo otázky","Označenou jednu odpověď prosím zaškrtněte křížkem x do do čtverečku u dané otázky."]
[]
[1,"Jste muž či žena?",null,null,null,null,"muž"]
[null,null,null,null,null,null,"žena"]
[]
[2,"Vlastníte kolo?",null,null,null,null,"ano"]
[null,null,null,null,null,null,"ne"]
[]
[3,"Do jaké věkové kategorie patříte?",null,null,null,null,"20-30 let"]
[null,null,null,null,null,null,"31-40 let"]
[null,null,null,null,null,null,"41-50 let"]
[null,null,null,null,null,null,"51-60 let"]
[null,null,null,null,null,null,"nad 61 let"]
[]
[4,"Pokud ne, z jakého důvodu jste se rozhodl/a pro nepořízení kola?",null,null,null,null,"kolo není potřeba"]
[null,null,null,null,null,null,"finanční"]
[null,null,null,null,null,null,"sdílím kolo"]
[null,null,null,null,null,null,"jiný důvod"]
[]
[5,"Jaký typ kola vlastníte?",null,null,null,null,"silniční"]
[null,null,null,null,null,null,"horské"]
[null,null,null,null,null,null,"trekové"]
[null,null,null,null,null,null,"crossové"]
[null,null,null,null,null,null,"BMX"]
[]
[6,"Co bylo rozhodujícím faktorem při výběru kola?",null,null,null,null,"cena"]
[null,null,null,null,null,null,"značka"]
[null,null,null,null,null,null,"doporučení"]
[null,null,null,null,null,null,"vlastní zkušenost"]
[null,null,null,null,null,null,"dostupnost"]
[null,null,null,null,null,null,"vzhled"]
[]
[7,"Co bylo druhým nejdůležitějším faktorem při výběru kola?",null,null,null,null,"cena"]
[null,null,null,null,null,null,"značka"]
[null,null,null,null,null,null,"doporučení"]
[null,null,null,null,null,null,"vlastní zkušenost"]
[null,null,null,null,null,null,"dostupnost"]
[null,null,null,null,null,null,"vzhled"]
[]
[8,"K jakému účelu kolo přednostně využíváte?",null,null,null,null,"cestování rekreační"]
[null,null,null,null,null,null,"cestování do zaměstnání"]
[null,null,null,null,null,null,"sport"]
[null,null,null,null,null,null,"jiné"]
[]
[9,"Jak často kolo využíváte ke zmíněnému účelu ",null,null,null,null,"více jak 2x týdně"]
[null,null,null,null,null,null,"1-2x týdně"]
[null,null,null,null,null,null,"několikrát za měsíc"]
[null,null,null,null,null,null,"několikrát za rok"]
[null,null,null,null,null,null,"méně často"]
[]
[10,"K jakému účelu kolo  využíváte ještě ?",null,null,null,null,"cestování rekreační"]
[null,null,null,null,null,null,"cestování do zaměstnání"]
[null,null,null,null,null,null,"sport"]
[null,null,null,null,null,null,"jiné (napište)"]
[]
[]
[11,"Jak často kolo využíváte ke zmíněnému účelu ?",null,null,null,null,"více jak 2x týdně"]
[null,null,null,null,null,null,"1-2x týdně"]
[null,null,null,null,null,null,"několikrát za měsíc"]
[null,null,null,null,null,null,"několikrát za rok"]
[null,null,null,null,null,null,"méně často"]
[]
[12,"Kolik jste investovali při pořízení kola?",null,null,null,null,"méně než 5000"]
[null,null,null,null,null,null,"5000-10000"]
[null,null,null,null,null,null,"10001-15000"]
[null,null,null,null,null,null,"15001-25000"]
[null,null,null,null,null,null,"25001-35000"]
[null,null,null,null,null,null,"35001-45000"]
[null,null,null,null,null,null,"45001 a více"]
[]
[13,"Kolik byste nyní byli ochotni investovat do pořízení kola?",null,null,null,null,"méně než 5000"]
[null,null,null,null,null,null,"5000-10000"]
[null,null,null,null,null,null,"10001-15000"]
[null,null,null,null,null,null,"15001-25000"]
[null,null,null,null,null,null,"25001-35000"]
[null,null,null,null,null,null,"35001-45000"]
[null,null,null,null,null,null,"45001 a více"]
[]
[14,"Jak často pořizujete kolo?",null,null,null,null,"nákup do 2 let"]
[null,null,null,null,null,null,"nákup do 4 let"]
[null,null,null,null,null,null,"nákup do 6 let"]
[null,null,null,null,null,null,"nákup do 8 let"]
[null,null,null,null,null,null,"nákup do 10 let"]
[null,null,null,null,null,null,"méně často"]
[]
[]
[15,"Jak často opravujete kolo sami?",null,null,null,null,"několikrát do roka"]
[null,null,null,null,null,null,"1x z rok"]
[null,null,null,null,null,null,"1x za dva roky"]
[null,null,null,null,null,null,"1x za tři roky"]
[null,null,null,null,null,null,"1x za 4 roky"]
[null,null,null,null,null,null,"1x za 5 let"]
[null,null,null,null,null,null,"méně často"]
[]
[16,"Jak často opravujete kolo v servisu?",null,null,null,null,"několikrát do roka"]
[null,null,null,null,null,null,"1x z rok"]
[null,null,null,null,null,null,"1x za dva roky"]
[null,null,null,null,null,null,"1x za tři roky"]
[null,null,null,null,null,null,"1x za 4 roky"]
[null,null,null,null,null,null,"1x za 5 let"]
[null,null,null,null,null,null,"méně často"]
[]
[]
[17,"Do jaké kategorie čistého měsíčního příjmu spadáte?",null,null,null,null,"14600-20000 Kč"]
[null,null,null,null,null,null,"20001-25000 Kč"]
[null,null,null,null,null,null,"25001-30000 Kč"]
[null,null,null,null,null,null,"30001-35000 Kč"]
[null,null,null,null,null,null,"35001-40000 Kč"]
[null,null,null,null,null,null,"40001-45000 Kč"]
[null,null,null,null,null,null,"45001 a více"]
[]
[18,"Brání nějaké překážky většímu využívání kola?",null,null,null,null,"ne"]
[null,null,null,null,null,null,"ano, silniční infrastruktura"]
[null,null,null,null,null,null,"ano, zdravotní stav"]
[null,null,null,null,null,null,"ano, nemožnost parkování"]
[null,null,null,null,null,null,"ano, pohodlnost"]
[null,null,null,null,null,null,"ano, kondice"]
[]
[19,"Jaké benefity podle Vás přináší používání kola místo automobilu?",null,null,null,null,"úspora peněz"]
[null,null,null,null,null,null,"úspora času"]
[null,null,null,null,null,null,"ekologický přínos"]
[null,null,null,null,null,null,"efektivnost (žádné zácpy)"]
[null,null,null,null,null,null,"prestiž v dané skupině lidí"]
[]
[20,"Jaký nejdůležitější užitek plyne z Vašeho vlastnictví kola?",null,null,null,null,"úspora peněz"]
[null,null,null,null,null,null,"úspora času"]
[null,null,null,null,null,null,"ekologický přínos"]
[null,null,null,null,null,null,"prestiž v dané skupině lidí"]
[null,null,null,null,null,null,"sportovní vyžití"]
[null,null,null,null,null,null,"snadné cestování"]
[null,null,null,null,null,null,"dobrý pocit"]
[]
[21,"Jaký  nejdůležitější užitek plyne z používání Vašeho  kola?",null,null,null,null,"úspora peněz"]
[null,null,null,null,null,null,"úspora času"]
[null,null,null,null,null,null,"ekologický přínos"]
[null,null,null,null,null,null,"prestiž v dané skupině lidí"]
[null,null,null,null,null,null,"sportovní vyžití"]
[null,null,null,null,null,null,"snadné cestování"]
[null,null,null,null,null,null,"dobrý pocit"]
[]
[22,"Pokud byste měli vyjádřit ve formě peněz, jaký užitek vám přináší jízdní kolo z hlediska materiálního (úspora peněz, času, práce), o jakou částku by se jednalo? Uveďte v Kč."]
[]
[]
[]
[]
[]
[]
[]
[23,"Otázka 23 Pokud byste měli vyjádřit ve formě peněz, jaký užitek vám přináší jízdní kolo z hlediska psychického (dobrý pocit, zdraví,sociální kontatky), o jakou částku by se jednalo? Uveďte v Kč."]
[24]
[null,"Otázka 24 Pokud byste měli vyjádřit ve formě peněz, jaký užitek vám přineslo druhé jízdní kolo z hlediska materiálního i psychického, o jakou částku by se jednalo? Uveďte v Kč"]
[]
[]
[]
[]
[25,"Otázka 25 Pokud byste měli vyjádřit ve formě peněz, jaký užitek vám přineslo třetí jízdní kolo z hlediska materiálního i psychického, o jakou částku by se jednalo? Uveďte v Kč"]
[]
[]
[]
[]
[]
[26,"Otázka 24 Pokud byste měli vyjádřit ve formě peněz, jaký užitek vám přineslo čtvrté jízdní kolo z hlediska materiálního i psychického, o jakou částku by se jednalo? Uveďte v Kč"]

{"sheet":"testovani_hypotez","index":5,"n_rows":74,"n_cols":9,"rows_kept":74,"cut":false,"hidden":false,"merged":[[22,1,22,2],[10,0,10,4],[39,6,40,12]]}
["Dean-dixonův test odlehlosti výsledků"]
[]
[]
[]
[]
[]
[]
[]
[]
[]
["kde R je variační rozpětí souboru dat, použít funkci MAX(pole)-MIN(pole)"]
["Stanovení kritické hodnoty\nDean-Dixonova rozdělení ze\nstatistických tabulek Qk",null,"Hodnota Qn a Q1 se porovná\ns kritickou hodnotou Dean-Dixonova\nrozdělení Qk",null,"Je-li Q1 nebo Qn ≤ Qk, přijmeme nulovou hypotézu Ho,\nhodnota není odlehlá",null,"Je-li Q1 nebo Qn > Qk, zamítneme nulovou hypotézu\nHo, testovanou hodnotu považujeme za odlehlou a\nhodnotu vyloučíme ze souboru dat"]
[]
[]
[]
[]
["dvojvýběrového párového t-testu "]
[]
[]
[]
[null,null,"Otázka: mápoužívání kola vliv na hodnotu finančníc prostředků, které spotřebitel bude ochoten poskytnout v budoucnu na nákup? "]
[]
[null,"cena",null,"rozdíl",null,null,"Řešení: párový dvojvýběrový t-test (protože neznáme střední hodnotu základního souboru)"]
[null,"před","po","hodnot",null,null,"1. Formulování nulové a alternativní hypotézy"]
[1,{"$f":"vyhodnoceni!S623","v":30000.5},{"$f":"vyhodnoceni!S681","v":20000.5},{"$f":"C25-B25","v":-10000},null,null,null,"H0","střední hodnoty jsou stejné, nezměnily se"]
[2,{"$f":"vyhodnoceni!S624","v":12500.5},{"$f":"vyhodnoceni!S682","v":12500.5},{"$f":"C26-B26","v":0},null,null,null,null,"střední hodnota je výrazně jiná"]
[3,{"$f":"vyhodnoceni!S625","v":30000.5},{"$f":"vyhodnoceni!S683","v":40000.5},10000]
[4,{"$f":"vyhodnoceni!S626","v":20000.5},{"$f":"vyhodnoceni!S684","v":20000.5},0,null,null,"2. Zvolení hladiny významnosti"]
[5,{"$f":"vyhodnoceni!S627","v":20000.5},{"$f":"vyhodnoceni!S685","v":20000.5},0,null,null,0.05,"a"]
[6,{"$f":"vyhodnoceni!S628","v":12500.5},{"$f":"vyhodnoceni!S686","v":40000.5},27500]
[7,{"$f":"vyhodnoceni!S629","v":7500},{"$f":"vyhodnoceni!S687","v":12500.5},5000.5,null,null,"3. Výpočet kritéria"]
[8,{"$f":"vyhodnoceni!S630","v":12500.5},{"$f":"vyhodnoceni!S688","v":7500},-5000.5,null,null,{"$f":"AVERAGE(D25:D74)","v":4166.7023809523807},"x","průměr rozdílových hodnot"]
[9,{"$f":"vyhodnoceni!S631","v":0},"x","x",null,null,{"$f":"VAR(D25:D74)","v":221241910.63487226},"s2","rozptyl rozdílových hodnot"]
[10,{"$f":"vyhodnoceni!S632","v":7500},{"$f":"vyhodnoceni!S690","v":7500},0,null,null,{"$f":"ABS(G32)/SQRT(G33/20)","v":1.2527770200952222},"t","testovací kritérium pro párový t-test"]
[11,{"$f":"vyhodnoceni!S633","v":12500.5},{"$f":"vyhodnoceni!S691","v":30000.5},17500,null,null,{"$f":"COUNT(D25:D74)-1","v":41},"v","počet stupňů volnosti"]
[12,{"$f":"vyhodnoceni!S634","v":7500},{"$f":"vyhodnoceni!S692","v":7500},0,null,null,{"$f":"TINV(G29,G35)","v":2.0195409704413767},"t(a;v)","kritická hodnota Studentova rozdělení "]
[13,{"$f":"vyhodnoceni!S635","v":12500.5},{"$f":"vyhodnoceni!S693","v":7500},-5000.5]
[14,{"$f":"vyhodnoceni!S636","v":12500.5},{"$f":"vyhodnoceni!S694","v":30000.5},17500,null,null,"4. Závěr testování"]
[15,{"$f":"vyhodnoceni!S637","v":0},"x","x",null,null,{"$f":"IF(G34< G36,\"t < tα\",\"t > tα\")","v":"t < tα"},"t ? t(a;v)","porovnání hodnoty testovacího kritéria a kritické hodnoty"]
[16,{"$f":"vyhodnoceni!S638","v":40000.5},{"$f":"vyhodnoceni!S696","v":40000.5},0,null,null,{"$f":"IF(G39=\"t < tα\",\"statisticky nevýznamný rozdíl, nezamítáme nulovou hypotézu, (nulovou hytotézu jsme nedokázali, jen jsme ji nevyvrátili)\",\"statisticky významný rozdíl, zamítáme nulovou hypotézu, platí tedy alternativní hypotéza\")","v":"statisticky nevýznamný rozdíl, nezamítáme nulovou hypotézu, (nulovou hytotézu jsme nedokázali, jen jsme ji nevyvrátili)"}]
[17,{"$f":"vyhodnoceni!S639","v":7500},{"$f":"vyhodnoceni!S697","v":12500.5},5000.5]
[18,{"$f":"vyhodnoceni!S640","v":40000.5},{"$f":"vyhodnoceni!S698","v":12500.5},-27500]
[19,{"$f":"vyhodnoceni!S641","v":7500},{"$f":"vyhodnoceni!S699","v":12500.5},5000.5]
[20,{"$f":"vyhodnoceni!S642","v":12500.5},{"$f":"vyhodnoceni!S700","v":12500.5},0]
[21,{"$f":"vyhodnoceni!S643","v":12500.5},{"$f":"vyhodnoceni!S701","v":30000.5},17500]
[22,{"$f":"vyhodnoceni!S644","v":0},{"$f":"vyhodnoceni!S702","v":50000},50000]
[23,{"$f":"vyhodnoceni!S645","v":7500},{"$f":"vyhodnoceni!S703","v":7500},0]
[24,{"$f":"vyhodnoceni!S646","v":50000},{"$f":"vyhodnoceni!S704","v":50000},0]
[25,{"$f":"vyhodnoceni!S647","v":0},{"$f":"vyhodnoceni!S705","v":50000},50000]
[26,{"$f":"vyhodnoceni!S648","v":30000.5},{"$f":"vyhodnoceni!S706","v":30000.5},0]
[27,{"$f":"vyhodnoceni!S649","v":30000.5},{"$f":"vyhodnoceni!S707","v":20000.5},-10000]
[28,{"$f":"vyhodnoceni!S650","v":30000.5},{"$f":"vyhodnoceni!S708","v":30000.5},0]
[29,{"$f":"vyhodnoceni!S651","v":7500},"x","x"]
[30,{"$f":"vyhodnoceni!S652","v":7500},{"$f":"vyhodnoceni!S710","v":30000.5},22500.5]
[31,{"$f":"vyhodnoceni!S653","v":0},{"$f":"vyhodnoceni!S711","v":50000},"x"]
[32,{"$f":"vyhodnoceni!S654","v":30000.5},{"$f":"vyhodnoceni!S712","v":7500},-22500.5]
[33,{"$f":"vyhodnoceni!S655","v":50000},{"$f":"vyhodnoceni!S713","v":50000},0]
[34,{"$f":"vyhodnoceni!S656","v":20000.5},{"$f":"vyhodnoceni!S714","v":40000.5},20000]
[35,{"$f":"vyhodnoceni!S657","v":20000.5},"x","x"]
[36,{"$f":"vyhodnoceni!S658","v":7500},{"$f":"vyhodnoceni!S716","v":20000.5},12500.5]
[37,{"$f":"vyhodnoceni!S659","v":20000.5},{"$f":"vyhodnoceni!S717","v":20000.5},0]
[38,{"$f":"vyhodnoceni!S660","v":7500},{"$f":"vyhodnoceni!S718","v":12500.5},5000.5]
[39,{"$f":"vyhodnoceni!S661","v":12500.5},{"$f":"vyhodnoceni!S719","v":7500},-5000.5]
[40,{"$f":"vyhodnoceni!S662","v":50000},{"$f":"vyhodnoceni!S720","v":50000},0]
[41,{"$f":"vyhodnoceni!S663","v":12500.5},{"$f":"vyhodnoceni!S721","v":12500.5},0]
[42,{"$f":"vyhodnoceni!S664","v":30000.5},"x","x"]
[43,{"$f":"vyhodnoceni!S665","v":40000.5},{"$f":"vyhodnoceni!S723","v":40000.5},0]
[44,{"$f":"vyhodnoceni!S666","v":7500},{"$f":"vyhodnoceni!S724","v":12500.5},5000.5]
[45,{"$f":"vyhodnoceni!S667","v":12500.5},"x","x"]
[46,{"$f":"vyhodnoceni!S668","v":12500.5},"x","x"]
[47,{"$f":"vyhodnoceni!S669","v":30000.5},{"$f":"vyhodnoceni!S727","v":20000.5},-10000]
[48,{"$f":"vyhodnoceni!S670","v":30000.5},{"$f":"vyhodnoceni!S728","v":20000.5},-10000]
[49,{"$f":"vyhodnoceni!S671","v":20000.5},{"$f":"vyhodnoceni!S729","v":30000.5},10000]
[50,{"$f":"vyhodnoceni!S672","v":50000},{"$f":"vyhodnoceni!S730","v":50000},0]